BEGIN:VCALENDAR
VERSION:2.0
PRODID:-//MiddleTNCycling - ECPv6.15.20//NONSGML v1.0//EN
CALSCALE:GREGORIAN
METHOD:PUBLISH
X-ORIGINAL-URL:https://middletncycling.com
X-WR-CALDESC:Events for MiddleTNCycling
REFRESH-INTERVAL;VALUE=DURATION:PT1H
X-Robots-Tag:noindex
X-PUBLISHED-TTL:PT1H
BEGIN:VTIMEZONE
TZID:America/Chicago
BEGIN:DAYLIGHT
TZOFFSETFROM:-0600
TZOFFSETTO:-0500
TZNAME:CDT
DTSTART:20230312T080000
END:DAYLIGHT
BEGIN:STANDARD
TZOFFSETFROM:-0500
TZOFFSETTO:-0600
TZNAME:CST
DTSTART:20231105T070000
END:STANDARD
BEGIN:DAYLIGHT
TZOFFSETFROM:-0600
TZOFFSETTO:-0500
TZNAME:CDT
DTSTART:20240310T080000
END:DAYLIGHT
BEGIN:STANDARD
TZOFFSETFROM:-0500
TZOFFSETTO:-0600
TZNAME:CST
DTSTART:20241103T070000
END:STANDARD
BEGIN:DAYLIGHT
TZOFFSETFROM:-0600
TZOFFSETTO:-0500
TZNAME:CDT
DTSTART:20250309T080000
END:DAYLIGHT
BEGIN:STANDARD
TZOFFSETFROM:-0500
TZOFFSETTO:-0600
TZNAME:CST
DTSTART:20251102T070000
END:STANDARD
BEGIN:DAYLIGHT
TZOFFSETFROM:-0600
TZOFFSETTO:-0500
TZNAME:CDT
DTSTART:20260308T080000
END:DAYLIGHT
BEGIN:STANDARD
TZOFFSETFROM:-0500
TZOFFSETTO:-0600
TZNAME:CST
DTSTART:20261101T070000
END:STANDARD
END:VTIMEZONE
BEGIN:VEVENT
DTSTART;TZID=America/Chicago:20250607T090000
DTEND;TZID=America/Chicago:20250607T120000
DTSTAMP:20260425T074539
CREATED:20250531T200507Z
LAST-MODIFIED:20250531T200507Z
UID:41282-1749286800-1749297600@middletncycling.com
SUMMARY:SORBAs Monthly Dirt Shift
DESCRIPTION:You spoke <pun intended>\, we listened\, we created: “THE DIRT SHIFT” \nStarting this June 7th\, coinciding with National Trails Day\, we will begin a standing monthly trailwork effort that you can count on to go help out on the trails. In the past we may have only been offering workdays with just a few days notice\, and we recognize that is not enough time to plan. \nThis series will be set for EVERY FIRST SATURDAY of the Month\, so you can count on a time to go pitch in! Our hope is that by planning better\, we can improve volunteer opportunities for you! About a week in advance we will announce where we will be\, including times and any additional info! \nFollow SORBA Mid TN social media for information on specific locations and times.
URL:https://middletncycling.com/event/sorbas-monthly-dirt-shift/
CATEGORIES:Mountain Biking,Trail Maintenance,Volunteer
ATTACH;FMTTYPE=image/webp:https://middletncycling.com/wp-content/uploads/2025/05/dirtshift.webp
END:VEVENT
BEGIN:VEVENT
DTSTART;TZID=America/Chicago:20250607T090000
DTEND;TZID=America/Chicago:20250607T120000
DTSTAMP:20260425T074539
CREATED:20250531T200507Z
LAST-MODIFIED:20250531T200507Z
UID:41282-1749286800-1749297600@middletncycling.com
SUMMARY:SORBAs Monthly Dirt Shift
DESCRIPTION:You spoke <pun intended>\, we listened\, we created: “THE DIRT SHIFT” \nStarting this June 7th\, coinciding with National Trails Day\, we will begin a standing monthly trailwork effort that you can count on to go help out on the trails. In the past we may have only been offering workdays with just a few days notice\, and we recognize that is not enough time to plan. \nThis series will be set for EVERY FIRST SATURDAY of the Month\, so you can count on a time to go pitch in! Our hope is that by planning better\, we can improve volunteer opportunities for you! About a week in advance we will announce where we will be\, including times and any additional info! \nFollow SORBA Mid TN social media for information on specific locations and times.
URL:https://middletncycling.com/event/sorbas-monthly-dirt-shift/
CATEGORIES:Mountain Biking,Trail Maintenance,Volunteer
ATTACH;FMTTYPE=image/webp:https://middletncycling.com/wp-content/uploads/2025/05/dirtshift.webp
END:VEVENT
BEGIN:VEVENT
DTSTART;TZID=America/Chicago:20250607T090000
DTEND;TZID=America/Chicago:20250607T120000
DTSTAMP:20260425T074539
CREATED:20250531T200507Z
LAST-MODIFIED:20250531T200507Z
UID:41282-1749286800-1749297600@middletncycling.com
SUMMARY:SORBAs Monthly Dirt Shift
DESCRIPTION:You spoke <pun intended>\, we listened\, we created: “THE DIRT SHIFT” \nStarting this June 7th\, coinciding with National Trails Day\, we will begin a standing monthly trailwork effort that you can count on to go help out on the trails. In the past we may have only been offering workdays with just a few days notice\, and we recognize that is not enough time to plan. \nThis series will be set for EVERY FIRST SATURDAY of the Month\, so you can count on a time to go pitch in! Our hope is that by planning better\, we can improve volunteer opportunities for you! About a week in advance we will announce where we will be\, including times and any additional info! \nFollow SORBA Mid TN social media for information on specific locations and times.
URL:https://middletncycling.com/event/sorbas-monthly-dirt-shift/
CATEGORIES:Mountain Biking,Trail Maintenance,Volunteer
ATTACH;FMTTYPE=image/webp:https://middletncycling.com/wp-content/uploads/2025/05/dirtshift.webp
END:VEVENT
BEGIN:VEVENT
DTSTART;TZID=America/Chicago:20250607T090000
DTEND;TZID=America/Chicago:20250607T120000
DTSTAMP:20260425T074539
CREATED:20250531T200507Z
LAST-MODIFIED:20250531T200507Z
UID:41282-1749286800-1749297600@middletncycling.com
SUMMARY:SORBAs Monthly Dirt Shift
DESCRIPTION:You spoke <pun intended>\, we listened\, we created: “THE DIRT SHIFT” \nStarting this June 7th\, coinciding with National Trails Day\, we will begin a standing monthly trailwork effort that you can count on to go help out on the trails. In the past we may have only been offering workdays with just a few days notice\, and we recognize that is not enough time to plan. \nThis series will be set for EVERY FIRST SATURDAY of the Month\, so you can count on a time to go pitch in! Our hope is that by planning better\, we can improve volunteer opportunities for you! About a week in advance we will announce where we will be\, including times and any additional info! \nFollow SORBA Mid TN social media for information on specific locations and times.
URL:https://middletncycling.com/event/sorbas-monthly-dirt-shift/
CATEGORIES:Mountain Biking,Trail Maintenance,Volunteer
ATTACH;FMTTYPE=image/webp:https://middletncycling.com/wp-content/uploads/2025/05/dirtshift.webp
END:VEVENT
BEGIN:VEVENT
DTSTART;TZID=America/Chicago:20250607T090000
DTEND;TZID=America/Chicago:20250607T120000
DTSTAMP:20260425T074539
CREATED:20250531T200507Z
LAST-MODIFIED:20250531T200507Z
UID:41282-1749286800-1749297600@middletncycling.com
SUMMARY:SORBAs Monthly Dirt Shift
DESCRIPTION:You spoke <pun intended>\, we listened\, we created: “THE DIRT SHIFT” \nStarting this June 7th\, coinciding with National Trails Day\, we will begin a standing monthly trailwork effort that you can count on to go help out on the trails. In the past we may have only been offering workdays with just a few days notice\, and we recognize that is not enough time to plan. \nThis series will be set for EVERY FIRST SATURDAY of the Month\, so you can count on a time to go pitch in! Our hope is that by planning better\, we can improve volunteer opportunities for you! About a week in advance we will announce where we will be\, including times and any additional info! \nFollow SORBA Mid TN social media for information on specific locations and times.
URL:https://middletncycling.com/event/sorbas-monthly-dirt-shift/
CATEGORIES:Mountain Biking,Trail Maintenance,Volunteer
ATTACH;FMTTYPE=image/webp:https://middletncycling.com/wp-content/uploads/2025/05/dirtshift.webp
END:VEVENT
BEGIN:VEVENT
DTSTART;TZID=America/Chicago:20250607T090000
DTEND;TZID=America/Chicago:20250607T120000
DTSTAMP:20260425T074539
CREATED:20250531T200507Z
LAST-MODIFIED:20250531T200507Z
UID:41282-1749286800-1749297600@middletncycling.com
SUMMARY:SORBAs Monthly Dirt Shift
DESCRIPTION:You spoke <pun intended>\, we listened\, we created: “THE DIRT SHIFT” \nStarting this June 7th\, coinciding with National Trails Day\, we will begin a standing monthly trailwork effort that you can count on to go help out on the trails. In the past we may have only been offering workdays with just a few days notice\, and we recognize that is not enough time to plan. \nThis series will be set for EVERY FIRST SATURDAY of the Month\, so you can count on a time to go pitch in! Our hope is that by planning better\, we can improve volunteer opportunities for you! About a week in advance we will announce where we will be\, including times and any additional info! \nFollow SORBA Mid TN social media for information on specific locations and times.
URL:https://middletncycling.com/event/sorbas-monthly-dirt-shift/
CATEGORIES:Mountain Biking,Trail Maintenance,Volunteer
ATTACH;FMTTYPE=image/webp:https://middletncycling.com/wp-content/uploads/2025/05/dirtshift.webp
END:VEVENT
BEGIN:VEVENT
DTSTART;TZID=America/Chicago:20250426T080000
DTEND;TZID=America/Chicago:20250426T170000
DTSTAMP:20260425T074539
CREATED:20250224T182251Z
LAST-MODIFIED:20250224T182251Z
UID:36687-1745654400-1745686800@middletncycling.com
SUMMARY:Cane Ridge Trail Work
DESCRIPTION:
URL:https://middletncycling.com/event/cane-ridge-trail-work/
LOCATION:Cane Ridge MTB Trails\, 419 Battle Rd\, Antioch\, 37013\, United States
CATEGORIES:Mountain Biking,Trail Maintenance
ATTACH;FMTTYPE=image/jpeg:https://middletncycling.com/wp-content/uploads/2025/02/workday-1.jpg
END:VEVENT
BEGIN:VEVENT
DTSTART;TZID=America/Chicago:20250118T090000
DTEND;TZID=America/Chicago:20250118T140000
DTSTAMP:20260425T074539
CREATED:20250115T202417Z
LAST-MODIFIED:20250115T202417Z
UID:35421-1737190800-1737208800@middletncycling.com
SUMMARY:Percy Warner Trail Work
DESCRIPTION:Come out to Percy Warner this Saturday at 9am to help with some trail work. We will be focusing on erosion control and rock armoring eroded sections. Wear sturdy boots & gloves. Meet at the Golf Course entrance.
URL:https://middletncycling.com/event/percy-warner-trail-work/
LOCATION:Percy Warner Mountain Bike Trail\, 1221 Forrest Park Dr\, Nashville\, 37221\, United States
CATEGORIES:Mountain Biking,Trail Maintenance
ATTACH;FMTTYPE=image/png:https://middletncycling.com/wp-content/uploads/2025/01/2025_0118_pwwd1.png
END:VEVENT
BEGIN:VEVENT
DTSTART;TZID=America/Chicago:20240921T080000
DTEND;TZID=America/Chicago:20240921T120000
DTSTAMP:20260425T074539
CREATED:20240912T122713Z
LAST-MODIFIED:20240912T122713Z
UID:11439-1726905600-1726920000@middletncycling.com
SUMMARY:Jones Mill Workday - Trash Pickup
DESCRIPTION:SORBA will be combining forces with other organizations to clean up the trash that has washed up from Percy Priest Lake. \nMore info to come.
URL:https://middletncycling.com/event/jones-mill-workday-trash-pickup/
LOCATION:Jones Mill Mountain Bike Trail\, 9932 Barnett Rd\, Mount Juliet\, TN\, 37122\, United States
CATEGORIES:Mountain Biking,Trail Maintenance
ATTACH;FMTTYPE=image/jpeg:https://middletncycling.com/wp-content/uploads/2024/09/trash-pickup2.jpg
END:VEVENT
BEGIN:VEVENT
DTSTART;TZID=America/Chicago:20240914T080000
DTEND;TZID=America/Chicago:20240914T120000
DTSTAMP:20260425T074539
CREATED:20240912T123244Z
LAST-MODIFIED:20240912T123244Z
UID:11446-1726300800-1726315200@middletncycling.com
SUMMARY:Hope Park - Lawson Trails Workday
DESCRIPTION:Working with the James Lawson High School Cycling Club and Cross Country Team to restore the former Hope Park MTB Trails. \nEvent Contact > George.Stricklin@mnps.org
URL:https://middletncycling.com/event/hope-park-lawson-trails-workday/
LOCATION:James Lawson High School\, 8001 US-70S\, Nashville\, 37221\, United States
CATEGORIES:Mountain Biking,Trail Maintenance
ATTACH;FMTTYPE=image/png:https://middletncycling.com/wp-content/uploads/2024/09/lawsonhs2.png
END:VEVENT
END:VCALENDAR