BEGIN:VCALENDAR
VERSION:2.0
PRODID:-//MiddleTNCycling - ECPv6.15.20//NONSGML v1.0//EN
CALSCALE:GREGORIAN
METHOD:PUBLISH
X-ORIGINAL-URL:https://middletncycling.com
X-WR-CALDESC:Events for MiddleTNCycling
REFRESH-INTERVAL;VALUE=DURATION:PT1H
X-Robots-Tag:noindex
X-PUBLISHED-TTL:PT1H
BEGIN:VTIMEZONE
TZID:America/Chicago
BEGIN:DAYLIGHT
TZOFFSETFROM:-0600
TZOFFSETTO:-0500
TZNAME:CDT
DTSTART:20230312T080000
END:DAYLIGHT
BEGIN:STANDARD
TZOFFSETFROM:-0500
TZOFFSETTO:-0600
TZNAME:CST
DTSTART:20231105T070000
END:STANDARD
BEGIN:DAYLIGHT
TZOFFSETFROM:-0600
TZOFFSETTO:-0500
TZNAME:CDT
DTSTART:20240310T080000
END:DAYLIGHT
BEGIN:STANDARD
TZOFFSETFROM:-0500
TZOFFSETTO:-0600
TZNAME:CST
DTSTART:20241103T070000
END:STANDARD
BEGIN:DAYLIGHT
TZOFFSETFROM:-0600
TZOFFSETTO:-0500
TZNAME:CDT
DTSTART:20250309T080000
END:DAYLIGHT
BEGIN:STANDARD
TZOFFSETFROM:-0500
TZOFFSETTO:-0600
TZNAME:CST
DTSTART:20251102T070000
END:STANDARD
BEGIN:DAYLIGHT
TZOFFSETFROM:-0600
TZOFFSETTO:-0500
TZNAME:CDT
DTSTART:20260308T080000
END:DAYLIGHT
BEGIN:STANDARD
TZOFFSETFROM:-0500
TZOFFSETTO:-0600
TZNAME:CST
DTSTART:20261101T070000
END:STANDARD
END:VTIMEZONE
BEGIN:VEVENT
DTSTART;TZID=America/Chicago:20250126T100000
DTEND;TZID=America/Chicago:20250126T140000
DTSTAMP:20260425T091308
CREATED:20250109T231604Z
LAST-MODIFIED:20250109T231604Z
UID:35043-1737885600-1737900000@middletncycling.com
SUMMARY:2025 Montgomery Bell Winter MTB Time Trial Series
DESCRIPTION:Same tough course from 2024! \n$35 Online Registration through 6pm CST Saturday before each race. $40 Onsite Registration.$90 All 3 races in the series Online Pre-registration through 6pm Saturday Jan. 25th only. $100 All 3 races onsite. \nJuniors Race for $10 each race or $30 for the full series in the junior’s category!!!Pre-Registration on BikeReg.com \nAll payout\, prizes\, and awards will be given out at the April 6 the race Series Finale onsite only.Awards will be given to every racer that completes all three races!!! \nUSAC License Required or One Day licenses available for $15 Reg. includes $5.99 per rider USAC Insurance fee held under USA Cycling Permit \nFastest time of any month wins. Overall all 3 male/female also.Beginner Male/Female race anyone can sign-up for if they would rather do the short route
URL:https://middletncycling.com/event/2025-montgomery-bell-winter-mtb-time-trial-series/
LOCATION:Montgomery Bell Park\, 830 Bill Duke Road\, White Bluff\, 37187
CATEGORIES:Mountain Biking,Race,Time Trial
ATTACH;FMTTYPE=image/jpeg:https://middletncycling.com/wp-content/uploads/2024/01/WinterRaceSeries.jpg
END:VEVENT
BEGIN:VEVENT
DTSTART;TZID=America/Chicago:20250126T100000
DTEND;TZID=America/Chicago:20250126T140000
DTSTAMP:20260425T091308
CREATED:20250109T231604Z
LAST-MODIFIED:20250109T231604Z
UID:35043-1737885600-1737900000@middletncycling.com
SUMMARY:2025 Montgomery Bell Winter MTB Time Trial Series
DESCRIPTION:Same tough course from 2024! \n$35 Online Registration through 6pm CST Saturday before each race. $40 Onsite Registration.$90 All 3 races in the series Online Pre-registration through 6pm Saturday Jan. 25th only. $100 All 3 races onsite. \nJuniors Race for $10 each race or $30 for the full series in the junior’s category!!!Pre-Registration on BikeReg.com \nAll payout\, prizes\, and awards will be given out at the April 6 the race Series Finale onsite only.Awards will be given to every racer that completes all three races!!! \nUSAC License Required or One Day licenses available for $15 Reg. includes $5.99 per rider USAC Insurance fee held under USA Cycling Permit \nFastest time of any month wins. Overall all 3 male/female also.Beginner Male/Female race anyone can sign-up for if they would rather do the short route
URL:https://middletncycling.com/event/2025-montgomery-bell-winter-mtb-time-trial-series/
LOCATION:Montgomery Bell Park\, 830 Bill Duke Road\, White Bluff\, 37187
CATEGORIES:Mountain Biking,Race,Time Trial
ATTACH;FMTTYPE=image/jpeg:https://middletncycling.com/wp-content/uploads/2024/01/WinterRaceSeries.jpg
END:VEVENT
BEGIN:VEVENT
DTSTART;TZID=America/Chicago:20250126T100000
DTEND;TZID=America/Chicago:20250126T140000
DTSTAMP:20260425T091308
CREATED:20250109T231604Z
LAST-MODIFIED:20250109T231604Z
UID:35043-1737885600-1737900000@middletncycling.com
SUMMARY:2025 Montgomery Bell Winter MTB Time Trial Series
DESCRIPTION:Same tough course from 2024! \n$35 Online Registration through 6pm CST Saturday before each race. $40 Onsite Registration.$90 All 3 races in the series Online Pre-registration through 6pm Saturday Jan. 25th only. $100 All 3 races onsite. \nJuniors Race for $10 each race or $30 for the full series in the junior’s category!!!Pre-Registration on BikeReg.com \nAll payout\, prizes\, and awards will be given out at the April 6 the race Series Finale onsite only.Awards will be given to every racer that completes all three races!!! \nUSAC License Required or One Day licenses available for $15 Reg. includes $5.99 per rider USAC Insurance fee held under USA Cycling Permit \nFastest time of any month wins. Overall all 3 male/female also.Beginner Male/Female race anyone can sign-up for if they would rather do the short route
URL:https://middletncycling.com/event/2025-montgomery-bell-winter-mtb-time-trial-series/
LOCATION:Montgomery Bell Park\, 830 Bill Duke Road\, White Bluff\, 37187
CATEGORIES:Mountain Biking,Race,Time Trial
ATTACH;FMTTYPE=image/jpeg:https://middletncycling.com/wp-content/uploads/2024/01/WinterRaceSeries.jpg
END:VEVENT
BEGIN:VEVENT
DTSTART;TZID=America/Chicago:20240128T100000
DTEND;TZID=America/Chicago:20240128T150000
DTSTAMP:20260425T091308
CREATED:20240131T002317Z
LAST-MODIFIED:20240131T002707Z
UID:3117-1706436000-1706454000@middletncycling.com
SUMMARY:Montgomery Bell Winter MTB TT Series
DESCRIPTION:$35 Online Registration through 6pm CST Saturday before each race. $40 Onsite Registration. \n$90 All 3 races in the series Online Pre-registration through 6pm Saturday Jan. 27th only. $100 All 3 races onsite. \nJuniors Race for $10 each race or $30 for the full series in the junior’s category!!! \nPre-Registration on BikeReg.com \nRace Director: Michael Edens\nPHONE # 615 319-7227\nEMAIL: michael.edens@gmail.com \nStart/Finish ADDRESS\n830 Bill Duke Road\, White Bluff\, TN \nAll payout\, prizes\, and awards will be given out at the April 7th race Series Finale onsite only. \nAwards will be given to every racer that completes all three races!!! \nUSAC License Required or One Day licenses available for $15 Reg. includes $5.99 per rider USAC Insurance fee\nHeld under USA Cycling Permit \nFastest time of any month wins. \nOverall all 3 male/female also. \nBeginner Male/Female race anyone can sign-up for if they would rather do the short route for.
URL:https://middletncycling.com/event/montgomery-bell-winter-mtb-tt-series-1/
LOCATION:Montgomery Bell Park\, 830 Bill Duke Road\, White Bluff\, 37187
CATEGORIES:Mountain Biking,Race,Time Trial
ATTACH;FMTTYPE=image/jpeg:https://middletncycling.com/wp-content/uploads/2024/01/WinterRaceSeries.jpg
END:VEVENT
BEGIN:VEVENT
DTSTART;TZID=America/Chicago:20240128T100000
DTEND;TZID=America/Chicago:20240128T150000
DTSTAMP:20260425T091308
CREATED:20240131T002317Z
LAST-MODIFIED:20240131T002707Z
UID:3117-1706436000-1706454000@middletncycling.com
SUMMARY:Montgomery Bell Winter MTB TT Series
DESCRIPTION:$35 Online Registration through 6pm CST Saturday before each race. $40 Onsite Registration. \n$90 All 3 races in the series Online Pre-registration through 6pm Saturday Jan. 27th only. $100 All 3 races onsite. \nJuniors Race for $10 each race or $30 for the full series in the junior’s category!!! \nPre-Registration on BikeReg.com \nRace Director: Michael Edens\nPHONE # 615 319-7227\nEMAIL: michael.edens@gmail.com \nStart/Finish ADDRESS\n830 Bill Duke Road\, White Bluff\, TN \nAll payout\, prizes\, and awards will be given out at the April 7th race Series Finale onsite only. \nAwards will be given to every racer that completes all three races!!! \nUSAC License Required or One Day licenses available for $15 Reg. includes $5.99 per rider USAC Insurance fee\nHeld under USA Cycling Permit \nFastest time of any month wins. \nOverall all 3 male/female also. \nBeginner Male/Female race anyone can sign-up for if they would rather do the short route for.
URL:https://middletncycling.com/event/montgomery-bell-winter-mtb-tt-series-1/
LOCATION:Montgomery Bell Park\, 830 Bill Duke Road\, White Bluff\, 37187
CATEGORIES:Mountain Biking,Race,Time Trial
ATTACH;FMTTYPE=image/jpeg:https://middletncycling.com/wp-content/uploads/2024/01/WinterRaceSeries.jpg
END:VEVENT
BEGIN:VEVENT
DTSTART;TZID=America/Chicago:20240128T100000
DTEND;TZID=America/Chicago:20240128T150000
DTSTAMP:20260425T091308
CREATED:20240131T002317Z
LAST-MODIFIED:20240131T002707Z
UID:3117-1706436000-1706454000@middletncycling.com
SUMMARY:Montgomery Bell Winter MTB TT Series
DESCRIPTION:$35 Online Registration through 6pm CST Saturday before each race. $40 Onsite Registration. \n$90 All 3 races in the series Online Pre-registration through 6pm Saturday Jan. 27th only. $100 All 3 races onsite. \nJuniors Race for $10 each race or $30 for the full series in the junior’s category!!! \nPre-Registration on BikeReg.com \nRace Director: Michael Edens\nPHONE # 615 319-7227\nEMAIL: michael.edens@gmail.com \nStart/Finish ADDRESS\n830 Bill Duke Road\, White Bluff\, TN \nAll payout\, prizes\, and awards will be given out at the April 7th race Series Finale onsite only. \nAwards will be given to every racer that completes all three races!!! \nUSAC License Required or One Day licenses available for $15 Reg. includes $5.99 per rider USAC Insurance fee\nHeld under USA Cycling Permit \nFastest time of any month wins. \nOverall all 3 male/female also. \nBeginner Male/Female race anyone can sign-up for if they would rather do the short route for.
URL:https://middletncycling.com/event/montgomery-bell-winter-mtb-tt-series-1/
LOCATION:Montgomery Bell Park\, 830 Bill Duke Road\, White Bluff\, 37187
CATEGORIES:Mountain Biking,Race,Time Trial
ATTACH;FMTTYPE=image/jpeg:https://middletncycling.com/wp-content/uploads/2024/01/WinterRaceSeries.jpg
END:VEVENT
END:VCALENDAR