BEGIN:VCALENDAR
VERSION:2.0
PRODID:-//MiddleTNCycling - ECPv6.15.20//NONSGML v1.0//EN
CALSCALE:GREGORIAN
METHOD:PUBLISH
X-ORIGINAL-URL:https://middletncycling.com
X-WR-CALDESC:Events for MiddleTNCycling
REFRESH-INTERVAL;VALUE=DURATION:PT1H
X-Robots-Tag:noindex
X-PUBLISHED-TTL:PT1H
BEGIN:VTIMEZONE
TZID:America/Chicago
BEGIN:DAYLIGHT
TZOFFSETFROM:-0600
TZOFFSETTO:-0500
TZNAME:CDT
DTSTART:20240310T080000
END:DAYLIGHT
BEGIN:STANDARD
TZOFFSETFROM:-0500
TZOFFSETTO:-0600
TZNAME:CST
DTSTART:20241103T070000
END:STANDARD
BEGIN:DAYLIGHT
TZOFFSETFROM:-0600
TZOFFSETTO:-0500
TZNAME:CDT
DTSTART:20250309T080000
END:DAYLIGHT
BEGIN:STANDARD
TZOFFSETFROM:-0500
TZOFFSETTO:-0600
TZNAME:CST
DTSTART:20251102T070000
END:STANDARD
BEGIN:DAYLIGHT
TZOFFSETFROM:-0600
TZOFFSETTO:-0500
TZNAME:CDT
DTSTART:20260308T080000
END:DAYLIGHT
BEGIN:STANDARD
TZOFFSETFROM:-0500
TZOFFSETTO:-0600
TZNAME:CST
DTSTART:20261101T070000
END:STANDARD
END:VTIMEZONE
BEGIN:VEVENT
DTSTART;VALUE=DATE:20251017
DTEND;VALUE=DATE:20251020
DTSTAMP:20260425T061708
CREATED:20250224T193610Z
LAST-MODIFIED:20250224T193610Z
UID:36705-1760659200-1760918399@middletncycling.com
SUMMARY:Gravel Revival 2025
DESCRIPTION:Gravel Revival\, sponsored by MOAB Bike Shop\, is a multi-day gravel festival for all ages and levels of athletes. The 6th Annual Gravel Revival will be held Friday-Sunday\, October 17-19\, 2025\, in Hickman County\, TN. It will include various cycling and trail running route distances. More details to come!
URL:https://middletncycling.com/event/gravel-revival-2025/
LOCATION:Peaceful Hills Campground\, 390 American Way\, Centerville\, TN\, 37033\, United States
CATEGORIES:Gravel,Race
ATTACH;FMTTYPE=image/png:https://middletncycling.com/wp-content/uploads/2025/02/grheader.png
END:VEVENT
END:VCALENDAR