BEGIN:VCALENDAR
VERSION:2.0
PRODID:-//MiddleTNCycling - ECPv6.15.20//NONSGML v1.0//EN
CALSCALE:GREGORIAN
METHOD:PUBLISH
X-ORIGINAL-URL:https://middletncycling.com
X-WR-CALDESC:Events for MiddleTNCycling
REFRESH-INTERVAL;VALUE=DURATION:PT1H
X-Robots-Tag:noindex
X-PUBLISHED-TTL:PT1H
BEGIN:VTIMEZONE
TZID:America/Chicago
BEGIN:DAYLIGHT
TZOFFSETFROM:-0600
TZOFFSETTO:-0500
TZNAME:CDT
DTSTART:20240310T080000
END:DAYLIGHT
BEGIN:STANDARD
TZOFFSETFROM:-0500
TZOFFSETTO:-0600
TZNAME:CST
DTSTART:20241103T070000
END:STANDARD
BEGIN:DAYLIGHT
TZOFFSETFROM:-0600
TZOFFSETTO:-0500
TZNAME:CDT
DTSTART:20250309T080000
END:DAYLIGHT
BEGIN:STANDARD
TZOFFSETFROM:-0500
TZOFFSETTO:-0600
TZNAME:CST
DTSTART:20251102T070000
END:STANDARD
BEGIN:DAYLIGHT
TZOFFSETFROM:-0600
TZOFFSETTO:-0500
TZNAME:CDT
DTSTART:20260308T080000
END:DAYLIGHT
BEGIN:STANDARD
TZOFFSETFROM:-0500
TZOFFSETTO:-0600
TZNAME:CST
DTSTART:20261101T070000
END:STANDARD
END:VTIMEZONE
BEGIN:VEVENT
DTSTART;TZID=America/Chicago:20250314T180000
DTEND;TZID=America/Chicago:20250314T200000
DTSTAMP:20260423T095519
CREATED:20250314T152213Z
LAST-MODIFIED:20250314T152213Z
UID:38135-1741975200-1741982400@middletncycling.com
SUMMARY:Music City Dope Pedalers
DESCRIPTION:Follow Music City Dope Pedalers on Instagram for updates.
URL:https://middletncycling.com/event/music-city-dope-pedalers-5/
LOCATION:Frankie Pierce Park\, 130 Josephine Holloway Ave\, Nashville\, TN\, 37203
CATEGORIES:Group Ride,No Drop Ride
ATTACH;FMTTYPE=image/png:https://middletncycling.com/wp-content/uploads/2025/03/dopepedalers25.png
END:VEVENT
BEGIN:VEVENT
DTSTART;TZID=America/Chicago:20250401T180000
DTEND;TZID=America/Chicago:20250401T193000
DTSTAMP:20260423T095519
CREATED:20250312T203301Z
LAST-MODIFIED:20250312T203301Z
UID:37913-1743530400-1743535800@middletncycling.com
SUMMARY:SABCo Tuesday Night Ride - 2025
DESCRIPTION:Welcome to SABCo’s Tuesday Night Ride! This club ride meets every Tuesday at 6:00 for the extent of the season and features A (drop ride at 20+ mph) and B (no-drop ride at 16 mph) groups. \nRide starts promptly at 6:00\, with a safety meeting and announcements starting at 5:50.  Many of us are friends with Shelby Ave Bicycle Company\, but this club ride is not commercially or legally affiliated with the bike shop. \nPlease join the Strava Club for updates on inclement weather and any changes in details.
URL:https://middletncycling.com/event/sabco-tuesday-night-ride-2025/
LOCATION:Shelby Ave Bike Company\, 1629 Shelby Ave\, Nashville\, TN\, 37206\, United States
CATEGORIES:Drop Ride,Group Ride,No Drop Ride
ATTACH;FMTTYPE=image/jpeg:https://middletncycling.com/wp-content/uploads/2024/04/large.jpg
END:VEVENT
BEGIN:VEVENT
DTSTART;TZID=America/Chicago:20250314T180000
DTEND;TZID=America/Chicago:20250314T200000
DTSTAMP:20260423T095519
CREATED:20250314T152213Z
LAST-MODIFIED:20250314T152213Z
UID:38135-1741975200-1741982400@middletncycling.com
SUMMARY:Music City Dope Pedalers
DESCRIPTION:Follow Music City Dope Pedalers on Instagram for updates.
URL:https://middletncycling.com/event/music-city-dope-pedalers-5/
LOCATION:Frankie Pierce Park\, 130 Josephine Holloway Ave\, Nashville\, TN\, 37203
CATEGORIES:Group Ride,No Drop Ride
ATTACH;FMTTYPE=image/png:https://middletncycling.com/wp-content/uploads/2025/03/dopepedalers25.png
END:VEVENT
BEGIN:VEVENT
DTSTART;TZID=America/Chicago:20250401T180000
DTEND;TZID=America/Chicago:20250401T193000
DTSTAMP:20260423T095519
CREATED:20250312T203301Z
LAST-MODIFIED:20250312T203301Z
UID:37913-1743530400-1743535800@middletncycling.com
SUMMARY:SABCo Tuesday Night Ride - 2025
DESCRIPTION:Welcome to SABCo’s Tuesday Night Ride! This club ride meets every Tuesday at 6:00 for the extent of the season and features A (drop ride at 20+ mph) and B (no-drop ride at 16 mph) groups. \nRide starts promptly at 6:00\, with a safety meeting and announcements starting at 5:50.  Many of us are friends with Shelby Ave Bicycle Company\, but this club ride is not commercially or legally affiliated with the bike shop. \nPlease join the Strava Club for updates on inclement weather and any changes in details.
URL:https://middletncycling.com/event/sabco-tuesday-night-ride-2025/
LOCATION:Shelby Ave Bike Company\, 1629 Shelby Ave\, Nashville\, TN\, 37206\, United States
CATEGORIES:Drop Ride,Group Ride,No Drop Ride
ATTACH;FMTTYPE=image/jpeg:https://middletncycling.com/wp-content/uploads/2024/04/large.jpg
END:VEVENT
BEGIN:VEVENT
DTSTART;TZID=America/Chicago:20250314T180000
DTEND;TZID=America/Chicago:20250314T200000
DTSTAMP:20260423T095519
CREATED:20250314T152213Z
LAST-MODIFIED:20250314T152213Z
UID:38135-1741975200-1741982400@middletncycling.com
SUMMARY:Music City Dope Pedalers
DESCRIPTION:Follow Music City Dope Pedalers on Instagram for updates.
URL:https://middletncycling.com/event/music-city-dope-pedalers-5/
LOCATION:Frankie Pierce Park\, 130 Josephine Holloway Ave\, Nashville\, TN\, 37203
CATEGORIES:Group Ride,No Drop Ride
ATTACH;FMTTYPE=image/png:https://middletncycling.com/wp-content/uploads/2025/03/dopepedalers25.png
END:VEVENT
BEGIN:VEVENT
DTSTART;TZID=America/Chicago:20250401T180000
DTEND;TZID=America/Chicago:20250401T193000
DTSTAMP:20260423T095519
CREATED:20250312T203301Z
LAST-MODIFIED:20250312T203301Z
UID:37913-1743530400-1743535800@middletncycling.com
SUMMARY:SABCo Tuesday Night Ride - 2025
DESCRIPTION:Welcome to SABCo’s Tuesday Night Ride! This club ride meets every Tuesday at 6:00 for the extent of the season and features A (drop ride at 20+ mph) and B (no-drop ride at 16 mph) groups. \nRide starts promptly at 6:00\, with a safety meeting and announcements starting at 5:50.  Many of us are friends with Shelby Ave Bicycle Company\, but this club ride is not commercially or legally affiliated with the bike shop. \nPlease join the Strava Club for updates on inclement weather and any changes in details.
URL:https://middletncycling.com/event/sabco-tuesday-night-ride-2025/
LOCATION:Shelby Ave Bike Company\, 1629 Shelby Ave\, Nashville\, TN\, 37206\, United States
CATEGORIES:Drop Ride,Group Ride,No Drop Ride
ATTACH;FMTTYPE=image/jpeg:https://middletncycling.com/wp-content/uploads/2024/04/large.jpg
END:VEVENT
BEGIN:VEVENT
DTSTART;TZID=America/Chicago:20250314T180000
DTEND;TZID=America/Chicago:20250314T200000
DTSTAMP:20260423T095519
CREATED:20250314T152213Z
LAST-MODIFIED:20250314T152213Z
UID:38135-1741975200-1741982400@middletncycling.com
SUMMARY:Music City Dope Pedalers
DESCRIPTION:Follow Music City Dope Pedalers on Instagram for updates.
URL:https://middletncycling.com/event/music-city-dope-pedalers-5/
LOCATION:Frankie Pierce Park\, 130 Josephine Holloway Ave\, Nashville\, TN\, 37203
CATEGORIES:Group Ride,No Drop Ride
ATTACH;FMTTYPE=image/png:https://middletncycling.com/wp-content/uploads/2025/03/dopepedalers25.png
END:VEVENT
BEGIN:VEVENT
DTSTART;TZID=America/Chicago:20250401T180000
DTEND;TZID=America/Chicago:20250401T193000
DTSTAMP:20260423T095519
CREATED:20250312T203301Z
LAST-MODIFIED:20250312T203301Z
UID:37913-1743530400-1743535800@middletncycling.com
SUMMARY:SABCo Tuesday Night Ride - 2025
DESCRIPTION:Welcome to SABCo’s Tuesday Night Ride! This club ride meets every Tuesday at 6:00 for the extent of the season and features A (drop ride at 20+ mph) and B (no-drop ride at 16 mph) groups. \nRide starts promptly at 6:00\, with a safety meeting and announcements starting at 5:50.  Many of us are friends with Shelby Ave Bicycle Company\, but this club ride is not commercially or legally affiliated with the bike shop. \nPlease join the Strava Club for updates on inclement weather and any changes in details.
URL:https://middletncycling.com/event/sabco-tuesday-night-ride-2025/
LOCATION:Shelby Ave Bike Company\, 1629 Shelby Ave\, Nashville\, TN\, 37206\, United States
CATEGORIES:Drop Ride,Group Ride,No Drop Ride
ATTACH;FMTTYPE=image/jpeg:https://middletncycling.com/wp-content/uploads/2024/04/large.jpg
END:VEVENT
BEGIN:VEVENT
DTSTART;TZID=America/Chicago:20250314T180000
DTEND;TZID=America/Chicago:20250314T200000
DTSTAMP:20260423T095519
CREATED:20250314T152213Z
LAST-MODIFIED:20250314T152213Z
UID:38135-1741975200-1741982400@middletncycling.com
SUMMARY:Music City Dope Pedalers
DESCRIPTION:Follow Music City Dope Pedalers on Instagram for updates.
URL:https://middletncycling.com/event/music-city-dope-pedalers-5/
LOCATION:Frankie Pierce Park\, 130 Josephine Holloway Ave\, Nashville\, TN\, 37203
CATEGORIES:Group Ride,No Drop Ride
ATTACH;FMTTYPE=image/png:https://middletncycling.com/wp-content/uploads/2025/03/dopepedalers25.png
END:VEVENT
BEGIN:VEVENT
DTSTART;TZID=America/Chicago:20250401T180000
DTEND;TZID=America/Chicago:20250401T193000
DTSTAMP:20260423T095519
CREATED:20250312T203301Z
LAST-MODIFIED:20250312T203301Z
UID:37913-1743530400-1743535800@middletncycling.com
SUMMARY:SABCo Tuesday Night Ride - 2025
DESCRIPTION:Welcome to SABCo’s Tuesday Night Ride! This club ride meets every Tuesday at 6:00 for the extent of the season and features A (drop ride at 20+ mph) and B (no-drop ride at 16 mph) groups. \nRide starts promptly at 6:00\, with a safety meeting and announcements starting at 5:50.  Many of us are friends with Shelby Ave Bicycle Company\, but this club ride is not commercially or legally affiliated with the bike shop. \nPlease join the Strava Club for updates on inclement weather and any changes in details.
URL:https://middletncycling.com/event/sabco-tuesday-night-ride-2025/
LOCATION:Shelby Ave Bike Company\, 1629 Shelby Ave\, Nashville\, TN\, 37206\, United States
CATEGORIES:Drop Ride,Group Ride,No Drop Ride
ATTACH;FMTTYPE=image/jpeg:https://middletncycling.com/wp-content/uploads/2024/04/large.jpg
END:VEVENT
BEGIN:VEVENT
DTSTART;TZID=America/Chicago:20250314T180000
DTEND;TZID=America/Chicago:20250314T200000
DTSTAMP:20260423T095519
CREATED:20250314T152213Z
LAST-MODIFIED:20250314T152213Z
UID:38135-1741975200-1741982400@middletncycling.com
SUMMARY:Music City Dope Pedalers
DESCRIPTION:Follow Music City Dope Pedalers on Instagram for updates.
URL:https://middletncycling.com/event/music-city-dope-pedalers-5/
LOCATION:Frankie Pierce Park\, 130 Josephine Holloway Ave\, Nashville\, TN\, 37203
CATEGORIES:Group Ride,No Drop Ride
ATTACH;FMTTYPE=image/png:https://middletncycling.com/wp-content/uploads/2025/03/dopepedalers25.png
END:VEVENT
BEGIN:VEVENT
DTSTART;TZID=America/Chicago:20250401T180000
DTEND;TZID=America/Chicago:20250401T193000
DTSTAMP:20260423T095519
CREATED:20250312T203301Z
LAST-MODIFIED:20250312T203301Z
UID:37913-1743530400-1743535800@middletncycling.com
SUMMARY:SABCo Tuesday Night Ride - 2025
DESCRIPTION:Welcome to SABCo’s Tuesday Night Ride! This club ride meets every Tuesday at 6:00 for the extent of the season and features A (drop ride at 20+ mph) and B (no-drop ride at 16 mph) groups. \nRide starts promptly at 6:00\, with a safety meeting and announcements starting at 5:50.  Many of us are friends with Shelby Ave Bicycle Company\, but this club ride is not commercially or legally affiliated with the bike shop. \nPlease join the Strava Club for updates on inclement weather and any changes in details.
URL:https://middletncycling.com/event/sabco-tuesday-night-ride-2025/
LOCATION:Shelby Ave Bike Company\, 1629 Shelby Ave\, Nashville\, TN\, 37206\, United States
CATEGORIES:Drop Ride,Group Ride,No Drop Ride
ATTACH;FMTTYPE=image/jpeg:https://middletncycling.com/wp-content/uploads/2024/04/large.jpg
END:VEVENT
BEGIN:VEVENT
DTSTART;TZID=America/Chicago:20250314T180000
DTEND;TZID=America/Chicago:20250314T200000
DTSTAMP:20260423T095519
CREATED:20250314T152213Z
LAST-MODIFIED:20250314T152213Z
UID:38135-1741975200-1741982400@middletncycling.com
SUMMARY:Music City Dope Pedalers
DESCRIPTION:Follow Music City Dope Pedalers on Instagram for updates.
URL:https://middletncycling.com/event/music-city-dope-pedalers-5/
LOCATION:Frankie Pierce Park\, 130 Josephine Holloway Ave\, Nashville\, TN\, 37203
CATEGORIES:Group Ride,No Drop Ride
ATTACH;FMTTYPE=image/png:https://middletncycling.com/wp-content/uploads/2025/03/dopepedalers25.png
END:VEVENT
BEGIN:VEVENT
DTSTART;TZID=America/Chicago:20250401T180000
DTEND;TZID=America/Chicago:20250401T193000
DTSTAMP:20260423T095519
CREATED:20250312T203301Z
LAST-MODIFIED:20250312T203301Z
UID:37913-1743530400-1743535800@middletncycling.com
SUMMARY:SABCo Tuesday Night Ride - 2025
DESCRIPTION:Welcome to SABCo’s Tuesday Night Ride! This club ride meets every Tuesday at 6:00 for the extent of the season and features A (drop ride at 20+ mph) and B (no-drop ride at 16 mph) groups. \nRide starts promptly at 6:00\, with a safety meeting and announcements starting at 5:50.  Many of us are friends with Shelby Ave Bicycle Company\, but this club ride is not commercially or legally affiliated with the bike shop. \nPlease join the Strava Club for updates on inclement weather and any changes in details.
URL:https://middletncycling.com/event/sabco-tuesday-night-ride-2025/
LOCATION:Shelby Ave Bike Company\, 1629 Shelby Ave\, Nashville\, TN\, 37206\, United States
CATEGORIES:Drop Ride,Group Ride,No Drop Ride
ATTACH;FMTTYPE=image/jpeg:https://middletncycling.com/wp-content/uploads/2024/04/large.jpg
END:VEVENT
BEGIN:VEVENT
DTSTART;TZID=America/Chicago:20250314T180000
DTEND;TZID=America/Chicago:20250314T200000
DTSTAMP:20260423T095519
CREATED:20250314T152213Z
LAST-MODIFIED:20250314T152213Z
UID:38135-1741975200-1741982400@middletncycling.com
SUMMARY:Music City Dope Pedalers
DESCRIPTION:Follow Music City Dope Pedalers on Instagram for updates.
URL:https://middletncycling.com/event/music-city-dope-pedalers-5/
LOCATION:Frankie Pierce Park\, 130 Josephine Holloway Ave\, Nashville\, TN\, 37203
CATEGORIES:Group Ride,No Drop Ride
ATTACH;FMTTYPE=image/png:https://middletncycling.com/wp-content/uploads/2025/03/dopepedalers25.png
END:VEVENT
BEGIN:VEVENT
DTSTART;TZID=America/Chicago:20250401T180000
DTEND;TZID=America/Chicago:20250401T193000
DTSTAMP:20260423T095519
CREATED:20250312T203301Z
LAST-MODIFIED:20250312T203301Z
UID:37913-1743530400-1743535800@middletncycling.com
SUMMARY:SABCo Tuesday Night Ride - 2025
DESCRIPTION:Welcome to SABCo’s Tuesday Night Ride! This club ride meets every Tuesday at 6:00 for the extent of the season and features A (drop ride at 20+ mph) and B (no-drop ride at 16 mph) groups. \nRide starts promptly at 6:00\, with a safety meeting and announcements starting at 5:50.  Many of us are friends with Shelby Ave Bicycle Company\, but this club ride is not commercially or legally affiliated with the bike shop. \nPlease join the Strava Club for updates on inclement weather and any changes in details.
URL:https://middletncycling.com/event/sabco-tuesday-night-ride-2025/
LOCATION:Shelby Ave Bike Company\, 1629 Shelby Ave\, Nashville\, TN\, 37206\, United States
CATEGORIES:Drop Ride,Group Ride,No Drop Ride
ATTACH;FMTTYPE=image/jpeg:https://middletncycling.com/wp-content/uploads/2024/04/large.jpg
END:VEVENT
BEGIN:VEVENT
DTSTART;TZID=America/Chicago:20250314T180000
DTEND;TZID=America/Chicago:20250314T200000
DTSTAMP:20260423T095519
CREATED:20250314T152213Z
LAST-MODIFIED:20250314T152213Z
UID:38135-1741975200-1741982400@middletncycling.com
SUMMARY:Music City Dope Pedalers
DESCRIPTION:Follow Music City Dope Pedalers on Instagram for updates.
URL:https://middletncycling.com/event/music-city-dope-pedalers-5/
LOCATION:Frankie Pierce Park\, 130 Josephine Holloway Ave\, Nashville\, TN\, 37203
CATEGORIES:Group Ride,No Drop Ride
ATTACH;FMTTYPE=image/png:https://middletncycling.com/wp-content/uploads/2025/03/dopepedalers25.png
END:VEVENT
BEGIN:VEVENT
DTSTART;TZID=America/Chicago:20250401T180000
DTEND;TZID=America/Chicago:20250401T193000
DTSTAMP:20260423T095519
CREATED:20250312T203301Z
LAST-MODIFIED:20250312T203301Z
UID:37913-1743530400-1743535800@middletncycling.com
SUMMARY:SABCo Tuesday Night Ride - 2025
DESCRIPTION:Welcome to SABCo’s Tuesday Night Ride! This club ride meets every Tuesday at 6:00 for the extent of the season and features A (drop ride at 20+ mph) and B (no-drop ride at 16 mph) groups. \nRide starts promptly at 6:00\, with a safety meeting and announcements starting at 5:50.  Many of us are friends with Shelby Ave Bicycle Company\, but this club ride is not commercially or legally affiliated with the bike shop. \nPlease join the Strava Club for updates on inclement weather and any changes in details.
URL:https://middletncycling.com/event/sabco-tuesday-night-ride-2025/
LOCATION:Shelby Ave Bike Company\, 1629 Shelby Ave\, Nashville\, TN\, 37206\, United States
CATEGORIES:Drop Ride,Group Ride,No Drop Ride
ATTACH;FMTTYPE=image/jpeg:https://middletncycling.com/wp-content/uploads/2024/04/large.jpg
END:VEVENT
BEGIN:VEVENT
DTSTART;TZID=America/Chicago:20250314T180000
DTEND;TZID=America/Chicago:20250314T200000
DTSTAMP:20260423T095519
CREATED:20250314T152213Z
LAST-MODIFIED:20250314T152213Z
UID:38135-1741975200-1741982400@middletncycling.com
SUMMARY:Music City Dope Pedalers
DESCRIPTION:Follow Music City Dope Pedalers on Instagram for updates.
URL:https://middletncycling.com/event/music-city-dope-pedalers-5/
LOCATION:Frankie Pierce Park\, 130 Josephine Holloway Ave\, Nashville\, TN\, 37203
CATEGORIES:Group Ride,No Drop Ride
ATTACH;FMTTYPE=image/png:https://middletncycling.com/wp-content/uploads/2025/03/dopepedalers25.png
END:VEVENT
BEGIN:VEVENT
DTSTART;TZID=America/Chicago:20250401T180000
DTEND;TZID=America/Chicago:20250401T193000
DTSTAMP:20260423T095519
CREATED:20250312T203301Z
LAST-MODIFIED:20250312T203301Z
UID:37913-1743530400-1743535800@middletncycling.com
SUMMARY:SABCo Tuesday Night Ride - 2025
DESCRIPTION:Welcome to SABCo’s Tuesday Night Ride! This club ride meets every Tuesday at 6:00 for the extent of the season and features A (drop ride at 20+ mph) and B (no-drop ride at 16 mph) groups. \nRide starts promptly at 6:00\, with a safety meeting and announcements starting at 5:50.  Many of us are friends with Shelby Ave Bicycle Company\, but this club ride is not commercially or legally affiliated with the bike shop. \nPlease join the Strava Club for updates on inclement weather and any changes in details.
URL:https://middletncycling.com/event/sabco-tuesday-night-ride-2025/
LOCATION:Shelby Ave Bike Company\, 1629 Shelby Ave\, Nashville\, TN\, 37206\, United States
CATEGORIES:Drop Ride,Group Ride,No Drop Ride
ATTACH;FMTTYPE=image/jpeg:https://middletncycling.com/wp-content/uploads/2024/04/large.jpg
END:VEVENT
BEGIN:VEVENT
DTSTART;TZID=America/Chicago:20250314T180000
DTEND;TZID=America/Chicago:20250314T200000
DTSTAMP:20260423T095519
CREATED:20250314T152213Z
LAST-MODIFIED:20250314T152213Z
UID:38135-1741975200-1741982400@middletncycling.com
SUMMARY:Music City Dope Pedalers
DESCRIPTION:Follow Music City Dope Pedalers on Instagram for updates.
URL:https://middletncycling.com/event/music-city-dope-pedalers-5/
LOCATION:Frankie Pierce Park\, 130 Josephine Holloway Ave\, Nashville\, TN\, 37203
CATEGORIES:Group Ride,No Drop Ride
ATTACH;FMTTYPE=image/png:https://middletncycling.com/wp-content/uploads/2025/03/dopepedalers25.png
END:VEVENT
BEGIN:VEVENT
DTSTART;TZID=America/Chicago:20250401T180000
DTEND;TZID=America/Chicago:20250401T193000
DTSTAMP:20260423T095519
CREATED:20250312T203301Z
LAST-MODIFIED:20250312T203301Z
UID:37913-1743530400-1743535800@middletncycling.com
SUMMARY:SABCo Tuesday Night Ride - 2025
DESCRIPTION:Welcome to SABCo’s Tuesday Night Ride! This club ride meets every Tuesday at 6:00 for the extent of the season and features A (drop ride at 20+ mph) and B (no-drop ride at 16 mph) groups. \nRide starts promptly at 6:00\, with a safety meeting and announcements starting at 5:50.  Many of us are friends with Shelby Ave Bicycle Company\, but this club ride is not commercially or legally affiliated with the bike shop. \nPlease join the Strava Club for updates on inclement weather and any changes in details.
URL:https://middletncycling.com/event/sabco-tuesday-night-ride-2025/
LOCATION:Shelby Ave Bike Company\, 1629 Shelby Ave\, Nashville\, TN\, 37206\, United States
CATEGORIES:Drop Ride,Group Ride,No Drop Ride
ATTACH;FMTTYPE=image/jpeg:https://middletncycling.com/wp-content/uploads/2024/04/large.jpg
END:VEVENT
BEGIN:VEVENT
DTSTART;TZID=America/Chicago:20250314T180000
DTEND;TZID=America/Chicago:20250314T200000
DTSTAMP:20260423T095519
CREATED:20250314T152213Z
LAST-MODIFIED:20250314T152213Z
UID:38135-1741975200-1741982400@middletncycling.com
SUMMARY:Music City Dope Pedalers
DESCRIPTION:Follow Music City Dope Pedalers on Instagram for updates.
URL:https://middletncycling.com/event/music-city-dope-pedalers-5/
LOCATION:Frankie Pierce Park\, 130 Josephine Holloway Ave\, Nashville\, TN\, 37203
CATEGORIES:Group Ride,No Drop Ride
ATTACH;FMTTYPE=image/png:https://middletncycling.com/wp-content/uploads/2025/03/dopepedalers25.png
END:VEVENT
BEGIN:VEVENT
DTSTART;TZID=America/Chicago:20250401T180000
DTEND;TZID=America/Chicago:20250401T193000
DTSTAMP:20260423T095519
CREATED:20250312T203301Z
LAST-MODIFIED:20250312T203301Z
UID:37913-1743530400-1743535800@middletncycling.com
SUMMARY:SABCo Tuesday Night Ride - 2025
DESCRIPTION:Welcome to SABCo’s Tuesday Night Ride! This club ride meets every Tuesday at 6:00 for the extent of the season and features A (drop ride at 20+ mph) and B (no-drop ride at 16 mph) groups. \nRide starts promptly at 6:00\, with a safety meeting and announcements starting at 5:50.  Many of us are friends with Shelby Ave Bicycle Company\, but this club ride is not commercially or legally affiliated with the bike shop. \nPlease join the Strava Club for updates on inclement weather and any changes in details.
URL:https://middletncycling.com/event/sabco-tuesday-night-ride-2025/
LOCATION:Shelby Ave Bike Company\, 1629 Shelby Ave\, Nashville\, TN\, 37206\, United States
CATEGORIES:Drop Ride,Group Ride,No Drop Ride
ATTACH;FMTTYPE=image/jpeg:https://middletncycling.com/wp-content/uploads/2024/04/large.jpg
END:VEVENT
BEGIN:VEVENT
DTSTART;TZID=America/Chicago:20250314T180000
DTEND;TZID=America/Chicago:20250314T200000
DTSTAMP:20260423T095519
CREATED:20250314T152213Z
LAST-MODIFIED:20250314T152213Z
UID:38135-1741975200-1741982400@middletncycling.com
SUMMARY:Music City Dope Pedalers
DESCRIPTION:Follow Music City Dope Pedalers on Instagram for updates.
URL:https://middletncycling.com/event/music-city-dope-pedalers-5/
LOCATION:Frankie Pierce Park\, 130 Josephine Holloway Ave\, Nashville\, TN\, 37203
CATEGORIES:Group Ride,No Drop Ride
ATTACH;FMTTYPE=image/png:https://middletncycling.com/wp-content/uploads/2025/03/dopepedalers25.png
END:VEVENT
BEGIN:VEVENT
DTSTART;TZID=America/Chicago:20250401T180000
DTEND;TZID=America/Chicago:20250401T193000
DTSTAMP:20260423T095519
CREATED:20250312T203301Z
LAST-MODIFIED:20250312T203301Z
UID:37913-1743530400-1743535800@middletncycling.com
SUMMARY:SABCo Tuesday Night Ride - 2025
DESCRIPTION:Welcome to SABCo’s Tuesday Night Ride! This club ride meets every Tuesday at 6:00 for the extent of the season and features A (drop ride at 20+ mph) and B (no-drop ride at 16 mph) groups. \nRide starts promptly at 6:00\, with a safety meeting and announcements starting at 5:50.  Many of us are friends with Shelby Ave Bicycle Company\, but this club ride is not commercially or legally affiliated with the bike shop. \nPlease join the Strava Club for updates on inclement weather and any changes in details.
URL:https://middletncycling.com/event/sabco-tuesday-night-ride-2025/
LOCATION:Shelby Ave Bike Company\, 1629 Shelby Ave\, Nashville\, TN\, 37206\, United States
CATEGORIES:Drop Ride,Group Ride,No Drop Ride
ATTACH;FMTTYPE=image/jpeg:https://middletncycling.com/wp-content/uploads/2024/04/large.jpg
END:VEVENT
BEGIN:VEVENT
DTSTART;TZID=America/Chicago:20250314T180000
DTEND;TZID=America/Chicago:20250314T200000
DTSTAMP:20260423T095519
CREATED:20250314T152213Z
LAST-MODIFIED:20250314T152213Z
UID:38135-1741975200-1741982400@middletncycling.com
SUMMARY:Music City Dope Pedalers
DESCRIPTION:Follow Music City Dope Pedalers on Instagram for updates.
URL:https://middletncycling.com/event/music-city-dope-pedalers-5/
LOCATION:Frankie Pierce Park\, 130 Josephine Holloway Ave\, Nashville\, TN\, 37203
CATEGORIES:Group Ride,No Drop Ride
ATTACH;FMTTYPE=image/png:https://middletncycling.com/wp-content/uploads/2025/03/dopepedalers25.png
END:VEVENT
BEGIN:VEVENT
DTSTART;TZID=America/Chicago:20250401T180000
DTEND;TZID=America/Chicago:20250401T193000
DTSTAMP:20260423T095519
CREATED:20250312T203301Z
LAST-MODIFIED:20250312T203301Z
UID:37913-1743530400-1743535800@middletncycling.com
SUMMARY:SABCo Tuesday Night Ride - 2025
DESCRIPTION:Welcome to SABCo’s Tuesday Night Ride! This club ride meets every Tuesday at 6:00 for the extent of the season and features A (drop ride at 20+ mph) and B (no-drop ride at 16 mph) groups. \nRide starts promptly at 6:00\, with a safety meeting and announcements starting at 5:50.  Many of us are friends with Shelby Ave Bicycle Company\, but this club ride is not commercially or legally affiliated with the bike shop. \nPlease join the Strava Club for updates on inclement weather and any changes in details.
URL:https://middletncycling.com/event/sabco-tuesday-night-ride-2025/
LOCATION:Shelby Ave Bike Company\, 1629 Shelby Ave\, Nashville\, TN\, 37206\, United States
CATEGORIES:Drop Ride,Group Ride,No Drop Ride
ATTACH;FMTTYPE=image/jpeg:https://middletncycling.com/wp-content/uploads/2024/04/large.jpg
END:VEVENT
BEGIN:VEVENT
DTSTART;TZID=America/Chicago:20250314T180000
DTEND;TZID=America/Chicago:20250314T200000
DTSTAMP:20260423T095519
CREATED:20250314T152213Z
LAST-MODIFIED:20250314T152213Z
UID:38135-1741975200-1741982400@middletncycling.com
SUMMARY:Music City Dope Pedalers
DESCRIPTION:Follow Music City Dope Pedalers on Instagram for updates.
URL:https://middletncycling.com/event/music-city-dope-pedalers-5/
LOCATION:Frankie Pierce Park\, 130 Josephine Holloway Ave\, Nashville\, TN\, 37203
CATEGORIES:Group Ride,No Drop Ride
ATTACH;FMTTYPE=image/png:https://middletncycling.com/wp-content/uploads/2025/03/dopepedalers25.png
END:VEVENT
BEGIN:VEVENT
DTSTART;TZID=America/Chicago:20250401T180000
DTEND;TZID=America/Chicago:20250401T193000
DTSTAMP:20260423T095519
CREATED:20250312T203301Z
LAST-MODIFIED:20250312T203301Z
UID:37913-1743530400-1743535800@middletncycling.com
SUMMARY:SABCo Tuesday Night Ride - 2025
DESCRIPTION:Welcome to SABCo’s Tuesday Night Ride! This club ride meets every Tuesday at 6:00 for the extent of the season and features A (drop ride at 20+ mph) and B (no-drop ride at 16 mph) groups. \nRide starts promptly at 6:00\, with a safety meeting and announcements starting at 5:50.  Many of us are friends with Shelby Ave Bicycle Company\, but this club ride is not commercially or legally affiliated with the bike shop. \nPlease join the Strava Club for updates on inclement weather and any changes in details.
URL:https://middletncycling.com/event/sabco-tuesday-night-ride-2025/
LOCATION:Shelby Ave Bike Company\, 1629 Shelby Ave\, Nashville\, TN\, 37206\, United States
CATEGORIES:Drop Ride,Group Ride,No Drop Ride
ATTACH;FMTTYPE=image/jpeg:https://middletncycling.com/wp-content/uploads/2024/04/large.jpg
END:VEVENT
END:VCALENDAR