BEGIN:VCALENDAR
VERSION:2.0
PRODID:-//MiddleTNCycling - ECPv6.15.20//NONSGML v1.0//EN
CALSCALE:GREGORIAN
METHOD:PUBLISH
X-WR-CALNAME:MiddleTNCycling
X-ORIGINAL-URL:https://middletncycling.com
X-WR-CALDESC:Events for MiddleTNCycling
REFRESH-INTERVAL;VALUE=DURATION:PT1H
X-Robots-Tag:noindex
X-PUBLISHED-TTL:PT1H
BEGIN:VTIMEZONE
TZID:America/Chicago
BEGIN:DAYLIGHT
TZOFFSETFROM:-0600
TZOFFSETTO:-0500
TZNAME:CDT
DTSTART:20230312T080000
END:DAYLIGHT
BEGIN:STANDARD
TZOFFSETFROM:-0500
TZOFFSETTO:-0600
TZNAME:CST
DTSTART:20231105T070000
END:STANDARD
BEGIN:DAYLIGHT
TZOFFSETFROM:-0600
TZOFFSETTO:-0500
TZNAME:CDT
DTSTART:20240310T080000
END:DAYLIGHT
BEGIN:STANDARD
TZOFFSETFROM:-0500
TZOFFSETTO:-0600
TZNAME:CST
DTSTART:20241103T070000
END:STANDARD
BEGIN:DAYLIGHT
TZOFFSETFROM:-0600
TZOFFSETTO:-0500
TZNAME:CDT
DTSTART:20250309T080000
END:DAYLIGHT
BEGIN:STANDARD
TZOFFSETFROM:-0500
TZOFFSETTO:-0600
TZNAME:CST
DTSTART:20251102T070000
END:STANDARD
END:VTIMEZONE
BEGIN:VEVENT
DTSTART;TZID=America/Chicago:20240918T180000
DTEND;TZID=America/Chicago:20240918T193000
DTSTAMP:20260425T053453
CREATED:20240908T124620Z
LAST-MODIFIED:20240918T130327Z
UID:11201-1726682400-1726687800@middletncycling.com
SUMMARY:WEDNESDAY Green Fleet Urban Ride
DESCRIPTION:Urban Adventure Awaits!\nJoin Us Every Wednesday at 6:00 PM\n🌟 What to Expect:\nFun\, easy-going social ride.\nExplore Nashville’s urban gems:\n🌆 Metro Center Levee\n🌳 Shelby Bottoms\n🌇 Love Circle\n🐉 Dragon Park\n⛰️ Fort Negley\n🌿 Richland Creek Greenway\n🏞️ Cumberlandand River\n🌃Rolling Mill Hill Greenway & city view look out \nRemember\, it’s not just about the pedals—it’s about the journey! 🌟\nSee you on the road! 🚴‍♀️🚴‍♂️ \n**What to Expect**: \n* A relaxed\, no-drop ride suitable for beginners and cyclists of all skill levels.\n* No riders will be left behind.\n* Arrive on time to maximize daylight during the ride.\n* Ensure you have front and rear lights for safety\, especially during the latter part of the ride.\n* If there are weather issues\, we will make a final decision by 3:00 pm on the day of the ride. \n**Cyclist Responsibilities**: \n1. Arrive early and be ready to depart promptly.\n2. Note that some starting points may not have restrooms\, so plan accordingly.\n3. Check that your bicycle is in proper working order before arriving.\n4. Carry essentials: spare tube\, patch kit\, pump\, water bottle\, and a snack.\n5. Bring identification and emergency money.\n6. Always wear a helmet.\n7. Follow safety guidelines and obey traffic laws.\n8. Choose rides within your ability and interest level.\n9. Experienced riders will assist in case of a flat tire.\n10. Most importantly\, have fun! \n**Liability Release**: By becoming a member\, you accept the liability release. Understand that cycling on public roads involves inherent risks\, including dangerous roadways\, intersections\, and traffic. Nashville City Cycling Meetup\, its members\, volunteers\, sponsors\, and organizers are not liable for any injuries\, property damage\, or other incidents during the ride.
URL:https://middletncycling.com/event/wednesday-green-fleet-urban-ride-17/
LOCATION:Green Fleet Bicycle Shop\, 934 Jefferson Street\, Nashville\, TN\, 37208\, United States
CATEGORIES:Group Ride,No Drop Ride
ATTACH;FMTTYPE=image/jpeg:https://middletncycling.com/wp-content/uploads/2024/05/1024x576-aIntfJ.tmp_.jpg
END:VEVENT
END:VCALENDAR