BEGIN:VCALENDAR
VERSION:2.0
PRODID:-//MiddleTNCycling - ECPv6.15.20//NONSGML v1.0//EN
CALSCALE:GREGORIAN
METHOD:PUBLISH
X-WR-CALNAME:MiddleTNCycling
X-ORIGINAL-URL:https://middletncycling.com
X-WR-CALDESC:Events for MiddleTNCycling
REFRESH-INTERVAL;VALUE=DURATION:PT1H
X-Robots-Tag:noindex
X-PUBLISHED-TTL:PT1H
BEGIN:VTIMEZONE
TZID:America/Chicago
BEGIN:DAYLIGHT
TZOFFSETFROM:-0600
TZOFFSETTO:-0500
TZNAME:CDT
DTSTART:20230312T080000
END:DAYLIGHT
BEGIN:STANDARD
TZOFFSETFROM:-0500
TZOFFSETTO:-0600
TZNAME:CST
DTSTART:20231105T070000
END:STANDARD
BEGIN:DAYLIGHT
TZOFFSETFROM:-0600
TZOFFSETTO:-0500
TZNAME:CDT
DTSTART:20240310T080000
END:DAYLIGHT
BEGIN:STANDARD
TZOFFSETFROM:-0500
TZOFFSETTO:-0600
TZNAME:CST
DTSTART:20241103T070000
END:STANDARD
BEGIN:DAYLIGHT
TZOFFSETFROM:-0600
TZOFFSETTO:-0500
TZNAME:CDT
DTSTART:20250309T080000
END:DAYLIGHT
BEGIN:STANDARD
TZOFFSETFROM:-0500
TZOFFSETTO:-0600
TZNAME:CST
DTSTART:20251102T070000
END:STANDARD
END:VTIMEZONE
BEGIN:VEVENT
DTSTART;TZID=America/Chicago:20240406T100000
DTEND;TZID=America/Chicago:20240406T130000
DTSTAMP:20260424T042343
CREATED:20240111T210143Z
LAST-MODIFIED:20240130T023744Z
UID:2764-1712397600-1712408400@middletncycling.com
SUMMARY:30 Days of Biking Kick-off for 2024
DESCRIPTION:Hooray for 30 Days of Biking! \nA Bike Fun group ride to celebrate the start of 30 Days of Biking! The ride will roll for about 10-15 miles on the Cumberland River Greenway and in Germantown and is casual paced\, no drop. We’ll split into 2 speed groups to make rolling more efficient! \nAll ages welcomed \nWant to bring your kids? We’ll have a turnaround spot for young riders at about 3 1/2 miles in. \nSchedule of events\nWe will head to the Library Café on Taylor Street in Germantown for a mid-ride coffee stop. (A small drip coffee or tea is on us\, but feel free to order snacks or other drinks on your own.) \nMeet up at the Ted Rhodes golf course clubhouse parking lot starting around noon. We will roll out by 10:30a. If you need to borrow a bicycle\, there is a BCycle station nearby or Bike Fun can provide one for you with ample advance notice (get in contact here). \nWhere: Ted Rhodes golf course parking lot\nWhen: Saturday\, April 6th\, 10a meet – 10:30a roll\nHow far: 10-15 miles round trip\, with a conversation stop in the middle. Brief pause at turnaround spot at 3 1/2 miles for young riders\nWho: Any rider who wants to make new bike friends and enjoy a casual\, no drop roll along the river and on neighborhood streets. \nTHIS EVENT IS RAIN OR SHINE (but not if heavy rain or lightning)
URL:https://middletncycling.com/event/30-days-of-biking-kick-off-for-2024/
LOCATION:Ted Rhodes Golf Course\, 1901 Ed Temple Blvd\, Nashville\, TN\, 37208\, United States
CATEGORIES:Group Ride,No Drop Ride
ORGANIZER;CN="Bike Fun":MAILTO:kj@nashvillebikefun.org
END:VEVENT
END:VCALENDAR