BEGIN:VCALENDAR
VERSION:2.0
PRODID:-//MiddleTNCycling - ECPv6.15.20//NONSGML v1.0//EN
CALSCALE:GREGORIAN
METHOD:PUBLISH
X-WR-CALNAME:MiddleTNCycling
X-ORIGINAL-URL:https://middletncycling.com
X-WR-CALDESC:Events for MiddleTNCycling
REFRESH-INTERVAL;VALUE=DURATION:PT1H
X-Robots-Tag:noindex
X-PUBLISHED-TTL:PT1H
BEGIN:VTIMEZONE
TZID:America/Chicago
BEGIN:DAYLIGHT
TZOFFSETFROM:-0600
TZOFFSETTO:-0500
TZNAME:CDT
DTSTART:20230312T080000
END:DAYLIGHT
BEGIN:STANDARD
TZOFFSETFROM:-0500
TZOFFSETTO:-0600
TZNAME:CST
DTSTART:20231105T070000
END:STANDARD
BEGIN:DAYLIGHT
TZOFFSETFROM:-0600
TZOFFSETTO:-0500
TZNAME:CDT
DTSTART:20240310T080000
END:DAYLIGHT
BEGIN:STANDARD
TZOFFSETFROM:-0500
TZOFFSETTO:-0600
TZNAME:CST
DTSTART:20241103T070000
END:STANDARD
BEGIN:DAYLIGHT
TZOFFSETFROM:-0600
TZOFFSETTO:-0500
TZNAME:CDT
DTSTART:20250309T080000
END:DAYLIGHT
BEGIN:STANDARD
TZOFFSETFROM:-0500
TZOFFSETTO:-0600
TZNAME:CST
DTSTART:20251102T070000
END:STANDARD
BEGIN:DAYLIGHT
TZOFFSETFROM:-0600
TZOFFSETTO:-0500
TZNAME:CDT
DTSTART:20260308T080000
END:DAYLIGHT
BEGIN:STANDARD
TZOFFSETFROM:-0500
TZOFFSETTO:-0600
TZNAME:CST
DTSTART:20261101T070000
END:STANDARD
END:VTIMEZONE
BEGIN:VEVENT
DTSTART;TZID=America/Chicago:20250202T093000
DTEND;TZID=America/Chicago:20250202T120000
DTSTAMP:20260423T190546
CREATED:20250224T202924Z
LAST-MODIFIED:20250224T204944Z
UID:36716-1738488600-1738497600@middletncycling.com
SUMMARY:Pappy's Market Road Ride
DESCRIPTION:9:30am Roll Out from Ride615 Cedar Hill\n39 miles\, chill pace (17ish)\, 2\,500 ft of climbing\, & A CARTLOAD OF FUN!!! \nFor more information please visit Nashville Group Rides on Strava.  Cancellations\, time changes\, etc. will be shared there.
URL:https://middletncycling.com/event/pappys-market-road-ride-2/
LOCATION:Ride615 Bicycle Shop – Cedar Hill\, 3940 Dickerson Pike\, Nashville\, 37207\, United States
CATEGORIES:Group Ride,No Drop Ride
END:VEVENT
BEGIN:VEVENT
DTSTART;TZID=America/Chicago:20250401T180000
DTEND;TZID=America/Chicago:20250401T193000
DTSTAMP:20260423T190546
CREATED:20250312T203301Z
LAST-MODIFIED:20250312T203301Z
UID:37913-1743530400-1743535800@middletncycling.com
SUMMARY:SABCo Tuesday Night Ride - 2025
DESCRIPTION:Welcome to SABCo’s Tuesday Night Ride! This club ride meets every Tuesday at 6:00 for the extent of the season and features A (drop ride at 20+ mph) and B (no-drop ride at 16 mph) groups. \nRide starts promptly at 6:00\, with a safety meeting and announcements starting at 5:50.  Many of us are friends with Shelby Ave Bicycle Company\, but this club ride is not commercially or legally affiliated with the bike shop. \nPlease join the Strava Club for updates on inclement weather and any changes in details.
URL:https://middletncycling.com/event/sabco-tuesday-night-ride-2025/
LOCATION:Shelby Ave Bike Company\, 1629 Shelby Ave\, Nashville\, TN\, 37206\, United States
CATEGORIES:Drop Ride,Group Ride,No Drop Ride
ATTACH;FMTTYPE=image/jpeg:https://middletncycling.com/wp-content/uploads/2024/04/large.jpg
END:VEVENT
BEGIN:VEVENT
DTSTART;TZID=America/Chicago:20250314T180000
DTEND;TZID=America/Chicago:20250314T200000
DTSTAMP:20260423T190546
CREATED:20250314T152213Z
LAST-MODIFIED:20250314T152213Z
UID:38135-1741975200-1741982400@middletncycling.com
SUMMARY:Music City Dope Pedalers
DESCRIPTION:Follow Music City Dope Pedalers on Instagram for updates.
URL:https://middletncycling.com/event/music-city-dope-pedalers-5/
LOCATION:Frankie Pierce Park\, 130 Josephine Holloway Ave\, Nashville\, TN\, 37203
CATEGORIES:Group Ride,No Drop Ride
ATTACH;FMTTYPE=image/png:https://middletncycling.com/wp-content/uploads/2025/03/dopepedalers25.png
END:VEVENT
BEGIN:VEVENT
DTSTART;TZID=America/Chicago:20250201T080000
DTEND;TZID=America/Chicago:20250201T110000
DTSTAMP:20260423T190546
CREATED:20250224T202458Z
LAST-MODIFIED:20250224T204835Z
UID:36711-1738396800-1738407600@middletncycling.com
SUMMARY:Saturday Morning Spice Ride
DESCRIPTION:A group road ride of varying lengths with “spice zones” for hard efforts. 40 to 70 miles. Often two groups\, one with 17mph avg and the other with 20mph avg. \nFor more information\, please visit Nashville Group Ride on Strava.  Cancellations\, time changes\, etc. will be shared there.
URL:https://middletncycling.com/event/saturday-morning-spice-ride-2/
LOCATION:Ride615 Bicycle Shop – Cedar Hill\, 3940 Dickerson Pike\, Nashville\, 37207\, United States
CATEGORIES:Drop Ride,Group Ride,No Drop Ride
END:VEVENT
BEGIN:VEVENT
DTSTART;TZID=America/Chicago:20250202T093000
DTEND;TZID=America/Chicago:20250202T120000
DTSTAMP:20260423T190546
CREATED:20250224T202924Z
LAST-MODIFIED:20250224T204944Z
UID:36716-1738488600-1738497600@middletncycling.com
SUMMARY:Pappy's Market Road Ride
DESCRIPTION:9:30am Roll Out from Ride615 Cedar Hill\n39 miles\, chill pace (17ish)\, 2\,500 ft of climbing\, & A CARTLOAD OF FUN!!! \nFor more information please visit Nashville Group Rides on Strava.  Cancellations\, time changes\, etc. will be shared there.
URL:https://middletncycling.com/event/pappys-market-road-ride-2/
LOCATION:Ride615 Bicycle Shop – Cedar Hill\, 3940 Dickerson Pike\, Nashville\, 37207\, United States
CATEGORIES:Group Ride,No Drop Ride
END:VEVENT
BEGIN:VEVENT
DTSTART;TZID=America/Chicago:20250401T180000
DTEND;TZID=America/Chicago:20250401T193000
DTSTAMP:20260423T190546
CREATED:20250312T203301Z
LAST-MODIFIED:20250312T203301Z
UID:37913-1743530400-1743535800@middletncycling.com
SUMMARY:SABCo Tuesday Night Ride - 2025
DESCRIPTION:Welcome to SABCo’s Tuesday Night Ride! This club ride meets every Tuesday at 6:00 for the extent of the season and features A (drop ride at 20+ mph) and B (no-drop ride at 16 mph) groups. \nRide starts promptly at 6:00\, with a safety meeting and announcements starting at 5:50.  Many of us are friends with Shelby Ave Bicycle Company\, but this club ride is not commercially or legally affiliated with the bike shop. \nPlease join the Strava Club for updates on inclement weather and any changes in details.
URL:https://middletncycling.com/event/sabco-tuesday-night-ride-2025/
LOCATION:Shelby Ave Bike Company\, 1629 Shelby Ave\, Nashville\, TN\, 37206\, United States
CATEGORIES:Drop Ride,Group Ride,No Drop Ride
ATTACH;FMTTYPE=image/jpeg:https://middletncycling.com/wp-content/uploads/2024/04/large.jpg
END:VEVENT
BEGIN:VEVENT
DTSTART;TZID=America/Chicago:20250314T180000
DTEND;TZID=America/Chicago:20250314T200000
DTSTAMP:20260423T190546
CREATED:20250314T152213Z
LAST-MODIFIED:20250314T152213Z
UID:38135-1741975200-1741982400@middletncycling.com
SUMMARY:Music City Dope Pedalers
DESCRIPTION:Follow Music City Dope Pedalers on Instagram for updates.
URL:https://middletncycling.com/event/music-city-dope-pedalers-5/
LOCATION:Frankie Pierce Park\, 130 Josephine Holloway Ave\, Nashville\, TN\, 37203
CATEGORIES:Group Ride,No Drop Ride
ATTACH;FMTTYPE=image/png:https://middletncycling.com/wp-content/uploads/2025/03/dopepedalers25.png
END:VEVENT
BEGIN:VEVENT
DTSTART;TZID=America/Chicago:20250614T073000
DTEND;TZID=America/Chicago:20250614T110000
DTSTAMP:20260423T190546
CREATED:20250314T151633Z
LAST-MODIFIED:20250314T151633Z
UID:38130-1749886200-1749898800@middletncycling.com
SUMMARY:2025 Juneteenth Freedom Day Ride
DESCRIPTION:Come ride with us for the Juneteenth Freedom Day bike ride on Saturday June 14th. Riders will meet at Frankie Pierce Park at 7:00 am and the rides start at 7:30 am! The organizations involved in this year’s event are Bike For Equality\, Black Girls Do Bike\, Oasis Bike Works\, Walk Bike Nashville\, Music City Dope Pedalers and Nashville Black Wellness Collective. There will be a 25 mile self guided/marked route and a 10 mile group/family ride led by the Music City Dope Pedalers. \nRegistration is $35.00 and $7.82 in Evenbrite taxes and fees. Each registration comes with a ride pin and number and an event T-shirt. You will pick up your T-shirt\, ride pins and all information the day of the ride at Frankie Pierce Park during check-in; starting at 7:00 am. (But we are exploring options to pick up your rider packet the day before. Stay tuned) \nThere will be raffles and giveaways at the event and snacks and water along the ride. (Refunds are available up until 7 days before the event). Register for this amazing event\, you don’t want to miss out! The Juneteenth ride will happen rain or shine!
URL:https://middletncycling.com/event/2025-juneteenth-freedom-day-ride/
LOCATION:Frankie Pierce Park\, 130 Josephine Holloway Ave\, Nashville\, TN\, 37203
CATEGORIES:Fundraiser,Group Ride,No Drop Ride
ATTACH;FMTTYPE=image/png:https://middletncycling.com/wp-content/uploads/2025/03/juneteenth2025.png
ORGANIZER;CN="Bike For Equality":MAILTO:bikeforequalityteam@gmail.com
END:VEVENT
BEGIN:VEVENT
DTSTART;TZID=America/Chicago:20250201T080000
DTEND;TZID=America/Chicago:20250201T110000
DTSTAMP:20260423T190546
CREATED:20250224T202458Z
LAST-MODIFIED:20250224T204835Z
UID:36711-1738396800-1738407600@middletncycling.com
SUMMARY:Saturday Morning Spice Ride
DESCRIPTION:A group road ride of varying lengths with “spice zones” for hard efforts. 40 to 70 miles. Often two groups\, one with 17mph avg and the other with 20mph avg. \nFor more information\, please visit Nashville Group Ride on Strava.  Cancellations\, time changes\, etc. will be shared there.
URL:https://middletncycling.com/event/saturday-morning-spice-ride-2/
LOCATION:Ride615 Bicycle Shop – Cedar Hill\, 3940 Dickerson Pike\, Nashville\, 37207\, United States
CATEGORIES:Drop Ride,Group Ride,No Drop Ride
END:VEVENT
BEGIN:VEVENT
DTSTART;TZID=America/Chicago:20250202T093000
DTEND;TZID=America/Chicago:20250202T120000
DTSTAMP:20260423T190546
CREATED:20250224T202924Z
LAST-MODIFIED:20250224T204944Z
UID:36716-1738488600-1738497600@middletncycling.com
SUMMARY:Pappy's Market Road Ride
DESCRIPTION:9:30am Roll Out from Ride615 Cedar Hill\n39 miles\, chill pace (17ish)\, 2\,500 ft of climbing\, & A CARTLOAD OF FUN!!! \nFor more information please visit Nashville Group Rides on Strava.  Cancellations\, time changes\, etc. will be shared there.
URL:https://middletncycling.com/event/pappys-market-road-ride-2/
LOCATION:Ride615 Bicycle Shop – Cedar Hill\, 3940 Dickerson Pike\, Nashville\, 37207\, United States
CATEGORIES:Group Ride,No Drop Ride
END:VEVENT
BEGIN:VEVENT
DTSTART;TZID=America/Chicago:20250615T130000
DTEND;TZID=America/Chicago:20250615T143000
DTSTAMP:20260423T190546
CREATED:20250612T205452Z
LAST-MODIFIED:20250612T205453Z
UID:41449-1749992400-1749997800@middletncycling.com
SUMMARY:Critical Mass - Open Streets
DESCRIPTION:This summer\, we’re hitting the streets together for a Critical Mass Bike Ride during Walk Bike Nashville’s Open Streets Summer Series — and we want you to ride with us! \n📅 Ride Dates: June 15\, July 20\, & August 17\n🕐 Roll Out: 1:00 PM\n📍 Start Location: Frankie Pierce Park \nWe’ll take one lap of the Open Streets loop at a slow\, party pace — perfect for all ages\, all bikes\, and all vibes. No registration\, no cost — just good energy\, great company\, and a whole lot of pedal power. \nWe ride to celebrate community\, promote bike visibility\, and reclaim the streets for people-powered movement. Whether you’re a seasoned cyclist or just love a good group ride\, you’re invited to roll with us. \nBe a friend\, tell a friend!
URL:https://middletncycling.com/event/critical-mass-open-streets-2/
LOCATION:Frankie Pierce Park\, 130 Josephine Holloway Ave\, Nashville\, TN\, 37203
CATEGORIES:Critical Mass,Group Ride,No Drop Ride,Open Streets
ATTACH;FMTTYPE=image/png:https://middletncycling.com/wp-content/uploads/2025/06/criticalmassopenstreets_sm.png
ORGANIZER;CN="MiddleTNCycling.com":MAILTO:charlie@middletncycling.com
END:VEVENT
BEGIN:VEVENT
DTSTART;TZID=America/Chicago:20250617T173000
DTEND;TZID=America/Chicago:20250617T203000
DTSTAMP:20260423T190546
CREATED:20250617T121007Z
LAST-MODIFIED:20250617T121020Z
UID:41767-1750181400-1750192200@middletncycling.com
SUMMARY:TDCC Tuesday Club Ride
DESCRIPTION:
URL:https://middletncycling.com/event/tdcc-tuesday-club-ride/
CATEGORIES:Group Ride,No Drop Ride
ATTACH;FMTTYPE=image/jpeg:https://middletncycling.com/wp-content/uploads/2025/06/1024x576-hjf1tq.jpg
END:VEVENT
BEGIN:VEVENT
DTSTART;TZID=America/Chicago:20250401T180000
DTEND;TZID=America/Chicago:20250401T193000
DTSTAMP:20260423T190546
CREATED:20250312T203301Z
LAST-MODIFIED:20250312T203301Z
UID:37913-1743530400-1743535800@middletncycling.com
SUMMARY:SABCo Tuesday Night Ride - 2025
DESCRIPTION:Welcome to SABCo’s Tuesday Night Ride! This club ride meets every Tuesday at 6:00 for the extent of the season and features A (drop ride at 20+ mph) and B (no-drop ride at 16 mph) groups. \nRide starts promptly at 6:00\, with a safety meeting and announcements starting at 5:50.  Many of us are friends with Shelby Ave Bicycle Company\, but this club ride is not commercially or legally affiliated with the bike shop. \nPlease join the Strava Club for updates on inclement weather and any changes in details.
URL:https://middletncycling.com/event/sabco-tuesday-night-ride-2025/
LOCATION:Shelby Ave Bike Company\, 1629 Shelby Ave\, Nashville\, TN\, 37206\, United States
CATEGORIES:Drop Ride,Group Ride,No Drop Ride
ATTACH;FMTTYPE=image/jpeg:https://middletncycling.com/wp-content/uploads/2024/04/large.jpg
END:VEVENT
BEGIN:VEVENT
DTSTART;TZID=America/Chicago:20250619T173000
DTEND;TZID=America/Chicago:20250619T203000
DTSTAMP:20260423T190546
CREATED:20250617T121021Z
LAST-MODIFIED:20250619T121317Z
UID:41770-1750354200-1750365000@middletncycling.com
SUMMARY:TDCC Thursday Club Ride
DESCRIPTION:
URL:https://middletncycling.com/event/tdcc-thursday-club-ride/
CATEGORIES:Group Ride,No Drop Ride
ATTACH;FMTTYPE=image/jpeg:https://middletncycling.com/wp-content/uploads/2024/05/1024x576-Etw5KJ.tmp_.jpg
END:VEVENT
BEGIN:VEVENT
DTSTART;TZID=America/Chicago:20240516T190000
DTEND;TZID=America/Chicago:20240516T220000
DTSTAMP:20260423T190546
CREATED:20240428T235044Z
LAST-MODIFIED:20250105T220514Z
UID:4175-1715886000-1715896800@middletncycling.com
SUMMARY:Next Thirdsday
DESCRIPTION:Next Thirdsday is a monthly social ride that meets on the 3rd Thursday of each month. Meet up at the Dragon in Dragon Park between 7 and 7:30pm. Roll-out at 7:35! We change it up each month with a different semi-predetermined 15-20 mile loop. Expect one or two outdoor stops along the way. Bring a friend or make some new ones! \nBe prepared to \n\nRide bikes in the dark ( bring lights )\nGo someplace new\nGet a flat tire\nEnjoy a cold refreshing beverage or snack of choice\nHave a good time!
URL:https://middletncycling.com/event/next-thirdsday/
LOCATION:Dragon Park\, 2400 Blakemore Ave\, Nashville\, 37212
CATEGORIES:Group Ride,No Drop Ride
ATTACH;FMTTYPE=image/jpeg:https://middletncycling.com/wp-content/uploads/2024/04/sticker-Made-with-PosterMyWall.jpg
END:VEVENT
BEGIN:VEVENT
DTSTART;TZID=America/Chicago:20250314T180000
DTEND;TZID=America/Chicago:20250314T200000
DTSTAMP:20260423T190546
CREATED:20250314T152213Z
LAST-MODIFIED:20250314T152213Z
UID:38135-1741975200-1741982400@middletncycling.com
SUMMARY:Music City Dope Pedalers
DESCRIPTION:Follow Music City Dope Pedalers on Instagram for updates.
URL:https://middletncycling.com/event/music-city-dope-pedalers-5/
LOCATION:Frankie Pierce Park\, 130 Josephine Holloway Ave\, Nashville\, TN\, 37203
CATEGORIES:Group Ride,No Drop Ride
ATTACH;FMTTYPE=image/png:https://middletncycling.com/wp-content/uploads/2025/03/dopepedalers25.png
END:VEVENT
BEGIN:VEVENT
DTSTART;TZID=America/Chicago:20250201T080000
DTEND;TZID=America/Chicago:20250201T110000
DTSTAMP:20260423T190546
CREATED:20250224T202458Z
LAST-MODIFIED:20250224T204835Z
UID:36711-1738396800-1738407600@middletncycling.com
SUMMARY:Saturday Morning Spice Ride
DESCRIPTION:A group road ride of varying lengths with “spice zones” for hard efforts. 40 to 70 miles. Often two groups\, one with 17mph avg and the other with 20mph avg. \nFor more information\, please visit Nashville Group Ride on Strava.  Cancellations\, time changes\, etc. will be shared there.
URL:https://middletncycling.com/event/saturday-morning-spice-ride-2/
LOCATION:Ride615 Bicycle Shop – Cedar Hill\, 3940 Dickerson Pike\, Nashville\, 37207\, United States
CATEGORIES:Drop Ride,Group Ride,No Drop Ride
END:VEVENT
BEGIN:VEVENT
DTSTART;TZID=America/Chicago:20250202T093000
DTEND;TZID=America/Chicago:20250202T120000
DTSTAMP:20260423T190546
CREATED:20250224T202924Z
LAST-MODIFIED:20250224T204944Z
UID:36716-1738488600-1738497600@middletncycling.com
SUMMARY:Pappy's Market Road Ride
DESCRIPTION:9:30am Roll Out from Ride615 Cedar Hill\n39 miles\, chill pace (17ish)\, 2\,500 ft of climbing\, & A CARTLOAD OF FUN!!! \nFor more information please visit Nashville Group Rides on Strava.  Cancellations\, time changes\, etc. will be shared there.
URL:https://middletncycling.com/event/pappys-market-road-ride-2/
LOCATION:Ride615 Bicycle Shop – Cedar Hill\, 3940 Dickerson Pike\, Nashville\, 37207\, United States
CATEGORIES:Group Ride,No Drop Ride
END:VEVENT
BEGIN:VEVENT
DTSTART;TZID=America/Chicago:20250624T173000
DTEND;TZID=America/Chicago:20250624T203000
DTSTAMP:20260423T190546
CREATED:20250617T121026Z
LAST-MODIFIED:20250624T124322Z
UID:41772-1750786200-1750797000@middletncycling.com
SUMMARY:TDCC Tuesday Club Ride
DESCRIPTION:
URL:https://middletncycling.com/event/tdcc-tuesday-club-ride-2/
CATEGORIES:Group Ride,No Drop Ride
ATTACH;FMTTYPE=image/jpeg:https://middletncycling.com/wp-content/uploads/2025/06/1024x576-hjf1tq.jpg
END:VEVENT
BEGIN:VEVENT
DTSTART;TZID=America/Chicago:20250401T180000
DTEND;TZID=America/Chicago:20250401T193000
DTSTAMP:20260423T190546
CREATED:20250312T203301Z
LAST-MODIFIED:20250312T203301Z
UID:37913-1743530400-1743535800@middletncycling.com
SUMMARY:SABCo Tuesday Night Ride - 2025
DESCRIPTION:Welcome to SABCo’s Tuesday Night Ride! This club ride meets every Tuesday at 6:00 for the extent of the season and features A (drop ride at 20+ mph) and B (no-drop ride at 16 mph) groups. \nRide starts promptly at 6:00\, with a safety meeting and announcements starting at 5:50.  Many of us are friends with Shelby Ave Bicycle Company\, but this club ride is not commercially or legally affiliated with the bike shop. \nPlease join the Strava Club for updates on inclement weather and any changes in details.
URL:https://middletncycling.com/event/sabco-tuesday-night-ride-2025/
LOCATION:Shelby Ave Bike Company\, 1629 Shelby Ave\, Nashville\, TN\, 37206\, United States
CATEGORIES:Drop Ride,Group Ride,No Drop Ride
ATTACH;FMTTYPE=image/jpeg:https://middletncycling.com/wp-content/uploads/2024/04/large.jpg
END:VEVENT
BEGIN:VEVENT
DTSTART;TZID=America/Chicago:20250626T173000
DTEND;TZID=America/Chicago:20250626T203000
DTSTAMP:20260423T190546
CREATED:20250617T121055Z
LAST-MODIFIED:20250626T125856Z
UID:41774-1750959000-1750969800@middletncycling.com
SUMMARY:TDCC Thursday Club Ride
DESCRIPTION:
URL:https://middletncycling.com/event/tdcc-thursday-club-ride-2/
CATEGORIES:Group Ride,No Drop Ride
ATTACH;FMTTYPE=image/jpeg:https://middletncycling.com/wp-content/uploads/2024/05/1024x576-Etw5KJ.tmp_.jpg
END:VEVENT
BEGIN:VEVENT
DTSTART;TZID=America/Chicago:20250626T180000
DTEND;TZID=America/Chicago:20250626T200000
DTSTAMP:20260423T190546
CREATED:20250617T154248Z
LAST-MODIFIED:20250617T154248Z
UID:41821-1750960800-1750968000@middletncycling.com
SUMMARY:Nashville Critical Mass
DESCRIPTION:Join the community as we bring back Nashville Critical Mass! \nCritical Mass events highlight the numbers of people who want to use their bicycle on the streets\, but are usually unable to do so without risking their safety. They are a call to action to councils\, governments and road planners to properly and thoughtfully design in the safety of all road users\, including those who would prefer to walk and cycle\, instead of prioritising motor traffic above all else.
URL:https://middletncycling.com/event/nashville-critical-mass-2/
LOCATION:Morgan Park\, 411 Hume St\, Nashville\, 37208\, United States
CATEGORIES:Critical Mass,Group Ride,No Drop Ride
ATTACH;FMTTYPE=image/webp:https://middletncycling.com/wp-content/uploads/2025/06/criticalmass.webp
END:VEVENT
BEGIN:VEVENT
DTSTART;TZID=America/Chicago:20250314T180000
DTEND;TZID=America/Chicago:20250314T200000
DTSTAMP:20260423T190546
CREATED:20250314T152213Z
LAST-MODIFIED:20250314T152213Z
UID:38135-1741975200-1741982400@middletncycling.com
SUMMARY:Music City Dope Pedalers
DESCRIPTION:Follow Music City Dope Pedalers on Instagram for updates.
URL:https://middletncycling.com/event/music-city-dope-pedalers-5/
LOCATION:Frankie Pierce Park\, 130 Josephine Holloway Ave\, Nashville\, TN\, 37203
CATEGORIES:Group Ride,No Drop Ride
ATTACH;FMTTYPE=image/png:https://middletncycling.com/wp-content/uploads/2025/03/dopepedalers25.png
END:VEVENT
BEGIN:VEVENT
DTSTART;TZID=America/Chicago:20240531T190000
DTEND;TZID=America/Chicago:20240531T223000
DTSTAMP:20260423T190546
CREATED:20240429T001228Z
LAST-MODIFIED:20250105T220412Z
UID:4190-1717182000-1717194600@middletncycling.com
SUMMARY:Final Friday
DESCRIPTION:From the alliterative minds that brought you group rides every Third Thursday\, say hello to Final Friday!!! \nFinal Friday is a monthly social ride that meets on the Final Friday of each month. Meet up at the Dragon in Dragon Park between 7 and 7:30pm. Roll-out at 7:35! We change it up each month with a different semi-predetermined 15-20 mile loop. Expect one or two outdoor stops along the way. Bring a friend or make some new ones! \nBe prepared to \n\nRide bikes in the dark ( bring lights )\nGo someplace new\nGet a flat tire\nEnjoy a cold refreshing beverage or snack of choice\nHave a good time!
URL:https://middletncycling.com/event/final-friday/
LOCATION:Dragon Park\, 2400 Blakemore Ave\, Nashville\, 37212
CATEGORIES:Group Ride,No Drop Ride
ATTACH;FMTTYPE=image/jpeg:https://middletncycling.com/wp-content/uploads/2024/04/IMG_3086.jpg
END:VEVENT
BEGIN:VEVENT
DTSTART;TZID=America/Chicago:20250201T080000
DTEND;TZID=America/Chicago:20250201T110000
DTSTAMP:20260423T190546
CREATED:20250224T202458Z
LAST-MODIFIED:20250224T204835Z
UID:36711-1738396800-1738407600@middletncycling.com
SUMMARY:Saturday Morning Spice Ride
DESCRIPTION:A group road ride of varying lengths with “spice zones” for hard efforts. 40 to 70 miles. Often two groups\, one with 17mph avg and the other with 20mph avg. \nFor more information\, please visit Nashville Group Ride on Strava.  Cancellations\, time changes\, etc. will be shared there.
URL:https://middletncycling.com/event/saturday-morning-spice-ride-2/
LOCATION:Ride615 Bicycle Shop – Cedar Hill\, 3940 Dickerson Pike\, Nashville\, 37207\, United States
CATEGORIES:Drop Ride,Group Ride,No Drop Ride
END:VEVENT
BEGIN:VEVENT
DTSTART;TZID=America/Chicago:20250202T093000
DTEND;TZID=America/Chicago:20250202T120000
DTSTAMP:20260423T190546
CREATED:20250224T202924Z
LAST-MODIFIED:20250224T204944Z
UID:36716-1738488600-1738497600@middletncycling.com
SUMMARY:Pappy's Market Road Ride
DESCRIPTION:9:30am Roll Out from Ride615 Cedar Hill\n39 miles\, chill pace (17ish)\, 2\,500 ft of climbing\, & A CARTLOAD OF FUN!!! \nFor more information please visit Nashville Group Rides on Strava.  Cancellations\, time changes\, etc. will be shared there.
URL:https://middletncycling.com/event/pappys-market-road-ride-2/
LOCATION:Ride615 Bicycle Shop – Cedar Hill\, 3940 Dickerson Pike\, Nashville\, 37207\, United States
CATEGORIES:Group Ride,No Drop Ride
END:VEVENT
END:VCALENDAR