BEGIN:VCALENDAR
VERSION:2.0
PRODID:-//MiddleTNCycling - ECPv6.15.20//NONSGML v1.0//EN
CALSCALE:GREGORIAN
METHOD:PUBLISH
X-ORIGINAL-URL:https://middletncycling.com
X-WR-CALDESC:Events for MiddleTNCycling
REFRESH-INTERVAL;VALUE=DURATION:PT1H
X-Robots-Tag:noindex
X-PUBLISHED-TTL:PT1H
BEGIN:VTIMEZONE
TZID:America/Chicago
BEGIN:DAYLIGHT
TZOFFSETFROM:-0600
TZOFFSETTO:-0500
TZNAME:CDT
DTSTART:20230312T080000
END:DAYLIGHT
BEGIN:STANDARD
TZOFFSETFROM:-0500
TZOFFSETTO:-0600
TZNAME:CST
DTSTART:20231105T070000
END:STANDARD
BEGIN:DAYLIGHT
TZOFFSETFROM:-0600
TZOFFSETTO:-0500
TZNAME:CDT
DTSTART:20240310T080000
END:DAYLIGHT
BEGIN:STANDARD
TZOFFSETFROM:-0500
TZOFFSETTO:-0600
TZNAME:CST
DTSTART:20241103T070000
END:STANDARD
BEGIN:DAYLIGHT
TZOFFSETFROM:-0600
TZOFFSETTO:-0500
TZNAME:CDT
DTSTART:20250309T080000
END:DAYLIGHT
BEGIN:STANDARD
TZOFFSETFROM:-0500
TZOFFSETTO:-0600
TZNAME:CST
DTSTART:20251102T070000
END:STANDARD
END:VTIMEZONE
BEGIN:VEVENT
DTSTART;TZID=America/Chicago:20240120T150000
DTEND;TZID=America/Chicago:20240120T163000
DTSTAMP:20260424T191547
CREATED:20240117T233628Z
LAST-MODIFIED:20240118T214453Z
UID:2846-1705762800-1705768200@middletncycling.com
SUMMARY:Gaza Sunbirds Solidarity Ride
DESCRIPTION:We were joined by 64 other cities on January 6th in riding to show support for Gaza. Join us again (and others across the globe) this Saturday\, January 20th! \nMeet at Frankie Pierce Park\, roll out at 3:00. Enjoy a no-drop ride around town raising awareness for the work of Gaza Sunbirds.
URL:https://middletncycling.com/event/gaza-sunbirds-solidarity-ride/
LOCATION:Frankie Pierce Park\, 130 Josephine Holloway Ave\, Nashville\, TN\, 37203
CATEGORIES:Group Ride,No Drop Ride
ORGANIZER;CN="Tyler The Bike Guy":MAILTO:tylerthebikeguy@gmail.com
END:VEVENT
END:VCALENDAR