BEGIN:VCALENDAR
VERSION:2.0
PRODID:-//MiddleTNCycling - ECPv6.15.20//NONSGML v1.0//EN
CALSCALE:GREGORIAN
METHOD:PUBLISH
X-ORIGINAL-URL:https://middletncycling.com
X-WR-CALDESC:Events for MiddleTNCycling
REFRESH-INTERVAL;VALUE=DURATION:PT1H
X-Robots-Tag:noindex
X-PUBLISHED-TTL:PT1H
BEGIN:VTIMEZONE
TZID:America/Chicago
BEGIN:DAYLIGHT
TZOFFSETFROM:-0600
TZOFFSETTO:-0500
TZNAME:CDT
DTSTART:20230312T080000
END:DAYLIGHT
BEGIN:STANDARD
TZOFFSETFROM:-0500
TZOFFSETTO:-0600
TZNAME:CST
DTSTART:20231105T070000
END:STANDARD
BEGIN:DAYLIGHT
TZOFFSETFROM:-0600
TZOFFSETTO:-0500
TZNAME:CDT
DTSTART:20240310T080000
END:DAYLIGHT
BEGIN:STANDARD
TZOFFSETFROM:-0500
TZOFFSETTO:-0600
TZNAME:CST
DTSTART:20241103T070000
END:STANDARD
BEGIN:DAYLIGHT
TZOFFSETFROM:-0600
TZOFFSETTO:-0500
TZNAME:CDT
DTSTART:20250309T080000
END:DAYLIGHT
BEGIN:STANDARD
TZOFFSETFROM:-0500
TZOFFSETTO:-0600
TZNAME:CST
DTSTART:20251102T070000
END:STANDARD
BEGIN:DAYLIGHT
TZOFFSETFROM:-0600
TZOFFSETTO:-0500
TZNAME:CDT
DTSTART:20260308T080000
END:DAYLIGHT
BEGIN:STANDARD
TZOFFSETFROM:-0500
TZOFFSETTO:-0600
TZNAME:CST
DTSTART:20261101T070000
END:STANDARD
END:VTIMEZONE
BEGIN:VEVENT
DTSTART;TZID=America/Chicago:20250614T070000
DTEND;TZID=America/Chicago:20250614T130000
DTSTAMP:20260424T021724
CREATED:20250601T135005Z
LAST-MODIFIED:20250601T135041Z
UID:41289-1749884400-1749906000@middletncycling.com
SUMMARY:The Milligan 2025
DESCRIPTION:The Big Hill Challenge is now The Milligan. Join us in remembering Alyssa’s contagious smile and passion for cycling.  \nTen miles south of Mt. Juliet\, Tennessee\, the Gladeville community provides the perfect setting to gather before and after the ride. The routes combine breathtaking scenery and challenging terrain for an unforgettable cycling adventure. \nCyclists of all abilities who want challenges\, or just a good day on the bike have two routes to choose from for memorable climbs and breathtaking descents punctuated with hills\, valleys and roads off the beaten path. \nRoutes are supported with Road Marshals\, SAG vehicles\, and radio communication to keep you on course and safe. Rest stops are stocked with plentiful restorative food and hydration. Mechanical support is available at the start and at each rest stop.
URL:https://middletncycling.com/event/the-milligan/
LOCATION:Gladeville Community Center\, 95 McCrary Road\, Gladeville\, 37090\, United States
CATEGORIES:Fondo,Fundraiser,Memorial
ATTACH;FMTTYPE=image/webp:https://middletncycling.com/wp-content/uploads/2025/06/milligan.webp
END:VEVENT
BEGIN:VEVENT
DTSTART;TZID=America/Chicago:20250222T120000
DTEND;TZID=America/Chicago:20250222T140000
DTSTAMP:20260424T021724
CREATED:20250115T225420Z
LAST-MODIFIED:20250115T225420Z
UID:35427-1740225600-1740232800@middletncycling.com
SUMMARY:Walk Bike Nashville 8th Annual Pedestrian Memorial
DESCRIPTION:Walk Bike Nashville’s 8th annual Pedestrian Memorial will be held at Trinity Community Commons on Saturday\, February 22nd in partnership with Families For Safe Streets Tennessee. The memorial honors parents\, children\, family\, friends\, and neighbors killed while walking and biking on Nashville’s roads in 2024. More details to follow.
URL:https://middletncycling.com/event/walk-bike-nashville-8th-annual-pedestrian-memorial/
LOCATION:Trinity Community Commons\, 204 East Trinity Lane\, Nashville\, TN\, 37027\, United States
CATEGORIES:Memorial
ATTACH;FMTTYPE=image/webp:https://middletncycling.com/wp-content/uploads/2025/01/pedmemorial.webp
ORGANIZER;CN="Walk Bike Nashville":MAILTO:ashleigh@walkbikenashville.org
END:VEVENT
BEGIN:VEVENT
DTSTART;TZID=America/Chicago:20240824T090000
DTEND;TZID=America/Chicago:20240824T110000
DTSTAMP:20260424T021724
CREATED:20240820T114852Z
LAST-MODIFIED:20240820T114852Z
UID:10198-1724490000-1724497200@middletncycling.com
SUMMARY:Ronald Laird Memorial Ride
DESCRIPTION:A truly inspirational soul has left this world and we would like to acknowledge his contribution to the cycling community. Please join us this Saturday for a tribute to our dear friend Ron. We will share memories\, release balloons\, and have a short ride in his honor. We hope to see you there. 🕊️
URL:https://middletncycling.com/event/ronald-laird-memorial-ride/
LOCATION:Frankie Pierce Park\, 130 Josephine Holloway Ave\, Nashville\, TN\, 37203
CATEGORIES:Group Ride,Memorial
ATTACH;FMTTYPE=image/webp:https://middletncycling.com/wp-content/uploads/2024/08/ronaldlairdmemorialride.webp
END:VEVENT
END:VCALENDAR