BEGIN:VCALENDAR
VERSION:2.0
PRODID:-//MiddleTNCycling - ECPv6.15.20//NONSGML v1.0//EN
CALSCALE:GREGORIAN
METHOD:PUBLISH
X-ORIGINAL-URL:https://middletncycling.com
X-WR-CALDESC:Events for MiddleTNCycling
REFRESH-INTERVAL;VALUE=DURATION:PT1H
X-Robots-Tag:noindex
X-PUBLISHED-TTL:PT1H
BEGIN:VTIMEZONE
TZID:America/Chicago
BEGIN:DAYLIGHT
TZOFFSETFROM:-0600
TZOFFSETTO:-0500
TZNAME:CDT
DTSTART:20230312T080000
END:DAYLIGHT
BEGIN:STANDARD
TZOFFSETFROM:-0500
TZOFFSETTO:-0600
TZNAME:CST
DTSTART:20231105T070000
END:STANDARD
BEGIN:DAYLIGHT
TZOFFSETFROM:-0600
TZOFFSETTO:-0500
TZNAME:CDT
DTSTART:20240310T080000
END:DAYLIGHT
BEGIN:STANDARD
TZOFFSETFROM:-0500
TZOFFSETTO:-0600
TZNAME:CST
DTSTART:20241103T070000
END:STANDARD
BEGIN:DAYLIGHT
TZOFFSETFROM:-0600
TZOFFSETTO:-0500
TZNAME:CDT
DTSTART:20250309T080000
END:DAYLIGHT
BEGIN:STANDARD
TZOFFSETFROM:-0500
TZOFFSETTO:-0600
TZNAME:CST
DTSTART:20251102T070000
END:STANDARD
BEGIN:DAYLIGHT
TZOFFSETFROM:-0600
TZOFFSETTO:-0500
TZNAME:CDT
DTSTART:20260308T080000
END:DAYLIGHT
BEGIN:STANDARD
TZOFFSETFROM:-0500
TZOFFSETTO:-0600
TZNAME:CST
DTSTART:20261101T070000
END:STANDARD
END:VTIMEZONE
BEGIN:VEVENT
DTSTART;TZID=America/Chicago:20250517T070000
DTEND;TZID=America/Chicago:20250517T150000
DTSTAMP:20260423T205134
CREATED:20250312T201701Z
LAST-MODIFIED:20250312T201701Z
UID:37901-1747465200-1747494000@middletncycling.com
SUMMARY:Tour de Nash 2025
DESCRIPTION:Walk Bike Nashville’s 21st Annual Tour de Nash\, presented by LDA Engineering\, will kick-off at 7 a.m.\, Saturday\, May 17\, 2025\, starting and ending by Bicentennial Capitol Mall State Park. As the city’s largest urban bike ride\, this signature event also serves as Walk Bike Nashville’s major fundraiser for the year.  \nTour de Nash is a ride\, not a race\, providing a casual and fun opportunity to explore the city’s bikeways\, neighborhoods\, and greenways with a whole community of friendly bicycle riders. The non-competitive spirit of this event is conducive to a “party-pace”–a leisurely pace that promotes conversation with fellow riders and encourages stops at destinations and rest stops along the way. \nNo matter what your age\, experience level\, or riding style is\, there’s a route for you\, and in 2025 we’ve brought back the FREE family-friendly City tour! Not only is this year’s shortest route free\, it combines fully closed streets with greenway segments to provide a multi-mile\, car-free route for the first time in Tour de Nash history. The Local (25 mi) Tour and Grand (45 mi) Tour offer options for riders looking for a longer ride. All three routes include rest stops with water\, snacks\, bathroom facilities\, and basic bicycle maintenance equipment.
URL:https://middletncycling.com/event/tour-de-nash-2025/
LOCATION:Bicentennial Capitol Mall State Park\, 600 James Robertson Pkwy\, Nashville\, 37243\, United States
CATEGORIES:Festival,Fundraiser,Group Ride,Kids,No Drop Ride,Open Streets
ATTACH;FMTTYPE=image/png:https://middletncycling.com/wp-content/uploads/2025/03/tdn-ticket-site-header_v2-1200.png
ORGANIZER;CN="Walk Bike Nashville":MAILTO:ashleigh@walkbikenashville.org
END:VEVENT
BEGIN:VEVENT
DTSTART;TZID=America/Chicago:20250329T130000
DTEND;TZID=America/Chicago:20250329T150000
DTSTAMP:20260423T205134
CREATED:20250110T173138Z
LAST-MODIFIED:20250329T111817Z
UID:35252-1743253200-1743260400@middletncycling.com
SUMMARY:7 & 8 Year Old Learn to Ride – March 2025
DESCRIPTION:You’re Never Too Old to Learn to Ride!\nThis course is for brand new riders who have either only pedaled on training wheels or who have tried without success to ride without training wheels.\nYou must register to attend – fill out this registration form! Class size limited to 5 students. Registration fee is $20-25. If you need assistance with the fee\, contact us!\nDo you know a 7 or 8 year old who needs some help getting going on two wheels? Then we have something just for you!\nClass Details\nBike Fun is hosting a 7 & 8 Year Old Learn to Ride event. Get your kid started on their bicycling journey!\nThis course is for 7 and 8 year olds who have never pedaled a bicycle before. It covers the following topics: \nGetting onto the bike\nBasic balance\nStarting and stopping\nPedaling\nTurning \nCome learn how to ride in a safe and supportive environment.\nFor our learn to ride classes\, we emphasize exposure\, not expertise. Each human learns at their own pace\, and we work with each student within their own ability.\nAges 7 & 8. Bicycles and helmets can be provided for those who would like to attend\, but don’t have their own bicycle yet. Please bring a water bottle/hydration and a snack! Bike Fun has limited snacks available and will have extra water.\nDate: Saturday\, March 29th\nTime: 1-3 PM\nLocation: Cosecha Community at Woodbine UMC\, Nashville 37211\nQuestions? Contact us for more specifics.
URL:https://middletncycling.com/event/7-8-year-old-learn-to-ride-march-2025/
LOCATION:Cosecha Community\, 2621 Nolensville Pike\, Nashville\, 37211\, United States
CATEGORIES:Class,Kids
ATTACH;FMTTYPE=image/jpeg:https://middletncycling.com/wp-content/uploads/2025/03/learntoride7-8yearolds-dfn2o2.tmp_.jpg
ORGANIZER;CN="Bike Fun":MAILTO:kj@nashvillebikefun.org
END:VEVENT
BEGIN:VEVENT
DTSTART;TZID=America/Chicago:20241027T130000
DTEND;TZID=America/Chicago:20241027T160000
DTSTAMP:20260423T205134
CREATED:20240729T140320Z
LAST-MODIFIED:20241026T121843Z
UID:9701-1730034000-1730044800@middletncycling.com
SUMMARY:All Ages Learn to Ride  – October 2024
DESCRIPTION:Get Rolling on Your Bicycle Journey\nBike Fun is lead teaching a course for EVERYBODY on learning (or relearning) how to ride a bicycle. This course is meant for brand new riders and for potential riders who are anxious about getting back on a bicycle after a long time away. Walk Bike Nashville is sponsoring the course.\nDo you know someone who hasn’t learned to ride a bike but wants to? Do you feel like you could use a refresher after a long\, long time away? Then we have something just for you!\nClass Details\nOn Sunday\, October 27th\, 2024\, Walk Bike Nashville hosts an EVERYBODY Learn to Ride event. Get started on your bike life!\nThis course is for people who have never pedaled a bicycle before or who have been away for decades! It will cover the following topics: \nGetting onto the bike\nBasic balance\nStarting and stopping\nPedaling\nTurning \nCome learn how to ride in a safe and supportive environment.\nThis is a multigenerational\, all ages learn to ride class. We are limited to 25 students or fewer. Bicycles and helmets are provided. If you have your own bicycle\, you may bring it for us to assess for size\, functionality\, etc.\nBring water\, snack\, and wear comfortable clothing.\nThis event is OUTSIDE & WEATHER PENDING. Registrants will receive updates via text & email as needed.\nDate: Sunday\, October 27th\, 2024\nTime: 1p-4p\nRegister: REGISTRATION FORM (available soon) – you must register so we know what size bike to have for you!\nLocation: TBD\nQuestions? Contact KJ for more specifics.
URL:https://middletncycling.com/event/all-ages-learn-to-ride-october-2024/
LOCATION:Bellevue UMC\, 7501 Old Harding Pike\, Nashville\, 37221
CATEGORIES:Class,Kids
ATTACH;FMTTYPE=image/png:https://middletncycling.com/wp-content/uploads/2024/05/wbn-1600px-2021-8rkvsl.tmp_.png
ORGANIZER;CN="Bike Fun":MAILTO:kj@nashvillebikefun.org
END:VEVENT
BEGIN:VEVENT
DTSTART;TZID=America/Chicago:20241005T090000
DTEND;TZID=America/Chicago:20241005T110000
DTSTAMP:20260423T205134
CREATED:20240829T121822Z
LAST-MODIFIED:20241005T094843Z
UID:10489-1728118800-1728126000@middletncycling.com
SUMMARY:7 & 8 Year Old Learn to Ride – October 2024
DESCRIPTION:You’re Never Too Old to Learn to Ride!\nThis course is for brand new riders who have either only pedaled on training wheels or who have tried without success to ride without training wheels.\nYou must register to attend – fill out this registration form! Class size limited to 5 students. Registration fee is $15-25. Income based scholarships available.\nDo you know a 7 or 8 year old who needs some help getting going on two wheels? Then we have something just for you!\nClass Details\nBike Fun is hosting a 7 & 8 Year Old Learn to Ride event. Get your kid started on their bicycling journey!\nThis course is for 7 and 8 year olds who have never pedaled a bicycle before. It covers the following topics: \nGetting onto the bike\nBasic balance\nStarting and stopping\nPedaling\nTurning \nCome learn how to ride in a safe and supportive environment.\nFor our learn to ride classes\, we emphasize exposure\, not expertise. Each human learns at their own pace\, and we work with each student within their own ability.\nAges 7 & 8. Bicycles and helmets can be provided for those who would like to attend\, but don’t have their own bicycle yet. Please bring a water bottle/hydration and a snack! Bike Fun has limited snacks available and will have extra water.\nDate: Saturday\, October 5th\nTime: 9-11 AM\nLocation: Cosecha Community at Woodbine UMC\, Nashville 37211\nQuestions? Contact us for more specifics.
URL:https://middletncycling.com/event/7-8-year-old-learn-to-ride-october-2024/
LOCATION:Cosecha Community\, 2621 Nolensville Pike\, Nashville\, 37211\, United States
CATEGORIES:Class,Kids
ATTACH;FMTTYPE=image/png:https://middletncycling.com/wp-content/uploads/2024/06/learntoride7-8yearolds2022-rayw5c.tmp_.png
ORGANIZER;CN="Bike Fun":MAILTO:kj@nashvillebikefun.org
END:VEVENT
BEGIN:VEVENT
DTSTART;TZID=America/Chicago:20240818T100000
DTEND;TZID=America/Chicago:20240818T130000
DTSTAMP:20260423T205134
CREATED:20240529T094224Z
LAST-MODIFIED:20240818T102610Z
UID:5563-1723975200-1723986000@middletncycling.com
SUMMARY:All Ages Learn to Ride  – August 2024
DESCRIPTION:Get Rolling on Your Bicycle Journey\nBike Fun is lead teaching a course for EVERYBODY on learning (or relearning) how to ride a bicycle. This course is meant for brand new riders and for potential riders who are anxious about getting back on a bicycle after a long time away. Walk Bike Nashville is sponsoring the course.\nDo you know someone who hasn’t learned to ride a bike but wants to? Do you feel like you could use a refresher after a long\, long time away? Then we have something just for you!\nClass Details\nOn Sunday\, August 18th\, 2024\, Walk Bike Nashville hosts an EVERYBODY Learn to Ride event. Get started on your bike life!\nThis course is for people who have never pedaled a bicycle before or who have been away for decades! It will cover the following topics: \nGetting onto the bike\nBasic balance\nStarting and stopping\nPedaling\nTurning \nCome learn how to ride in a safe and supportive environment.\nThis is a multigenerational\, all ages learn to ride class. We are limited to 25 students or fewer. Bicycles and helmets are provided. If you have your own bicycle\, you may bring it for us to assess for size\, functionality\, etc.\nBring water\, snack\, and wear comfortable clothing.\nThis event is OUTSIDE & WEATHER PENDING. Registrants will receive updates via text & email as needed.\nDate: Sunday\, August 18th\, 2024\nTime: 10a-1p\nRegister: REGISTRATION FORM (available soon) – you must register so we know what size bike to have for you!\nLocation: TBD\nQuestions? Contact KJ for more specifics.
URL:https://middletncycling.com/event/all-ages-learn-to-ride-august-2024/
CATEGORIES:Class,Kids
ATTACH;FMTTYPE=image/png:https://middletncycling.com/wp-content/uploads/2024/05/wbn-1600px-2021-8rkvsl.tmp_.png
ORGANIZER;CN="Bike Fun":MAILTO:kj@nashvillebikefun.org
END:VEVENT
BEGIN:VEVENT
DTSTART;TZID=America/Chicago:20240804T160000
DTEND;TZID=America/Chicago:20240804T180000
DTSTAMP:20260423T205134
CREATED:20240701T120355Z
LAST-MODIFIED:20240802T140522Z
UID:8564-1722787200-1722794400@middletncycling.com
SUMMARY:Intermediate Riding Skills for 7 & 8 Year Olds – August 2024
DESCRIPTION:Learn more about bike riding\nThis class is designed for students who are comfortable riding a bike and want to learn about handling skills.\nYou must register to attend – fill out this registration form! Class size is limited to 5 students. Suggested fee $20-25. If you need financial support for this class\, drop us a line. \nGot a 7 or 8 year old who wants to learn more about bicycle handling skills\, signaling\, or riding with friends?\nBike Fun is hosting Intermediate Riding Skills for 7 & 8 Year Olds. Come help us get your kid up to speed on signaling\, weaving\, riding with friends and more!\nGet ready to ride with friends\nThis course is for 7 and 8 year olds who are comfortable riding a bicycle but need to improve their handling skills. It will cover the following topics: \nWeaving in between objects\nMaking hand signals\nLooking out for obstacles/fellow riders \nIncrease riding skills in a safe and supportive environment.\nAges 7 & 8. Bicycles and helmets provided on request. Please bring a water bottle/hydration and a snack! Bike Fun will have limited snacks available.\nDate: Saturday\, July 13th\nTime: 4-6 PM\nLocation: Cosecha Community (Woodbine UMC)\, 37211\nQuestions? Contact Bike Fun for more specifics.
URL:https://middletncycling.com/event/intermediate-riding-skills-for-7-8-year-olds-july-2024/
LOCATION:Cosecha Community\, 2621 Nolensville Pike\, Nashville\, 37211\, United States
CATEGORIES:Class,Kids
ATTACH;FMTTYPE=image/png:https://middletncycling.com/wp-content/uploads/2024/07/intermediateriding7-8yearolds2022-fiv3pi.tmp_.png
ORGANIZER;CN="Bike Fun":MAILTO:kj@nashvillebikefun.org
END:VEVENT
BEGIN:VEVENT
DTSTART;TZID=America/Chicago:20240804T070000
DTEND;TZID=America/Chicago:20240804T090000
DTSTAMP:20260423T205134
CREATED:20240528T145252Z
LAST-MODIFIED:20240528T145536Z
UID:5538-1722754800-1722762000@middletncycling.com
SUMMARY:9th Annual Nolensville Kids Triathlon
DESCRIPTION:Registration is NOW open!  Register here today! \nThe 9th annual Nolensville Kids Triathlon will take place on Sunday\, August 4th from 7:00-9:00 am at  the Williamson County Recreation Complex at Nolensville. \nWe would like to thank our amazing partners: the Town of Nolensville and the Williamson County Parks & Recreation Department for helping us to make this triathlon a huge success! \nPlease “like” us on Facebook to stay up-to-date on event specifics! \nCategories/Distances:\nAges 5-7: 50 yard swim\, 2.5 mile bike\, 0.7 mile run\nAges 8-11: 100 yard swim\, 2.5 mile bike\, 0.7 mile run\nAges 12-15: 150 yard swim\, 5 mile bike\, 1.5 mile run \nThis race is sanctioned by USA Triathlon and as such we follow the standard “age up rule.” The age of the racer is based on their age at the end of the calendar year. \nSafety: The goal for this event is to promote a healthy\, active lifestyle for kids while keeping it FUN\, FUN\, FUN for competitors plus their family and friends. It is the management team’s mission to bring you a safe\, organized event so the fun just falls into place. Safety measures to note: 1) roads closed to traffic\, 2) experienced race management and support staff\, 3) controlled and secured staging area and course connector areas\, 4) race number system to match kids with parents or guardians at any time. \nParticipation: This event is focused on crossing the finish line. Awards go to the top 3 winners of each age and gender 5 to 15\, and ALL racers receive a participation award.  In other words – EVERYONE IS A WINNER. \nFor information about sponsorship opportunities or event specifics\, please contact us at ldennison@dennisonactuarial.com. \nCharity Partner: We are thrilled to announce that our charity partner for this event is Nashville Dolphins. \nNashville Dolphins started in 2003 with the mission to bring the physical and emotional benefits of swimming to people with special needs regardless of age\, ability or financial circumstances.  They provide all programming at no cost to the participant. Profits from NKT will go to Nashville Dolphins to help them to continue to empower children and adults with disabilities.  https://nashvilledolphins.org/
URL:https://middletncycling.com/event/9th-annual-nolensville-kids-triathlon/
LOCATION:Williamson County Rec Complex Nolensville\, 7250 Nolensville Rd\, Nolensville\, 37135\, United States
CATEGORIES:Festival,Kids,Race,Volunteer
ATTACH;FMTTYPE=image/webp:https://middletncycling.com/wp-content/uploads/2024/05/nolensvillekidstriathlon.webp
END:VEVENT
BEGIN:VEVENT
DTSTART;TZID=America/Chicago:20240803T160000
DTEND;TZID=America/Chicago:20240803T180000
DTSTAMP:20260423T205134
CREATED:20240701T120414Z
LAST-MODIFIED:20240802T140519Z
UID:8576-1722700800-1722708000@middletncycling.com
SUMMARY:9 & 10 Year Old Learn to Ride  – August 2024
DESCRIPTION:You’re Never Too Old to Learn to Ride!\nThis course is for brand new riders who have either only pedaled on training wheels or who have tried without success to ride without training wheels.\nYou must register to attend – fill out this registration form! Class size limited to 5 students. Registration fee is $10-20. Income based scholarships available.\nDo you know a 9 or 10 year old who needs some help getting going on two wheels? Then we have something just for you!\nClass Details\nBike Fun is hosting a 9 & 10 Year Old Learn to Ride event. Get your kid started on their bicycling journey!\nThis course is for 9 and 10 year olds who have never pedaled a bicycle before. It covers the following topics: \nGetting onto the bike\nBasic balance\nStarting and stopping\nPedaling\nTurning \nCome learn how to ride in a safe and supportive environment.\nFor our learn to ride classes\, we emphasize exposure\, not expertise. Each human learns at their own pace\, and we work with each student within their own ability.\nAges 9 & 10. Bicycles and helmets can be provided for those who would like to attend\, but don’t have their own bicycle yet. Please bring a water bottle/hydration and a snack! Bike Fun has limited snacks available and will have extra water.\nDate: Saturday\, August 3rd\nTime: 4-6 PM\nLocation: Cosecha Community (Woodbine UMC)\, Nashville 37211\nQuestions? Contact us for more specifics.
URL:https://middletncycling.com/event/9-10-year-old-learn-to-ride-august-2024/
LOCATION:Cosecha Community\, 2621 Nolensville Pike\, Nashville\, 37211\, United States
CATEGORIES:Class,Kids
ATTACH;FMTTYPE=image/png:https://middletncycling.com/wp-content/uploads/2024/05/LearntoRide9-10YearOlds2022-LqoDzr.tmp_.png
ORGANIZER;CN="Bike Fun":MAILTO:kj@nashvillebikefun.org
END:VEVENT
BEGIN:VEVENT
DTSTART;TZID=America/Chicago:20240721T160000
DTEND;TZID=America/Chicago:20240721T180000
DTSTAMP:20260423T205134
CREATED:20240701T120410Z
LAST-MODIFIED:20240721T134911Z
UID:8573-1721577600-1721584800@middletncycling.com
SUMMARY:7 & 8 Year Old Learn to Ride – July 2024
DESCRIPTION:You’re Never Too Old to Learn to Ride!\nThis course is for brand new riders who have either only pedaled on training wheels or who have tried without success to ride without training wheels.\nYou must register to attend – fill out this registration form! Class size limited to 5 students. Registration fee is $10-20. Income based scholarships available.\nDo you know a 7 or 8 year old who needs some help getting going on two wheels? Then we have something just for you!\nClass Details\nBike Fun is hosting a 7 & 8 Year Old Learn to Ride event. Get your kid started on their bicycling journey!\nThis course is for 7 and 8 year olds who have never pedaled a bicycle before. It covers the following topics: \nGetting onto the bike\nBasic balance\nStarting and stopping\nPedaling\nTurning \nCome learn how to ride in a safe and supportive environment.\nFor our learn to ride classes\, we emphasize exposure\, not expertise. Each human learns at their own pace\, and we work with each student within their own ability.\nAges 7 & 8. Bicycles and helmets can be provided for those who would like to attend\, but don’t have their own bicycle yet. Please bring a water bottle/hydration and a snack! Bike Fun has limited snacks available and will have extra water.\nDate: Sunday\, July 21st\nTime: 4-6 PM\nLocation: Bellevue UMC\, Nashville 37221\nQuestions? Contact us for more specifics.
URL:https://middletncycling.com/event/7-8-year-old-learn-to-ride-july-2024/
LOCATION:Bellevue UMC\, 7501 Old Harding Pike\, Nashville\, 37221
CATEGORIES:Class,Kids
ATTACH;FMTTYPE=image/png:https://middletncycling.com/wp-content/uploads/2024/06/learntoride7-8yearolds2022-rayw5c.tmp_.png
ORGANIZER;CN="Bike Fun":MAILTO:kj@nashvillebikefun.org
END:VEVENT
END:VCALENDAR