BEGIN:VCALENDAR
VERSION:2.0
PRODID:-//MiddleTNCycling - ECPv6.15.20//NONSGML v1.0//EN
CALSCALE:GREGORIAN
METHOD:PUBLISH
X-WR-CALNAME:MiddleTNCycling
X-ORIGINAL-URL:https://middletncycling.com
X-WR-CALDESC:Events for MiddleTNCycling
REFRESH-INTERVAL;VALUE=DURATION:PT1H
X-Robots-Tag:noindex
X-PUBLISHED-TTL:PT1H
BEGIN:VTIMEZONE
TZID:America/Chicago
BEGIN:DAYLIGHT
TZOFFSETFROM:-0600
TZOFFSETTO:-0500
TZNAME:CDT
DTSTART:20220313T080000
END:DAYLIGHT
BEGIN:STANDARD
TZOFFSETFROM:-0500
TZOFFSETTO:-0600
TZNAME:CST
DTSTART:20221106T070000
END:STANDARD
BEGIN:DAYLIGHT
TZOFFSETFROM:-0600
TZOFFSETTO:-0500
TZNAME:CDT
DTSTART:20230312T080000
END:DAYLIGHT
BEGIN:STANDARD
TZOFFSETFROM:-0500
TZOFFSETTO:-0600
TZNAME:CST
DTSTART:20231105T070000
END:STANDARD
BEGIN:DAYLIGHT
TZOFFSETFROM:-0600
TZOFFSETTO:-0500
TZNAME:CDT
DTSTART:20240310T080000
END:DAYLIGHT
BEGIN:STANDARD
TZOFFSETFROM:-0500
TZOFFSETTO:-0600
TZNAME:CST
DTSTART:20241103T070000
END:STANDARD
BEGIN:DAYLIGHT
TZOFFSETFROM:-0600
TZOFFSETTO:-0500
TZNAME:CDT
DTSTART:20250309T080000
END:DAYLIGHT
BEGIN:STANDARD
TZOFFSETFROM:-0500
TZOFFSETTO:-0600
TZNAME:CST
DTSTART:20251102T070000
END:STANDARD
END:VTIMEZONE
BEGIN:VEVENT
DTSTART;TZID=America/Chicago:20240514T170000
DTEND;TZID=America/Chicago:20240514T190000
DTSTAMP:20260425T070114
CREATED:20240507T173253Z
LAST-MODIFIED:20240803T210226Z
UID:4711-1715706000-1715713200@middletncycling.com
SUMMARY:Vision Zero Advisory Committee Meeting
DESCRIPTION:Regular meetings are held on the second Tuesday of the month from 5:00 p.m. to 7:00 p.m. in the Sonny West Conference Center on the first floor of the Howard Office Building. \nNote: The meeting location may change occasionally. Please view the event details for the location of the meeting. Meetings will be posted under the Nashville Department of Transportation events.
URL:https://middletncycling.com/event/vision-zero-advisory-committee-meeting-2/
LOCATION:Howard Office Building\, 700 President Ronald Reagan Way\, Nashville\, TN\, 37210\, United States
CATEGORIES:Community Meeting,Infrastructure,Mobility,Vision Zero
ATTACH;FMTTYPE=image/jpeg:https://middletncycling.com/wp-content/uploads/2024/05/vision-zero-logo_advisory-committee_med.jpg
ORGANIZER;CN="Vision Zero Advisory Committee":MAILTO:VisionZero@Nashville.gov
END:VEVENT
BEGIN:VEVENT
DTSTART;TZID=America/Chicago:20240425T170000
DTEND;TZID=America/Chicago:20240425T190000
DTSTAMP:20260425T070114
CREATED:20240416T120244Z
LAST-MODIFIED:20240416T120244Z
UID:3904-1714064400-1714071600@middletncycling.com
SUMMARY:Vision Zero Advisory Committee Meeting
DESCRIPTION:The Vision Zero movement is a worldwide strategy to eliminate all traffic-related deaths and severe injuries and at the same time\, increasing safety\, equity\, and mobility for all users. Metro Nashville and Davidson County became a Vision Zero city in 2022. Metro Council and Mayor John Cooper adopted the Vision Zero Action Plan and Implementation Plan in August 2022. \nWhile Vision Zero is a challenging goal\, it’s worth working towards because people deserve safe streets in Nashville.
URL:https://middletncycling.com/event/vision-zero-advisory-committee-meeting/
LOCATION:East Park Regional Community Center\, 600 Woodland St\, Nashville\, 37206
CATEGORIES:Community Meeting,Infrastructure,Mobility,Vision Zero
ATTACH;FMTTYPE=image/jpeg:https://middletncycling.com/wp-content/uploads/2024/04/NVZ-01-1290x600-1.jpg
ORGANIZER;CN="Vision Zero Advisory Committee":MAILTO:VisionZero@Nashville.gov
END:VEVENT
BEGIN:VEVENT
DTSTART;TZID=America/Chicago:20240402T170000
DTEND;TZID=America/Chicago:20240402T190000
DTSTAMP:20260425T070114
CREATED:20240328T231040Z
LAST-MODIFIED:20240401T203815Z
UID:3416-1712077200-1712084400@middletncycling.com
SUMMARY:Critical Mass
DESCRIPTION:Due to incoming gnarly weather\, we are CANCELLING for April & will be back on May 7th!
URL:https://middletncycling.com/event/critical-mass/
CATEGORIES:Critical Mass,Group Ride,Infrastructure
ATTACH;FMTTYPE=image/jpeg:https://middletncycling.com/wp-content/uploads/2024/03/CriticalMass-4-2024-Cancelled.jpg
END:VEVENT
BEGIN:VEVENT
DTSTART;TZID=America/Chicago:20240320T183000
DTEND;TZID=America/Chicago:20240320T200000
DTSTAMP:20260425T070114
CREATED:20240309T201811Z
LAST-MODIFIED:20240309T201811Z
UID:3373-1710959400-1710964800@middletncycling.com
SUMMARY:Gallatin Pike/Main Street Public Meeting
DESCRIPTION:Facilitated by the Nashville Department of Transportation and Multimodal Infrastructure (NDOT) \nJoin us to see ideas for multimodal\, transit\, and safety improvements on Main Street from South 5th Street to South 10th Street and Gallatin Pike from South 10th Street to Briley Pkwy. and share your feedback.
URL:https://middletncycling.com/event/gallatin-pike-main-street-public-meeting/
LOCATION:Isaac Litton Alumni Center\, 4500 Gallatin Pk\, Nashville\, TN\, 37216\, United States
CATEGORIES:Community Meeting,Infrastructure
END:VEVENT
BEGIN:VEVENT
DTSTART;TZID=America/Chicago:20240320T120000
DTEND;TZID=America/Chicago:20240320T130000
DTSTAMP:20260425T070114
CREATED:20240309T201607Z
LAST-MODIFIED:20240309T201607Z
UID:3371-1710936000-1710939600@middletncycling.com
SUMMARY:Gallatin Pike/Main Street Public Meeting (Virtual)
DESCRIPTION:Facilitated by the Nashville Department of Transportation and Multimodal Infrastructure (NDOT) \nJoin us to see ideas for multimodal\, transit\, and safety improvements on Main Street from South 5th Street to South 10th Street and Gallatin Pike from South 10th Street to Briley Pkwy. and share your feedback.
URL:https://middletncycling.com/event/gallatin-pike-main-street-public-meeting-virtual/
LOCATION:Virtual
CATEGORIES:Community Meeting,Infrastructure,Virtual Event
END:VEVENT
BEGIN:VEVENT
DTSTART;TZID=America/Chicago:20240319T120000
DTEND;TZID=America/Chicago:20240319T133000
DTSTAMP:20260425T070114
CREATED:20240309T201405Z
LAST-MODIFIED:20240309T201419Z
UID:3366-1710849600-1710855000@middletncycling.com
SUMMARY:Gallatin Pike/Main Street Public Meeting
DESCRIPTION:Facilitated by the Nashville Department of Transportation and Multimodal Infrastructure (NDOT) \nJoin us to see ideas for multimodal\, transit\, and safety improvements on Main Street from South 5th Street to South 10th Street and Gallatin Pike from South 10th Street to Briley Pkwy. and share your feedback.
URL:https://middletncycling.com/event/gallatin-pike-main-street-public-workshop/
LOCATION:East Park Regional Community Center\, 600 Woodland St\, Nashville\, 37206
CATEGORIES:Community Meeting,Infrastructure
END:VEVENT
BEGIN:VEVENT
DTSTART;VALUE=DATE:20240114
DTEND;VALUE=DATE:20240121
DTSTAMP:20260425T070114
CREATED:20240110T233224Z
LAST-MODIFIED:20240201T221802Z
UID:2751-1705190400-1705795199@middletncycling.com
SUMMARY:NDOT Gallatin Pike and Main Street Project
DESCRIPTION:The Gallatin Pike and Main Street Vision Plan includes community engagement\, design concepts and recommendations for the following streets in East Nashville: \n\nMain Street from S. 5th Street to S. 10th Street\nGallatin Pike from S. 10th Street to Briley Parkway\n\nProject Extent Map \nThese street segments are among Nashville’s most dangerous streets\, both included in the Vision Zero Action Plan’s High Injury Network. This project will set a vision to transform Main Street and Gallatin Pike into Complete Streets that provide safe and accessible options for all users and can be implemented in a cost-effective way. \nCurrent Project Status: The project team has completed a review of existing conditions and plans and is in the process of engaging\, residents\, businesses\, stakeholders and public agencies to collect input as the explore design concepts for the corridor. \nGet Involved\nGet involved by completing the community priorities survey and submitting your StreetMix online streetbuilder. \n\nTake the Gallatin Pike and Main Street Vision Plan Communities Priority Survey\nBuild Your Own Street on Gallatin Pike: StreetMix Instructions | StreetMix\nGallatin Pike and Main Street December 6 Public Workshop Presentation\nRecording of the Gallatin Pike and Main Street Public Workshop Presentation\n\nProject Timeline\n\nFall 2023: Existing conditions and plans\nWinter 2023 through Spring 2024: Community engagement and design concepts\nSpring 2024: Project recommendations\n2024 through 2025: Design and implementation of Main Street from S 5th Street to S 10th Street
URL:https://middletncycling.com/event/ndot-gallatin-pike-and-main-street-project/
LOCATION:Virtual
CATEGORIES:Community Meeting,Infrastructure,Public Surveys
ATTACH;FMTTYPE=image/jpeg:https://middletncycling.com/wp-content/uploads/2024/01/Gallatin_Main.jpg
END:VEVENT
BEGIN:VEVENT
DTSTART;TZID=America/Chicago:20231214T173000
DTEND;TZID=America/Chicago:20231214T190000
DTSTAMP:20260425T070114
CREATED:20231212T160047Z
LAST-MODIFIED:20240104T225911Z
UID:2121-1702575000-1702580400@middletncycling.com
SUMMARY:Gallatin Pk./ Main St. Public Workshop
DESCRIPTION:Facilitated by the Nashville Department of Transportation and Multimodal Infrastructure (NDOT) \nJoin us to learn more about Vision Zero initiatives planned on Main Street/Gallatin Pike. This is an opportunity for the community to share their thoughts on possible multimodal\, transit\, and safety improvements along Gallatin/Main.
URL:https://middletncycling.com/event/gallatin-pk-main-st-public-workshop/
LOCATION:Shelby Community Center\, 401 South 20th Street\, Nashville\, TN\, 37206\, United States
CATEGORIES:Community Meeting,Connectivity,Infrastructure,Mobility
ATTACH;FMTTYPE=image/jpeg:https://middletncycling.com/wp-content/uploads/2023/12/GallatinPk-2.jpg
END:VEVENT
END:VCALENDAR