BEGIN:VCALENDAR
VERSION:2.0
PRODID:-//MiddleTNCycling - ECPv6.15.20//NONSGML v1.0//EN
CALSCALE:GREGORIAN
METHOD:PUBLISH
X-WR-CALNAME:MiddleTNCycling
X-ORIGINAL-URL:https://middletncycling.com
X-WR-CALDESC:Events for MiddleTNCycling
REFRESH-INTERVAL;VALUE=DURATION:PT1H
X-Robots-Tag:noindex
X-PUBLISHED-TTL:PT1H
BEGIN:VTIMEZONE
TZID:America/Chicago
BEGIN:DAYLIGHT
TZOFFSETFROM:-0600
TZOFFSETTO:-0500
TZNAME:CDT
DTSTART:20230312T080000
END:DAYLIGHT
BEGIN:STANDARD
TZOFFSETFROM:-0500
TZOFFSETTO:-0600
TZNAME:CST
DTSTART:20231105T070000
END:STANDARD
BEGIN:DAYLIGHT
TZOFFSETFROM:-0600
TZOFFSETTO:-0500
TZNAME:CDT
DTSTART:20240310T080000
END:DAYLIGHT
BEGIN:STANDARD
TZOFFSETFROM:-0500
TZOFFSETTO:-0600
TZNAME:CST
DTSTART:20241103T070000
END:STANDARD
BEGIN:DAYLIGHT
TZOFFSETFROM:-0600
TZOFFSETTO:-0500
TZNAME:CDT
DTSTART:20250309T080000
END:DAYLIGHT
BEGIN:STANDARD
TZOFFSETFROM:-0500
TZOFFSETTO:-0600
TZNAME:CST
DTSTART:20251102T070000
END:STANDARD
END:VTIMEZONE
BEGIN:VEVENT
DTSTART;TZID=America/Chicago:20240531T190000
DTEND;TZID=America/Chicago:20240531T223000
DTSTAMP:20260423T224349
CREATED:20240429T001228Z
LAST-MODIFIED:20250105T220412Z
UID:4190-1717182000-1717194600@middletncycling.com
SUMMARY:Final Friday
DESCRIPTION:From the alliterative minds that brought you group rides every Third Thursday\, say hello to Final Friday!!! \nFinal Friday is a monthly social ride that meets on the Final Friday of each month. Meet up at the Dragon in Dragon Park between 7 and 7:30pm. Roll-out at 7:35! We change it up each month with a different semi-predetermined 15-20 mile loop. Expect one or two outdoor stops along the way. Bring a friend or make some new ones! \nBe prepared to \n\nRide bikes in the dark ( bring lights )\nGo someplace new\nGet a flat tire\nEnjoy a cold refreshing beverage or snack of choice\nHave a good time!
URL:https://middletncycling.com/event/final-friday/
LOCATION:Dragon Park\, 2400 Blakemore Ave\, Nashville\, 37212
CATEGORIES:Group Ride,No Drop Ride
ATTACH;FMTTYPE=image/jpeg:https://middletncycling.com/wp-content/uploads/2024/04/IMG_3086.jpg
END:VEVENT
END:VCALENDAR