BEGIN:VCALENDAR
VERSION:2.0
PRODID:-//MiddleTNCycling - ECPv6.15.20//NONSGML v1.0//EN
CALSCALE:GREGORIAN
METHOD:PUBLISH
X-WR-CALNAME:MiddleTNCycling
X-ORIGINAL-URL:https://middletncycling.com
X-WR-CALDESC:Events for MiddleTNCycling
REFRESH-INTERVAL;VALUE=DURATION:PT1H
X-Robots-Tag:noindex
X-PUBLISHED-TTL:PT1H
BEGIN:VTIMEZONE
TZID:America/Chicago
BEGIN:DAYLIGHT
TZOFFSETFROM:-0600
TZOFFSETTO:-0500
TZNAME:CDT
DTSTART:20230312T080000
END:DAYLIGHT
BEGIN:STANDARD
TZOFFSETFROM:-0500
TZOFFSETTO:-0600
TZNAME:CST
DTSTART:20231105T070000
END:STANDARD
BEGIN:DAYLIGHT
TZOFFSETFROM:-0600
TZOFFSETTO:-0500
TZNAME:CDT
DTSTART:20240310T080000
END:DAYLIGHT
BEGIN:STANDARD
TZOFFSETFROM:-0500
TZOFFSETTO:-0600
TZNAME:CST
DTSTART:20241103T070000
END:STANDARD
BEGIN:DAYLIGHT
TZOFFSETFROM:-0600
TZOFFSETTO:-0500
TZNAME:CDT
DTSTART:20250309T080000
END:DAYLIGHT
BEGIN:STANDARD
TZOFFSETFROM:-0500
TZOFFSETTO:-0600
TZNAME:CST
DTSTART:20251102T070000
END:STANDARD
END:VTIMEZONE
BEGIN:VEVENT
DTSTART;TZID=America/Chicago:20240526T090000
DTEND;TZID=America/Chicago:20240526T110000
DTSTAMP:20260425T054616
CREATED:20240523T203454Z
LAST-MODIFIED:20240629T153737Z
UID:5108-1716714000-1716721200@middletncycling.com
SUMMARY:Beginner/Casual Group Ride
DESCRIPTION:Sunday! Sunday! Sunday! 9am from the Bells Bend Outdoor Center. We will be doing two out and backs of the Bells Bend TT course. It is 12 miles per and you can peel off after the first loop. This ride is for newer and casual riders. Come out and cruise a rolly\, not overly busy road with new friends!
URL:https://middletncycling.com/event/beginner-casual-group-ride/
LOCATION:Bells Bend\, 4187 Old Hickory Blvd\, Nashville\, TN\, 37218\, United States
CATEGORIES:Group Ride
ATTACH;FMTTYPE=image/jpeg:https://middletncycling.com/wp-content/uploads/2024/05/id__3fc42714-cd3e-400c-b5ac-d5a47777ea2a__ffef4d5a-8ee1-4a15-a641-603fb3c49569__img_1340-1.jpg
END:VEVENT
BEGIN:VEVENT
DTSTART;TZID=America/Chicago:20240505T093000
DTEND;TZID=America/Chicago:20240505T120000
DTSTAMP:20260425T054616
CREATED:20240604T122430Z
LAST-MODIFIED:20240604T170157Z
UID:5791-1714901400-1714910400@middletncycling.com
SUMMARY:Pappy's Market Road Ride
DESCRIPTION:Route Link \nSome scheduled rides will be canceled if roads or trails are wet. Rides after dark will require a headlight or helmet light. Helmets required on all rides.
URL:https://middletncycling.com/event/pappys-market-road-ride/
LOCATION:Ride615 Bicycle Shop – Cedar Hill\, 3940 Dickerson Pike\, Nashville\, 37207\, United States
CATEGORIES:Group Ride
ATTACH;FMTTYPE=image/webp:https://middletncycling.com/wp-content/uploads/2024/06/ride615pappys.webp
END:VEVENT
END:VCALENDAR