BEGIN:VCALENDAR
VERSION:2.0
PRODID:-//MiddleTNCycling - ECPv6.15.20//NONSGML v1.0//EN
CALSCALE:GREGORIAN
METHOD:PUBLISH
X-WR-CALNAME:MiddleTNCycling
X-ORIGINAL-URL:https://middletncycling.com
X-WR-CALDESC:Events for MiddleTNCycling
REFRESH-INTERVAL;VALUE=DURATION:PT1H
X-Robots-Tag:noindex
X-PUBLISHED-TTL:PT1H
BEGIN:VTIMEZONE
TZID:America/Chicago
BEGIN:DAYLIGHT
TZOFFSETFROM:-0600
TZOFFSETTO:-0500
TZNAME:CDT
DTSTART:20230312T080000
END:DAYLIGHT
BEGIN:STANDARD
TZOFFSETFROM:-0500
TZOFFSETTO:-0600
TZNAME:CST
DTSTART:20231105T070000
END:STANDARD
BEGIN:DAYLIGHT
TZOFFSETFROM:-0600
TZOFFSETTO:-0500
TZNAME:CDT
DTSTART:20240310T080000
END:DAYLIGHT
BEGIN:STANDARD
TZOFFSETFROM:-0500
TZOFFSETTO:-0600
TZNAME:CST
DTSTART:20241103T070000
END:STANDARD
BEGIN:DAYLIGHT
TZOFFSETFROM:-0600
TZOFFSETTO:-0500
TZNAME:CDT
DTSTART:20250309T080000
END:DAYLIGHT
BEGIN:STANDARD
TZOFFSETFROM:-0500
TZOFFSETTO:-0600
TZNAME:CST
DTSTART:20251102T070000
END:STANDARD
END:VTIMEZONE
BEGIN:VEVENT
DTSTART;VALUE=DATE:20240518
DTEND;VALUE=DATE:20240519
DTSTAMP:20260424T164533
CREATED:20240227T004855Z
LAST-MODIFIED:20240517T144618Z
UID:3334-1715990400-1716076799@middletncycling.com
SUMMARY:Tour de Nash 2024
DESCRIPTION:Save the Date for 2024! Walk Bike Nashville’s 20th Annual Tour de Nash\, presented by LDA Engineering is Saturday\, May 18th! More info to come.\nWalk Bike Nashville’s 20th annual Tour de Nash is Nashville’s largest urban bike ride. Take on the City Tour (9-mi)\, Local Tour (25-mi)\, or Grand Tour (45-mi) to suit your riding style. Bring your kids to ride in the Kid’s Tour (1-mi). Your paid registration includes a t-shirt and route support. \nHighlights:\n\n9\, 25\, and 45-mile ride options suitable for bicyclists of all skill levels\nScenic routes highlighting Nashville’s neighborhoods\, bikeways\, and greenways.\nRest stops featuring refreshments\, bathroom facilities\, and basic bicycle maintenance equipment available.\nEvery paid rider receives a t-shirt\, ride number\, and rider packet\nThis year we are kicking off the mass start at Watkins Park!\nWalk Bike Nashville members get discounted Tour de Nash Tickets. Discount codes will be emailed to members.\n\nRoutes\n\nRoutes will be posted here and on our Eventbrite once finalized.\n** Note: Routes are subject to change at any time before May 20th\, 2023. Please check the route the morning of the Tour de Nash for the latest version.\n\nVolunteer\n\nWe could not do the Tour de Nash without our incredible volunteers!\nAll volunteers and route marking team members get a free registration to ride in the Tour de Nash.\nRegister to volunteer here!\n\nTour Trainers\nTour Trainers: Thanks to The Domestiques Cycling Club\, we are offering Tour Trainers rides again this year. These rides are designed to help you build up your distance and comfortability to ride in the Local Tour (25-mile) or Grand Tour (45-mile) ride. Rides begin April 10th and will happen weekly leading up to the Tour de Nash. Once you register\, a Domestiques Cycling Club member will contact you the Friday before the ride to give you the ride start location and time information. \nSign-Ups will be posted soon. \nKid’s Tour (1-mile ride)\nOnce again\, we are offering a Kid’s Tour\, in addition to our other three routes at the Tour de Nash. The Kid’s Tour is designed for brand new cyclists\, especially students from our Safe Routes to School Focus Schools who recently learned to ride a bike! This short ride is a great option for kids to practice their new cycling skills they’ll have the option to complete the route up to 3 times. Registration includes a t-shirt\, a protected route\, and snacks after the ride. All registered kids must be accompanied by an adult. (If you have kids who are comfortable on their bikes\, consider the family-friendly 9-mile City Tour!) \nADA Accommodations\nFor special ADA accommodations requests and concerns\, please contact Aaron Wimsatt at aaron@walkbikenashville.org or call the office at (615) 200-7363.
URL:https://middletncycling.com/event/tour-de-nash-2024/
CATEGORIES:Connectivity,Festival,Fundraiser,Group Ride,Open Streets,Volunteer
ATTACH;FMTTYPE=image/png:https://middletncycling.com/wp-content/uploads/2024/02/WBN_TDN_LDA_2024_logos_H-e1715957144247.png
ORGANIZER;CN="Walk Bike Nashville":MAILTO:ashleigh@walkbikenashville.org
END:VEVENT
BEGIN:VEVENT
DTSTART;TZID=America/Chicago:20240504T080000
DTEND;TZID=America/Chicago:20240504T120000
DTSTAMP:20260424T164533
CREATED:20240604T123703Z
LAST-MODIFIED:20240604T123703Z
UID:5805-1714809600-1714824000@middletncycling.com
SUMMARY:Saturday Morning Spice Ride
DESCRIPTION:A group road ride of varying lengths with “spice zones” for hard efforts. 40 to 70 miles. Often two groups\, one with 17mph avg and the other with 20mph avg. \nSome scheduled rides will be canceled if roads or trails are wet. Rides after dark will require a headlight or helmet light.  Helmets required on all rides.
URL:https://middletncycling.com/event/saturday-morning-spice-ride/
LOCATION:Ride615 Bicycle Shop – Cedar Hill\, 3940 Dickerson Pike\, Nashville\, 37207\, United States
CATEGORIES:Group Ride
ATTACH;FMTTYPE=image/webp:https://middletncycling.com/wp-content/uploads/2024/06/ride615.webp
END:VEVENT
END:VCALENDAR