BEGIN:VCALENDAR
VERSION:2.0
PRODID:-//MiddleTNCycling - ECPv6.15.20//NONSGML v1.0//EN
CALSCALE:GREGORIAN
METHOD:PUBLISH
X-WR-CALNAME:MiddleTNCycling
X-ORIGINAL-URL:https://middletncycling.com
X-WR-CALDESC:Events for MiddleTNCycling
REFRESH-INTERVAL;VALUE=DURATION:PT1H
X-Robots-Tag:noindex
X-PUBLISHED-TTL:PT1H
BEGIN:VTIMEZONE
TZID:America/Chicago
BEGIN:DAYLIGHT
TZOFFSETFROM:-0600
TZOFFSETTO:-0500
TZNAME:CDT
DTSTART:20230312T080000
END:DAYLIGHT
BEGIN:STANDARD
TZOFFSETFROM:-0500
TZOFFSETTO:-0600
TZNAME:CST
DTSTART:20231105T070000
END:STANDARD
BEGIN:DAYLIGHT
TZOFFSETFROM:-0600
TZOFFSETTO:-0500
TZNAME:CDT
DTSTART:20240310T080000
END:DAYLIGHT
BEGIN:STANDARD
TZOFFSETFROM:-0500
TZOFFSETTO:-0600
TZNAME:CST
DTSTART:20241103T070000
END:STANDARD
BEGIN:DAYLIGHT
TZOFFSETFROM:-0600
TZOFFSETTO:-0500
TZNAME:CDT
DTSTART:20250309T080000
END:DAYLIGHT
BEGIN:STANDARD
TZOFFSETFROM:-0500
TZOFFSETTO:-0600
TZNAME:CST
DTSTART:20251102T070000
END:STANDARD
END:VTIMEZONE
BEGIN:VEVENT
DTSTART;TZID=America/Chicago:20240430T180000
DTEND;TZID=America/Chicago:20240430T193000
DTSTAMP:20260424T111622
CREATED:20240604T125752Z
LAST-MODIFIED:20240919T030013Z
UID:5814-1714500000-1714505400@middletncycling.com
SUMMARY:Trace Bikes Tuesday Night Ride
DESCRIPTION:Group road ride of about 20 miles weather permitting. \nSome scheduled rides will be canceled if roads or trails are wet. Rides after dark will require a headlight or helmet light. Helmets required on all rides.
URL:https://middletncycling.com/event/trace-bikes-tuesday-night-ride/
LOCATION:Trace Bikes\, 8080B Highway 100\, Nashville\, 37221\, United States
CATEGORIES:Group Ride
ATTACH;FMTTYPE=image/webp:https://middletncycling.com/wp-content/uploads/2024/06/tracebikestnr.webp
END:VEVENT
BEGIN:VEVENT
DTSTART;TZID=America/Chicago:20240507T180000
DTEND;TZID=America/Chicago:20240507T200000
DTSTAMP:20260424T111622
CREATED:20240429T005746Z
LAST-MODIFIED:20240507T205755Z
UID:4256-1715104800-1715112000@middletncycling.com
SUMMARY:Tuesday Club Ride - East Nashville
DESCRIPTION:
URL:https://middletncycling.com/event/tuesday-club-ride-east-nashville-2/
CATEGORIES:Group Ride,No Drop Ride
ATTACH;FMTTYPE=image/jpeg:https://middletncycling.com/wp-content/uploads/2024/05/1024x576-Etw5KJ.tmp_.jpg
END:VEVENT
BEGIN:VEVENT
DTSTART;TZID=America/Chicago:20240507T180000
DTEND;TZID=America/Chicago:20240507T200000
DTSTAMP:20260424T111622
CREATED:20240501T063327Z
LAST-MODIFIED:20240507T205852Z
UID:4379-1715104800-1715112000@middletncycling.com
SUMMARY:TUESDAY Ride the West Side
DESCRIPTION:Join us each week as we hit some fun routes on the west side of town. \nPark behind Cumberland Transit 2807 West End Ave \nRoute: https://ridewithgps.com/routes/46408104\nDistance: 20.4 Miles\nElevation: 875 ft\nPace: 12-15 \n**What to Expect**: \n* A fun\, no-drop ride suitable for intermediate+ cyclists comfortable in groups on the road.\n* No riders will be left behind.\n* Arrive on time to maximize daylight during the ride.\n* Ensure you have front and rear lights for safety\, especially during the latter part of the ride.\n* If there are weather issues\, we will make a final decision by 3:00 pm on the day of the ride. \n**Cyclist Responsibilities**: \n1. Arrive early and be ready to depart promptly.\n2. Note that some starting points may not have restrooms\, so plan accordingly.\n3. Check that your bicycle is in proper working order before arriving.\n4. Carry essentials: spare tube\, patch kit\, pump\, water bottle\, and a snack.\n5. Bring identification and emergency money.\n6. Always wear a helmet.\n7. Follow safety guidelines and obey traffic laws.\n8. Choose rides within your ability and interest level.\n9. Experienced riders will assist in case of a flat tire.\n10. Most importantly\, have fun! \n# DIGITAL RELEASE AND WAIVER OF LIABILITY\, ASSUMPTION OF RISK\, AND INDEMNITY AGREEMENT \n**Nashville Cumberland River Riders & THE LEAGUE OF AMERICAN BICYCLISTS** \n**DIGITAL ACKNOWLEDGMENT:**\nBy signing up for any Nashville Cumberland River Riders cycling activities through Meetup or any other online platform\, I acknowledge and agree to all terms and conditions of this Release and Waiver of Liability\, Assumption of Risk\, and Indemnity Agreement as if I had signed it. \n**ACKNOWLEDGMENT OF RISK:**\nI understand the nature of cycling activities and affirm that I am in good health and in proper physical condition to participate. I am aware that these activities will be conducted over public roads and facilities open to the public\, where hazards are to be expected. Should I believe conditions to be unsafe\, I will immediately discontinue participation. \n**ACCEPTANCE OF RISK:**\nI recognize that:\n(a) Cycling activities involve risks of serious bodily injury\, including permanent disability\, paralysis\, and death.\n(b) These risks may be due to my own actions or inactions\, those of others\, the conditions under which the activity takes place\, or the negligence of the “Releasees” named below.\n(c) There may be other risks and losses either not known to me or not readily foreseeable. \n**RELEASE OF LIABILITY:**\nI hereby release Nashville Cumberland River Riders\, THE LEAGUE OF AMERICAN BICYCLISTS\, their respective administrators\, directors\, agents\, officers\, members\, volunteers\, and employees\, other participants\, sponsors\, advertisers\, and if applicable\, owners and lessors of premises from all liability\, claims\, demands\, losses\, or damages on my account caused or alleged to be caused in whole or in part by the negligence of the “Releasees” or otherwise. \n**AGREEMENT:**\nI have read this agreement\, fully understand its terms\, and acknowledge that I have given up substantial rights by agreeing to it. I accept it as a complete and unconditional release of all liability to the greatest extent allowed by law. \n**MINORS:**\nIf the participant is under 18 years old\, a parent or guardian must also acknowledge and agree to the terms of this waiver digitally. \n**NOTE:**\nThis digital waiver does not require a physical signature. By signing up for the ride\, participants are deemed to have accepted these terms. \nLiability Release: By becoming a member\, you accept the liability release. Understand that cycling on public roads involves inherent risks\, including dangerous roadways\, intersections\, and traffic. Nashville City Cycling Meetup\, its members\, volunteers\, sponsors\, and organizers are not liable for any injuries\, property damage\, or other incidents during the ride.\n​
URL:https://middletncycling.com/event/tuesday-ride-the-west-side-3/
LOCATION:Cumberland Transit\, 2807 West End Ave\, Nashville\, TN\, 37203\, United States
CATEGORIES:Group Ride,No Drop Ride
ATTACH;FMTTYPE=image/jpeg:https://middletncycling.com/wp-content/uploads/2024/05/1024x576-MAekFj.tmp_.jpg
END:VEVENT
BEGIN:VEVENT
DTSTART;TZID=America/Chicago:20240326T180000
DTEND;TZID=America/Chicago:20240326T210000
DTSTAMP:20260424T111622
CREATED:20240420T123736Z
LAST-MODIFIED:20240506T023815Z
UID:4032-1711476000-1711486800@middletncycling.com
SUMMARY:SABCo Tuesday Night Ride
DESCRIPTION:Welcome to SABCo’s Tuesday Night Ride! This club ride meets every Tuesday at 6:00 for the extent of the season and features A (drop ride at 20+ mph) and B (no-drop ride at 16 mph) groups. \nOur official start date for 2024 is March 26\, and we’ll go until September 10. Ride starts promptly at 6:00\, with a safety meeting and announcements starting at 5:50. \nMany of us are friends with Shelby Ave Bicycle Company\, but this club ride is not commercially or legally affiliated with the bike shop. \nRIDE ROUTE \nA group: 18 – 20+ mph. This is a drop group with a single collection point after the climb on Knight at KIPP middle school. Expect to ride and know how to ride in a paceline and alongside a decent amount of other riders at various levels of strength and skill. Drinks on the curb at SABCo after the ride! \n*Note: Given the number of people that show up for A group\, we observe the yell-at-you-if-you-pull-some-dumb-shit rule\, e.g.\, don’t cross the double yellow to pass other riders\, take the bike lane when there’s traffic behind/in front of us on Riverside\, and be mindful of traffic laws at lights and stop signs. \nB group: 16 – 18 mph. This is a no-drop group that will follow the same route as the A group but will maintain a slower average speed. Meet at the end of the ride for drinks on the curb at SABCo! \n**Note: Our route of choice\, and what we’ve done for years now\, takes us through urban and high-traffic areas. Bring front and back lights\, especially for early season\, and stay aware of traffic.
URL:https://middletncycling.com/event/sabco-tuesday-night-ride/
LOCATION:Shelby Ave Bike Company\, 1629 Shelby Ave\, Nashville\, TN\, 37206\, United States
CATEGORIES:Drop Ride,Group Ride,No Drop Ride
ATTACH;FMTTYPE=image/jpeg:https://middletncycling.com/wp-content/uploads/2024/04/large.jpg
END:VEVENT
END:VCALENDAR