BEGIN:VCALENDAR
VERSION:2.0
PRODID:-//MiddleTNCycling - ECPv6.15.20//NONSGML v1.0//EN
CALSCALE:GREGORIAN
METHOD:PUBLISH
X-ORIGINAL-URL:https://middletncycling.com
X-WR-CALDESC:Events for MiddleTNCycling
REFRESH-INTERVAL;VALUE=DURATION:PT1H
X-Robots-Tag:noindex
X-PUBLISHED-TTL:PT1H
BEGIN:VTIMEZONE
TZID:America/Chicago
BEGIN:DAYLIGHT
TZOFFSETFROM:-0600
TZOFFSETTO:-0500
TZNAME:CDT
DTSTART:20230312T080000
END:DAYLIGHT
BEGIN:STANDARD
TZOFFSETFROM:-0500
TZOFFSETTO:-0600
TZNAME:CST
DTSTART:20231105T070000
END:STANDARD
BEGIN:DAYLIGHT
TZOFFSETFROM:-0600
TZOFFSETTO:-0500
TZNAME:CDT
DTSTART:20240310T080000
END:DAYLIGHT
BEGIN:STANDARD
TZOFFSETFROM:-0500
TZOFFSETTO:-0600
TZNAME:CST
DTSTART:20241103T070000
END:STANDARD
BEGIN:DAYLIGHT
TZOFFSETFROM:-0600
TZOFFSETTO:-0500
TZNAME:CDT
DTSTART:20250309T080000
END:DAYLIGHT
BEGIN:STANDARD
TZOFFSETFROM:-0500
TZOFFSETTO:-0600
TZNAME:CST
DTSTART:20251102T070000
END:STANDARD
END:VTIMEZONE
BEGIN:VEVENT
DTSTART;TZID=America/Chicago:20240502T180000
DTEND;TZID=America/Chicago:20240502T193000
DTSTAMP:20260424T093524
CREATED:20240429T005746Z
LAST-MODIFIED:20240501T053514Z
UID:4254-1714672800-1714678200@middletncycling.com
SUMMARY:Thursday Club Ride - Germantown
DESCRIPTION:
URL:https://middletncycling.com/event/thursday-club-ride-germantown/
CATEGORIES:Group Ride,No Drop Ride
END:VEVENT
BEGIN:VEVENT
DTSTART;TZID=America/Chicago:20240502T180000
DTEND;TZID=America/Chicago:20240502T193000
DTSTAMP:20260424T093524
CREATED:20240604T123355Z
LAST-MODIFIED:20240604T130301Z
UID:5800-1714672800-1714678200@middletncycling.com
SUMMARY:Ride615 Cedar Hill Thursday Night Ride
DESCRIPTION:Group Road Ride of about 20 miles weather permitting. \nSome scheduled rides will be canceled if roads or trails are wet. Rides after dark will require a headlight or helmet light. Helmets required on all rides.
URL:https://middletncycling.com/event/ride-615-cedar-hill-thursday/
LOCATION:Ride615 Bicycle Shop – Cedar Hill\, 3940 Dickerson Pike\, Nashville\, 37207\, United States
CATEGORIES:Group Ride
ATTACH;FMTTYPE=image/webp:https://middletncycling.com/wp-content/uploads/2024/06/615cedarhillthursday.webp
END:VEVENT
BEGIN:VEVENT
DTSTART;TZID=America/Chicago:20240425T180000
DTEND;TZID=America/Chicago:20240425T200000
DTSTAMP:20260424T093524
CREATED:20240423T160336Z
LAST-MODIFIED:20240604T130223Z
UID:4126-1714068000-1714075200@middletncycling.com
SUMMARY:Ride615 Charlotte Thursday Night Ride
DESCRIPTION:The Ride615 Thursday Night Rides are back for 2024 with our ‘soft start’ on March 14th and then every Thursday weather permitting for a few weeks.  Roll-out on this course is at 6:00pm from the Ride615 on Charlotte and we plan to keep the pace a little more casual than normal as people get back on the bikes and rebuilding fitness. \nRiders should bring lights and be comfortable riding in low light conditions. \nFor any questions\, please reach out at @615ride on Instagram. \nHere is a link to the full course: \nhttps://ridewithgps.com/routes/42964496
URL:https://middletncycling.com/event/ride-615-thursday-night-ride-2/
LOCATION:Ride615 Bicycle Shop – Sylvan Park\, 4511 Charlotte Ave\, Nashville\, TN\, 37209\, United States
CATEGORIES:Group Ride
ATTACH;FMTTYPE=image/jpeg:https://middletncycling.com/wp-content/uploads/2024/03/Screenshot_20240304-124355_Instagram.jpg
END:VEVENT
END:VCALENDAR