BEGIN:VCALENDAR
VERSION:2.0
PRODID:-//MiddleTNCycling - ECPv6.15.20//NONSGML v1.0//EN
CALSCALE:GREGORIAN
METHOD:PUBLISH
X-ORIGINAL-URL:https://middletncycling.com
X-WR-CALDESC:Events for MiddleTNCycling
REFRESH-INTERVAL;VALUE=DURATION:PT1H
X-Robots-Tag:noindex
X-PUBLISHED-TTL:PT1H
BEGIN:VTIMEZONE
TZID:America/Chicago
BEGIN:DAYLIGHT
TZOFFSETFROM:-0600
TZOFFSETTO:-0500
TZNAME:CDT
DTSTART:20230312T080000
END:DAYLIGHT
BEGIN:STANDARD
TZOFFSETFROM:-0500
TZOFFSETTO:-0600
TZNAME:CST
DTSTART:20231105T070000
END:STANDARD
BEGIN:DAYLIGHT
TZOFFSETFROM:-0600
TZOFFSETTO:-0500
TZNAME:CDT
DTSTART:20240310T080000
END:DAYLIGHT
BEGIN:STANDARD
TZOFFSETFROM:-0500
TZOFFSETTO:-0600
TZNAME:CST
DTSTART:20241103T070000
END:STANDARD
BEGIN:DAYLIGHT
TZOFFSETFROM:-0600
TZOFFSETTO:-0500
TZNAME:CDT
DTSTART:20250309T080000
END:DAYLIGHT
BEGIN:STANDARD
TZOFFSETFROM:-0500
TZOFFSETTO:-0600
TZNAME:CST
DTSTART:20251102T070000
END:STANDARD
END:VTIMEZONE
BEGIN:VEVENT
DTSTART;TZID=America/Chicago:20240427T080000
DTEND;TZID=America/Chicago:20240427T130000
DTSTAMP:20260424T150134
CREATED:20240416T021930Z
LAST-MODIFIED:20240416T022257Z
UID:3555-1714204800-1714222800@middletncycling.com
SUMMARY:Pedal for Paws 2024
DESCRIPTION:Sumner Spay Neuter Alliance is pleased to host the 12th annual Pedal for Paws cycling event on Saturday\, April 27th\, 2024. \nThis popular annual ride covers the beautiful back roads of scenic Sumner County featuring 4 routes for cyclists of all skill levels (14\, 30\, 45 and 62 miles). The ride begins and ends at the Gallatin Civic Center in Gallatin\, TN 37066 (210 Albert Gallatin Ave.). The 62\, 45 and 30 mile routes depart at 8:00 a.m. The 14 mile route departs shortly afterwards. \nEarly registration fee of $45 per cyclist includes a SAG supported ride\, well-stocked rest stops\, music and a post ride meal with adult beverage as well as a Next Level tri-blend event t-shirt. \nEarly online registration for the 2024 event will close at midnight Central time on Thursday\, April 25th ($45). Registration is available day of the event for $50 per cyclist beginning at 6:45 a.m. \nEarly registration and package pick up offered three different nights and locations. The first will be held on Tuesday\, April 23rd at Yazoo Brewery from 5-7 p.m. located at 900 River Bluff Drive\, Madison\, TN 37115 (includes a complimentary adult beverage); Wednesday\, April 24th from 5-7 p.m. at Biker’s Choice in Hendersonville located at 709 W. Main Street\, Hendersonville\, TN 37075\, and Thursday\, April 25th from 5-7 p.m. at Double Dogs Gallatin located at 1620 Nashville Pike\, Gallatin TN 37066. Riders may also register for the ride at these events for the early registration fee of $45. \nFor complete\, up to date event information please visit our\nFacebook Page: www.Facebook.com/PedalforPawsTN\nSSNA’s website: www.SumnerSpayNeuterAlliance.org \nJoin us Rain or Shine — No REFUNDS. \n100% of the event proceeds go directly to supporting animals in our community through Sumner Spay Neuter Alliance’s life-saving low-cost\, high quality spay neuter surgeries. SSNA is a 501c3 non-profit organization which opened in 2011 and has performed over 105\,000 surgeries. Saving lives through prevention. \nEvent details and schedule\nThe ride begins and ends at the Gallatin Civic Center in Gallatin\, TN 37066 (210 Albert Gallatin Ave.). The 62\, 45 and 30 mile routes depart at 8:00 a.m. The 14 mile route departs shortly afterwards. \nThe course maps and downloads can be found here\, 2024 Routes.
URL:https://middletncycling.com/event/pedal-for-paws/
LOCATION:Gallatin Civic Center\, 210 Albert Gallatin Ave\, Gallatin\, TN\, 37066\, United States
CATEGORIES:Fondo,Fundraiser,Group Ride
ATTACH;FMTTYPE=image/jpeg:https://middletncycling.com/wp-content/uploads/2024/04/paws.jpg
END:VEVENT
BEGIN:VEVENT
DTSTART;TZID=America/Chicago:20240427T090000
DTEND;TZID=America/Chicago:20240427T120000
DTSTAMP:20260424T150134
CREATED:20240416T023239Z
LAST-MODIFIED:20240416T023239Z
UID:3562-1714208400-1714219200@middletncycling.com
SUMMARY:Brentwood MTB Trail Grand Opening
DESCRIPTION:
URL:https://middletncycling.com/event/brentwood-mtb-trail-grand-opening/
LOCATION:Smith Park\, 1825 Wilson Pike\, Brentwood\, TN\, 37027\, United States
CATEGORIES:Group Ride,Mountain Biking
ATTACH;FMTTYPE=image/jpeg:https://middletncycling.com/wp-content/uploads/2024/04/brentwoodmtb.jpg
END:VEVENT
END:VCALENDAR