BEGIN:VCALENDAR
VERSION:2.0
PRODID:-//MiddleTNCycling - ECPv6.15.20//NONSGML v1.0//EN
CALSCALE:GREGORIAN
METHOD:PUBLISH
X-WR-CALNAME:MiddleTNCycling
X-ORIGINAL-URL:https://middletncycling.com
X-WR-CALDESC:Events for MiddleTNCycling
REFRESH-INTERVAL;VALUE=DURATION:PT1H
X-Robots-Tag:noindex
X-PUBLISHED-TTL:PT1H
BEGIN:VTIMEZONE
TZID:America/Chicago
BEGIN:DAYLIGHT
TZOFFSETFROM:-0600
TZOFFSETTO:-0500
TZNAME:CDT
DTSTART:20230312T080000
END:DAYLIGHT
BEGIN:STANDARD
TZOFFSETFROM:-0500
TZOFFSETTO:-0600
TZNAME:CST
DTSTART:20231105T070000
END:STANDARD
BEGIN:DAYLIGHT
TZOFFSETFROM:-0600
TZOFFSETTO:-0500
TZNAME:CDT
DTSTART:20240310T080000
END:DAYLIGHT
BEGIN:STANDARD
TZOFFSETFROM:-0500
TZOFFSETTO:-0600
TZNAME:CST
DTSTART:20241103T070000
END:STANDARD
BEGIN:DAYLIGHT
TZOFFSETFROM:-0600
TZOFFSETTO:-0500
TZNAME:CDT
DTSTART:20250309T080000
END:DAYLIGHT
BEGIN:STANDARD
TZOFFSETFROM:-0500
TZOFFSETTO:-0600
TZNAME:CST
DTSTART:20251102T070000
END:STANDARD
END:VTIMEZONE
BEGIN:VEVENT
DTSTART;TZID=America/Chicago:20240314T173000
DTEND;TZID=America/Chicago:20240314T193000
DTSTAMP:20260425T103410
CREATED:20240305T151202Z
LAST-MODIFIED:20240305T225352Z
UID:3347-1710437400-1710444600@middletncycling.com
SUMMARY:Ride 615 Thursday Night Ride
DESCRIPTION:The Ride615 Thursday Night Rides are back for 2024 with our ‘soft start’ on March 14th and then every Thursday weather permitting for a few weeks.  Roll-out on this course is at 5:30pm from the Ride615 on Charlotte and we plan to keep the pace a little more casual than normal as people get back on the bikes and rebuilding fitness. \nRiders should bring lights and be comfortable riding in low light conditions. \nFor any questions\, please reach out at @615ride on Instagram. \nHere is a link to the full course: \nhttps://ridewithgps.com/routes/42964496
URL:https://middletncycling.com/event/ride-615-thursday-night-ride/
LOCATION:Ride615 Bicycle Shop – Sylvan Park\, 4511 Charlotte Ave\, Nashville\, TN\, 37209\, United States
CATEGORIES:Group Ride
ATTACH;FMTTYPE=image/jpeg:https://middletncycling.com/wp-content/uploads/2024/03/Screenshot_20240304-124355_Instagram.jpg
END:VEVENT
END:VCALENDAR