BEGIN:VCALENDAR
VERSION:2.0
PRODID:-//MiddleTNCycling - ECPv6.15.20//NONSGML v1.0//EN
CALSCALE:GREGORIAN
METHOD:PUBLISH
X-ORIGINAL-URL:https://middletncycling.com
X-WR-CALDESC:Events for MiddleTNCycling
REFRESH-INTERVAL;VALUE=DURATION:PT1H
X-Robots-Tag:noindex
X-PUBLISHED-TTL:PT1H
BEGIN:VTIMEZONE
TZID:America/Chicago
BEGIN:DAYLIGHT
TZOFFSETFROM:-0600
TZOFFSETTO:-0500
TZNAME:CDT
DTSTART:20230312T080000
END:DAYLIGHT
BEGIN:STANDARD
TZOFFSETFROM:-0500
TZOFFSETTO:-0600
TZNAME:CST
DTSTART:20231105T070000
END:STANDARD
BEGIN:DAYLIGHT
TZOFFSETFROM:-0600
TZOFFSETTO:-0500
TZNAME:CDT
DTSTART:20240310T080000
END:DAYLIGHT
BEGIN:STANDARD
TZOFFSETFROM:-0500
TZOFFSETTO:-0600
TZNAME:CST
DTSTART:20241103T070000
END:STANDARD
BEGIN:DAYLIGHT
TZOFFSETFROM:-0600
TZOFFSETTO:-0500
TZNAME:CDT
DTSTART:20250309T080000
END:DAYLIGHT
BEGIN:STANDARD
TZOFFSETFROM:-0500
TZOFFSETTO:-0600
TZNAME:CST
DTSTART:20251102T070000
END:STANDARD
BEGIN:DAYLIGHT
TZOFFSETFROM:-0600
TZOFFSETTO:-0500
TZNAME:CDT
DTSTART:20260308T080000
END:DAYLIGHT
BEGIN:STANDARD
TZOFFSETFROM:-0500
TZOFFSETTO:-0600
TZNAME:CST
DTSTART:20261101T070000
END:STANDARD
END:VTIMEZONE
BEGIN:VEVENT
DTSTART;TZID=America/Chicago:20250720T120000
DTEND;TZID=America/Chicago:20250720T170000
DTSTAMP:20260423T205224
CREATED:20250602T124417Z
LAST-MODIFIED:20250619T131900Z
UID:41305-1753012800-1753030800@middletncycling.com
SUMMARY:Open Streets Summer Series
DESCRIPTION:We’re opening up downtown streets to people for our Open Streets Summer Series! From noon to 5 p.m.\, on July 20\, August 17\, and September 7\, we’ll close a five-mile loop to cars and invite Nashville to walk\, bike\, and explore. \nThe route\, which was also our Five-Mile City Tour route at Tour de Nash\, loops along the Cumberland River through neighborhoods like Rolling Mill Hill and The Gulch. Whether you’re stopping at a restaurant for a snack\, catching an outdoor performance at a music venue\, or popping into a local shop\, there are so many ways to try out new spots or revisit old favorites. Or\, claim your own space and sidewalk games or just kick back and relax. We’ll be set up at the Nashville Farmers’ Market sharing information about the event and our advocacy work. \nThere’s no registration required to participate. Just hop on your bike — or grab a skateboard\, roller skates\, or a comfy pair of walking shoes — and join us for a citywide block party! We hope you’ll find a new favorite spot in town.
URL:https://middletncycling.com/event/open-streets-summer-series/
LOCATION:Nashville Farmers Market\, 900 Rosa L Parks Blvd\, Nashville\, 37208\, United States
CATEGORIES:Festival,Open Streets
ATTACH;FMTTYPE=image/jpeg:https://middletncycling.com/wp-content/uploads/2025/06/openstreets-2.jpg
ORGANIZER;CN="Walk Bike Nashville":MAILTO:ashleigh@walkbikenashville.org
END:VEVENT
BEGIN:VEVENT
DTSTART;TZID=America/Chicago:20250720T120000
DTEND;TZID=America/Chicago:20250720T170000
DTSTAMP:20260423T205224
CREATED:20250602T124417Z
LAST-MODIFIED:20250619T131900Z
UID:41305-1753012800-1753030800@middletncycling.com
SUMMARY:Open Streets Summer Series
DESCRIPTION:We’re opening up downtown streets to people for our Open Streets Summer Series! From noon to 5 p.m.\, on July 20\, August 17\, and September 7\, we’ll close a five-mile loop to cars and invite Nashville to walk\, bike\, and explore. \nThe route\, which was also our Five-Mile City Tour route at Tour de Nash\, loops along the Cumberland River through neighborhoods like Rolling Mill Hill and The Gulch. Whether you’re stopping at a restaurant for a snack\, catching an outdoor performance at a music venue\, or popping into a local shop\, there are so many ways to try out new spots or revisit old favorites. Or\, claim your own space and sidewalk games or just kick back and relax. We’ll be set up at the Nashville Farmers’ Market sharing information about the event and our advocacy work. \nThere’s no registration required to participate. Just hop on your bike — or grab a skateboard\, roller skates\, or a comfy pair of walking shoes — and join us for a citywide block party! We hope you’ll find a new favorite spot in town.
URL:https://middletncycling.com/event/open-streets-summer-series/
LOCATION:Nashville Farmers Market\, 900 Rosa L Parks Blvd\, Nashville\, 37208\, United States
CATEGORIES:Festival,Open Streets
ATTACH;FMTTYPE=image/jpeg:https://middletncycling.com/wp-content/uploads/2025/06/openstreets-2.jpg
ORGANIZER;CN="Walk Bike Nashville":MAILTO:ashleigh@walkbikenashville.org
END:VEVENT
BEGIN:VEVENT
DTSTART;TZID=America/Chicago:20250720T120000
DTEND;TZID=America/Chicago:20250720T170000
DTSTAMP:20260423T205224
CREATED:20250602T124417Z
LAST-MODIFIED:20250619T131900Z
UID:41305-1753012800-1753030800@middletncycling.com
SUMMARY:Open Streets Summer Series
DESCRIPTION:We’re opening up downtown streets to people for our Open Streets Summer Series! From noon to 5 p.m.\, on July 20\, August 17\, and September 7\, we’ll close a five-mile loop to cars and invite Nashville to walk\, bike\, and explore. \nThe route\, which was also our Five-Mile City Tour route at Tour de Nash\, loops along the Cumberland River through neighborhoods like Rolling Mill Hill and The Gulch. Whether you’re stopping at a restaurant for a snack\, catching an outdoor performance at a music venue\, or popping into a local shop\, there are so many ways to try out new spots or revisit old favorites. Or\, claim your own space and sidewalk games or just kick back and relax. We’ll be set up at the Nashville Farmers’ Market sharing information about the event and our advocacy work. \nThere’s no registration required to participate. Just hop on your bike — or grab a skateboard\, roller skates\, or a comfy pair of walking shoes — and join us for a citywide block party! We hope you’ll find a new favorite spot in town.
URL:https://middletncycling.com/event/open-streets-summer-series/
LOCATION:Nashville Farmers Market\, 900 Rosa L Parks Blvd\, Nashville\, 37208\, United States
CATEGORIES:Festival,Open Streets
ATTACH;FMTTYPE=image/jpeg:https://middletncycling.com/wp-content/uploads/2025/06/openstreets-2.jpg
ORGANIZER;CN="Walk Bike Nashville":MAILTO:ashleigh@walkbikenashville.org
END:VEVENT
BEGIN:VEVENT
DTSTART;TZID=America/Chicago:20250615T120000
DTEND;TZID=America/Chicago:20250615T170000
DTSTAMP:20260423T205224
CREATED:20250612T205327Z
LAST-MODIFIED:20250612T205329Z
UID:41447-1749988800-1750006800@middletncycling.com
SUMMARY:Open Streets Summer Series
DESCRIPTION:We’re opening up downtown streets to people for our Open Streets Summer Series! From noon to 5 p.m.\, every third Sunday in June\, July\, and August\, we’ll close a five-mile loop to cars and invite Nashville to walk\, bike\, and explore. \nThe route\, which was also our Five-Mile City Tour route at Tour de Nash\, loops along the Cumberland River through neighborhoods like Rolling Mill Hill and The Gulch. Whether you’re stopping at a restaurant for a snack\, catching an outdoor performance at a music venue\, or popping into a local shop\, there are so many ways to try out new spots or revisit old favorites. Or\, claim your own space and sidewalk games or just kick back and relax. We’ll be set up at the Nashville Farmers’ Market sharing information about the event and our advocacy work. \nThere’s no registration required to participate. Just hop on your bike — or grab a skateboard\, roller skates\, or a comfy pair of walking shoes — and join us for a citywide block party! We hope you’ll find a new favorite spot in town.
URL:https://middletncycling.com/event/open-streets-summer-series-2/
LOCATION:Nashville Farmers Market\, 900 Rosa L Parks Blvd\, Nashville\, 37208\, United States
CATEGORIES:Festival,Open Streets
ATTACH;FMTTYPE=image/jpeg:https://middletncycling.com/wp-content/uploads/2025/06/openstreets.jpg
ORGANIZER;CN="Walk Bike Nashville":MAILTO:ashleigh@walkbikenashville.org
END:VEVENT
BEGIN:VEVENT
DTSTART;TZID=America/Chicago:20250517T070000
DTEND;TZID=America/Chicago:20250517T150000
DTSTAMP:20260423T205224
CREATED:20250312T201701Z
LAST-MODIFIED:20250312T201701Z
UID:37901-1747465200-1747494000@middletncycling.com
SUMMARY:Tour de Nash 2025
DESCRIPTION:Walk Bike Nashville’s 21st Annual Tour de Nash\, presented by LDA Engineering\, will kick-off at 7 a.m.\, Saturday\, May 17\, 2025\, starting and ending by Bicentennial Capitol Mall State Park. As the city’s largest urban bike ride\, this signature event also serves as Walk Bike Nashville’s major fundraiser for the year.  \nTour de Nash is a ride\, not a race\, providing a casual and fun opportunity to explore the city’s bikeways\, neighborhoods\, and greenways with a whole community of friendly bicycle riders. The non-competitive spirit of this event is conducive to a “party-pace”–a leisurely pace that promotes conversation with fellow riders and encourages stops at destinations and rest stops along the way. \nNo matter what your age\, experience level\, or riding style is\, there’s a route for you\, and in 2025 we’ve brought back the FREE family-friendly City tour! Not only is this year’s shortest route free\, it combines fully closed streets with greenway segments to provide a multi-mile\, car-free route for the first time in Tour de Nash history. The Local (25 mi) Tour and Grand (45 mi) Tour offer options for riders looking for a longer ride. All three routes include rest stops with water\, snacks\, bathroom facilities\, and basic bicycle maintenance equipment.
URL:https://middletncycling.com/event/tour-de-nash-2025/
LOCATION:Bicentennial Capitol Mall State Park\, 600 James Robertson Pkwy\, Nashville\, 37243\, United States
CATEGORIES:Festival,Fundraiser,Group Ride,Kids,No Drop Ride,Open Streets
ATTACH;FMTTYPE=image/png:https://middletncycling.com/wp-content/uploads/2025/03/tdn-ticket-site-header_v2-1200.png
ORGANIZER;CN="Walk Bike Nashville":MAILTO:ashleigh@walkbikenashville.org
END:VEVENT
BEGIN:VEVENT
DTSTART;TZID=America/Chicago:20240804T070000
DTEND;TZID=America/Chicago:20240804T090000
DTSTAMP:20260423T205224
CREATED:20240528T145252Z
LAST-MODIFIED:20240528T145536Z
UID:5538-1722754800-1722762000@middletncycling.com
SUMMARY:9th Annual Nolensville Kids Triathlon
DESCRIPTION:Registration is NOW open!  Register here today! \nThe 9th annual Nolensville Kids Triathlon will take place on Sunday\, August 4th from 7:00-9:00 am at  the Williamson County Recreation Complex at Nolensville. \nWe would like to thank our amazing partners: the Town of Nolensville and the Williamson County Parks & Recreation Department for helping us to make this triathlon a huge success! \nPlease “like” us on Facebook to stay up-to-date on event specifics! \nCategories/Distances:\nAges 5-7: 50 yard swim\, 2.5 mile bike\, 0.7 mile run\nAges 8-11: 100 yard swim\, 2.5 mile bike\, 0.7 mile run\nAges 12-15: 150 yard swim\, 5 mile bike\, 1.5 mile run \nThis race is sanctioned by USA Triathlon and as such we follow the standard “age up rule.” The age of the racer is based on their age at the end of the calendar year. \nSafety: The goal for this event is to promote a healthy\, active lifestyle for kids while keeping it FUN\, FUN\, FUN for competitors plus their family and friends. It is the management team’s mission to bring you a safe\, organized event so the fun just falls into place. Safety measures to note: 1) roads closed to traffic\, 2) experienced race management and support staff\, 3) controlled and secured staging area and course connector areas\, 4) race number system to match kids with parents or guardians at any time. \nParticipation: This event is focused on crossing the finish line. Awards go to the top 3 winners of each age and gender 5 to 15\, and ALL racers receive a participation award.  In other words – EVERYONE IS A WINNER. \nFor information about sponsorship opportunities or event specifics\, please contact us at ldennison@dennisonactuarial.com. \nCharity Partner: We are thrilled to announce that our charity partner for this event is Nashville Dolphins. \nNashville Dolphins started in 2003 with the mission to bring the physical and emotional benefits of swimming to people with special needs regardless of age\, ability or financial circumstances.  They provide all programming at no cost to the participant. Profits from NKT will go to Nashville Dolphins to help them to continue to empower children and adults with disabilities.  https://nashvilledolphins.org/
URL:https://middletncycling.com/event/9th-annual-nolensville-kids-triathlon/
LOCATION:Williamson County Rec Complex Nolensville\, 7250 Nolensville Rd\, Nolensville\, 37135\, United States
CATEGORIES:Festival,Kids,Race,Volunteer
ATTACH;FMTTYPE=image/webp:https://middletncycling.com/wp-content/uploads/2024/05/nolensvillekidstriathlon.webp
END:VEVENT
BEGIN:VEVENT
DTSTART;TZID=America/Chicago:20240525T100000
DTEND;TZID=America/Chicago:20240525T140000
DTSTAMP:20260423T205224
CREATED:20240512T094221Z
LAST-MODIFIED:20240513T143012Z
UID:4881-1716631200-1716645600@middletncycling.com
SUMMARY:Oasis Bike Workshop Yard Sale & Bike Fun Bicycle Revival – May 2024
DESCRIPTION:Bring your bicycle back to life – or find a new bike steed\nA bicycle revival is an event where bicycles are refreshed and riders can learn more about mechanical magic! Bike Fun will have mechanics on hand to help with repairs both basic and intermediate: cleaning and lubricating chains\, flat tire repairs\, and brake checks among others.\nWe’re holding this Bicycle Revival in conjunction with the annual Oasis Bike Workshop Bikey Yard Sale\, where bikes\, accessories\, components\, & more will be on offer!\nAll proceeds from the yard sale will go to support the youth programming at Oasis Bike Workshop.\nCome bring your bicycle to us\nWe’ll be outside at Oasis Bike Workshop\, from 10am-2pm. First come\, first served – we’ll try to get to everyone!\nWe will be able to provide basic consumable bike parts like tubes\, tires\, brake pads. Availability may vary due to what we have on hand.\nFind out how to be good caretaker to your wonderful freedom machine with just 3 simple techniques.\nBike Fun has a mission to create more joyful riders in Middle Tennessee.\nThe Oasis Bike Workshop is a year-round earn-a-bike program that empowers Nashville’s young people with alternative transportation and maintenance skills.
URL:https://middletncycling.com/event/oasis-bike-workshop-yard-sale-bike-fun-bicycle-revival-may-2024/
LOCATION:Oasis Center\, 1704 Charlotte Avenue #200\, Nashville\, TN\, 37203\, United States
CATEGORIES:Bike Maintenance,Festival
ATTACH;FMTTYPE=image/jpeg:https://middletncycling.com/wp-content/uploads/2024/05/bike-yard-sale-2024_v4_4-zDd994.tmp_.jpg
ORGANIZER;CN="Bike Fun":MAILTO:kj@nashvillebikefun.org
END:VEVENT
BEGIN:VEVENT
DTSTART;VALUE=DATE:20240518
DTEND;VALUE=DATE:20240519
DTSTAMP:20260423T205224
CREATED:20240227T004855Z
LAST-MODIFIED:20240517T144618Z
UID:3334-1715990400-1716076799@middletncycling.com
SUMMARY:Tour de Nash 2024
DESCRIPTION:Save the Date for 2024! Walk Bike Nashville’s 20th Annual Tour de Nash\, presented by LDA Engineering is Saturday\, May 18th! More info to come.\nWalk Bike Nashville’s 20th annual Tour de Nash is Nashville’s largest urban bike ride. Take on the City Tour (9-mi)\, Local Tour (25-mi)\, or Grand Tour (45-mi) to suit your riding style. Bring your kids to ride in the Kid’s Tour (1-mi). Your paid registration includes a t-shirt and route support. \nHighlights:\n\n9\, 25\, and 45-mile ride options suitable for bicyclists of all skill levels\nScenic routes highlighting Nashville’s neighborhoods\, bikeways\, and greenways.\nRest stops featuring refreshments\, bathroom facilities\, and basic bicycle maintenance equipment available.\nEvery paid rider receives a t-shirt\, ride number\, and rider packet\nThis year we are kicking off the mass start at Watkins Park!\nWalk Bike Nashville members get discounted Tour de Nash Tickets. Discount codes will be emailed to members.\n\nRoutes\n\nRoutes will be posted here and on our Eventbrite once finalized.\n** Note: Routes are subject to change at any time before May 20th\, 2023. Please check the route the morning of the Tour de Nash for the latest version.\n\nVolunteer\n\nWe could not do the Tour de Nash without our incredible volunteers!\nAll volunteers and route marking team members get a free registration to ride in the Tour de Nash.\nRegister to volunteer here!\n\nTour Trainers\nTour Trainers: Thanks to The Domestiques Cycling Club\, we are offering Tour Trainers rides again this year. These rides are designed to help you build up your distance and comfortability to ride in the Local Tour (25-mile) or Grand Tour (45-mile) ride. Rides begin April 10th and will happen weekly leading up to the Tour de Nash. Once you register\, a Domestiques Cycling Club member will contact you the Friday before the ride to give you the ride start location and time information. \nSign-Ups will be posted soon. \nKid’s Tour (1-mile ride)\nOnce again\, we are offering a Kid’s Tour\, in addition to our other three routes at the Tour de Nash. The Kid’s Tour is designed for brand new cyclists\, especially students from our Safe Routes to School Focus Schools who recently learned to ride a bike! This short ride is a great option for kids to practice their new cycling skills they’ll have the option to complete the route up to 3 times. Registration includes a t-shirt\, a protected route\, and snacks after the ride. All registered kids must be accompanied by an adult. (If you have kids who are comfortable on their bikes\, consider the family-friendly 9-mile City Tour!) \nADA Accommodations\nFor special ADA accommodations requests and concerns\, please contact Aaron Wimsatt at aaron@walkbikenashville.org or call the office at (615) 200-7363.
URL:https://middletncycling.com/event/tour-de-nash-2024/
CATEGORIES:Connectivity,Festival,Fundraiser,Group Ride,Open Streets,Volunteer
ATTACH;FMTTYPE=image/png:https://middletncycling.com/wp-content/uploads/2024/02/WBN_TDN_LDA_2024_logos_H-e1715957144247.png
ORGANIZER;CN="Walk Bike Nashville":MAILTO:ashleigh@walkbikenashville.org
END:VEVENT
BEGIN:VEVENT
DTSTART;TZID=America/Chicago:20240427T130000
DTEND;TZID=America/Chicago:20240427T160000
DTSTAMP:20260423T205224
CREATED:20240416T115146Z
LAST-MODIFIED:20240426T123431Z
UID:3874-1714222800-1714233600@middletncycling.com
SUMMARY:South Inglewood Bicycle Festival – April 2024
DESCRIPTION:Let’s ride a bike!\nThe South Inglewood Bicycle Festival is back for a second year! This event brings together a wide variety of bicycling enthusiasts – from supporters to mechanics\, from beginners to experienced cyclists\, from commuters to mountain bikers to cargo haulers and more.\nBike Fun is grateful to have received a second year grant from the Inglewood Neighborhood Association in support of this event. We are also thankful for our returning location partner\, the South Inglewood Community Center!\nIf there’s inclement weather\, the Bicycle Festival will be held inside the South Inglewood Community Center. Otherwise\, we’ll be outside!\nWhat’s going on during the festival?\nIn addition to the tables and activities from festival participants\, Bike Fun will have 4 stations for attendees: \na basic bicycle maintenance station\na station for traffic laws and safety guidelines\na helmet fitting station\na station with crafts to make your bike or bike helmet more fun and visible \nSeveral featured activities are scheduled during the festival\, including a Ride-and-Read with Ms Allgood\, Inglewood Elementary School librarian\, a SLOW bicycle race with Friends of Shelby Park\, & a special decorate-your-bike workshop for kids.\nThanks to our participants\, we’ll have some great giveaways at the Bicycle Festival including helmets\, lights\, kids bikes\, t-shirts\, and more.\nBest of all\, this event is free & open to the public.\n30 Days of Biking\nThe month of April is the season for 30 Days of Biking. Ride your bike every day for 30 days – get another ride in during the festival!\nConfirmed participants and supporters\nlist as of 12 April 2024 \nMusic City BMX\nNashville Department of Transportation\nNashville Connector (new this year!)\nWalk Bike Nashville\nUrban Bicycle Food Ministry\nOasis Bike Workshop\nQueer Spokes (new this year!)\nGirls Riding Together (GRiT)\nLittle Bellas (new this year!)\nFriends of Shelby Park\nPatagonia Nashville\nMountain Bike Camp\nMusic City Dope Pedalers\nNashville Cargo Bikers\nInglewood Neighborhood Association\nSouth Inglewood Neighborhood Association\nFairpointe Planning\nWeGo (new this year!)\nInglewood Elementary (new this year!)\nCivic Design Center (new this year!)\nBike Fun
URL:https://middletncycling.com/event/south-inglewood-bicycle-festival-april-2024/
LOCATION:South Inglewood Community Center\, 1624 Rebecca St\, Nashville\, TN\, 37216\, United States
CATEGORIES:Community Meeting,Connectivity,Festival
ORGANIZER;CN="Bike Fun":MAILTO:kj@nashvillebikefun.org
END:VEVENT
END:VCALENDAR