BEGIN:VCALENDAR
VERSION:2.0
PRODID:-//MiddleTNCycling - ECPv6.15.20//NONSGML v1.0//EN
CALSCALE:GREGORIAN
METHOD:PUBLISH
X-WR-CALNAME:MiddleTNCycling
X-ORIGINAL-URL:https://middletncycling.com
X-WR-CALDESC:Events for MiddleTNCycling
REFRESH-INTERVAL;VALUE=DURATION:PT1H
X-Robots-Tag:noindex
X-PUBLISHED-TTL:PT1H
BEGIN:VTIMEZONE
TZID:America/Chicago
BEGIN:DAYLIGHT
TZOFFSETFROM:-0600
TZOFFSETTO:-0500
TZNAME:CDT
DTSTART:20230312T080000
END:DAYLIGHT
BEGIN:STANDARD
TZOFFSETFROM:-0500
TZOFFSETTO:-0600
TZNAME:CST
DTSTART:20231105T070000
END:STANDARD
BEGIN:DAYLIGHT
TZOFFSETFROM:-0600
TZOFFSETTO:-0500
TZNAME:CDT
DTSTART:20240310T080000
END:DAYLIGHT
BEGIN:STANDARD
TZOFFSETFROM:-0500
TZOFFSETTO:-0600
TZNAME:CST
DTSTART:20241103T070000
END:STANDARD
BEGIN:DAYLIGHT
TZOFFSETFROM:-0600
TZOFFSETTO:-0500
TZNAME:CDT
DTSTART:20250309T080000
END:DAYLIGHT
BEGIN:STANDARD
TZOFFSETFROM:-0500
TZOFFSETTO:-0600
TZNAME:CST
DTSTART:20251102T070000
END:STANDARD
BEGIN:DAYLIGHT
TZOFFSETFROM:-0600
TZOFFSETTO:-0500
TZNAME:CDT
DTSTART:20260308T080000
END:DAYLIGHT
BEGIN:STANDARD
TZOFFSETFROM:-0500
TZOFFSETTO:-0600
TZNAME:CST
DTSTART:20261101T070000
END:STANDARD
END:VTIMEZONE
BEGIN:VEVENT
DTSTART;TZID=America/Chicago:20250720T130000
DTEND;TZID=America/Chicago:20250720T143000
DTSTAMP:20260423T225843
CREATED:20250608T134821Z
LAST-MODIFIED:20250717T232146Z
UID:41430-1753016400-1753021800@middletncycling.com
SUMMARY:Critical Mass - Open Streets
DESCRIPTION:This summer\, we’re hitting the streets together for a Critical Mass Bike Ride during Walk Bike Nashville’s Open Streets Summer Series — and we want you to ride with us! \n📅 Ride Dates: June 15\, July 20\, & August 17\n🕐 Roll Out: 1:00 PM\n📍 Start Location: Frankie Pierce Park \nWe’ll take one lap of the Open Streets loop at a slow\, party pace — perfect for all ages\, all bikes\, and all vibes. No registration\, no cost — just good energy\, great company\, and a whole lot of pedal power. \nWe ride to celebrate community\, promote bike visibility\, and reclaim the streets for people-powered movement. Whether you’re a seasoned cyclist or just love a good group ride\, you’re invited to roll with us. \nBe a friend\, tell a friend!
URL:https://middletncycling.com/event/critical-mass-open-streets/
LOCATION:Frankie Pierce Park\, 130 Josephine Holloway Ave\, Nashville\, TN\, 37203
CATEGORIES:Critical Mass,Group Ride,No Drop Ride,Open Streets
ATTACH;FMTTYPE=image/webp:https://middletncycling.com/wp-content/uploads/2025/06/criticalmassopenstreets_sm-2.webp
ORGANIZER;CN="MiddleTNCycling.com":MAILTO:charlie@middletncycling.com
END:VEVENT
BEGIN:VEVENT
DTSTART;TZID=America/Chicago:20250720T130000
DTEND;TZID=America/Chicago:20250720T143000
DTSTAMP:20260423T225843
CREATED:20250608T134821Z
LAST-MODIFIED:20250717T232146Z
UID:41430-1753016400-1753021800@middletncycling.com
SUMMARY:Critical Mass - Open Streets
DESCRIPTION:This summer\, we’re hitting the streets together for a Critical Mass Bike Ride during Walk Bike Nashville’s Open Streets Summer Series — and we want you to ride with us! \n📅 Ride Dates: June 15\, July 20\, & August 17\n🕐 Roll Out: 1:00 PM\n📍 Start Location: Frankie Pierce Park \nWe’ll take one lap of the Open Streets loop at a slow\, party pace — perfect for all ages\, all bikes\, and all vibes. No registration\, no cost — just good energy\, great company\, and a whole lot of pedal power. \nWe ride to celebrate community\, promote bike visibility\, and reclaim the streets for people-powered movement. Whether you’re a seasoned cyclist or just love a good group ride\, you’re invited to roll with us. \nBe a friend\, tell a friend!
URL:https://middletncycling.com/event/critical-mass-open-streets/
LOCATION:Frankie Pierce Park\, 130 Josephine Holloway Ave\, Nashville\, TN\, 37203
CATEGORIES:Critical Mass,Group Ride,No Drop Ride,Open Streets
ATTACH;FMTTYPE=image/webp:https://middletncycling.com/wp-content/uploads/2025/06/criticalmassopenstreets_sm-2.webp
ORGANIZER;CN="MiddleTNCycling.com":MAILTO:charlie@middletncycling.com
END:VEVENT
BEGIN:VEVENT
DTSTART;TZID=America/Chicago:20250720T130000
DTEND;TZID=America/Chicago:20250720T143000
DTSTAMP:20260423T225843
CREATED:20250608T134821Z
LAST-MODIFIED:20250717T232146Z
UID:41430-1753016400-1753021800@middletncycling.com
SUMMARY:Critical Mass - Open Streets
DESCRIPTION:This summer\, we’re hitting the streets together for a Critical Mass Bike Ride during Walk Bike Nashville’s Open Streets Summer Series — and we want you to ride with us! \n📅 Ride Dates: June 15\, July 20\, & August 17\n🕐 Roll Out: 1:00 PM\n📍 Start Location: Frankie Pierce Park \nWe’ll take one lap of the Open Streets loop at a slow\, party pace — perfect for all ages\, all bikes\, and all vibes. No registration\, no cost — just good energy\, great company\, and a whole lot of pedal power. \nWe ride to celebrate community\, promote bike visibility\, and reclaim the streets for people-powered movement. Whether you’re a seasoned cyclist or just love a good group ride\, you’re invited to roll with us. \nBe a friend\, tell a friend!
URL:https://middletncycling.com/event/critical-mass-open-streets/
LOCATION:Frankie Pierce Park\, 130 Josephine Holloway Ave\, Nashville\, TN\, 37203
CATEGORIES:Critical Mass,Group Ride,No Drop Ride,Open Streets
ATTACH;FMTTYPE=image/webp:https://middletncycling.com/wp-content/uploads/2025/06/criticalmassopenstreets_sm-2.webp
ORGANIZER;CN="MiddleTNCycling.com":MAILTO:charlie@middletncycling.com
END:VEVENT
BEGIN:VEVENT
DTSTART;TZID=America/Chicago:20250626T180000
DTEND;TZID=America/Chicago:20250626T200000
DTSTAMP:20260423T225843
CREATED:20250617T154248Z
LAST-MODIFIED:20250617T154248Z
UID:41821-1750960800-1750968000@middletncycling.com
SUMMARY:Nashville Critical Mass
DESCRIPTION:Join the community as we bring back Nashville Critical Mass! \nCritical Mass events highlight the numbers of people who want to use their bicycle on the streets\, but are usually unable to do so without risking their safety. They are a call to action to councils\, governments and road planners to properly and thoughtfully design in the safety of all road users\, including those who would prefer to walk and cycle\, instead of prioritising motor traffic above all else.
URL:https://middletncycling.com/event/nashville-critical-mass-2/
LOCATION:Morgan Park\, 411 Hume St\, Nashville\, 37208\, United States
CATEGORIES:Critical Mass,Group Ride,No Drop Ride
ATTACH;FMTTYPE=image/webp:https://middletncycling.com/wp-content/uploads/2025/06/criticalmass.webp
END:VEVENT
BEGIN:VEVENT
DTSTART;TZID=America/Chicago:20250615T130000
DTEND;TZID=America/Chicago:20250615T143000
DTSTAMP:20260423T225843
CREATED:20250612T205452Z
LAST-MODIFIED:20250612T205453Z
UID:41449-1749992400-1749997800@middletncycling.com
SUMMARY:Critical Mass - Open Streets
DESCRIPTION:This summer\, we’re hitting the streets together for a Critical Mass Bike Ride during Walk Bike Nashville’s Open Streets Summer Series — and we want you to ride with us! \n📅 Ride Dates: June 15\, July 20\, & August 17\n🕐 Roll Out: 1:00 PM\n📍 Start Location: Frankie Pierce Park \nWe’ll take one lap of the Open Streets loop at a slow\, party pace — perfect for all ages\, all bikes\, and all vibes. No registration\, no cost — just good energy\, great company\, and a whole lot of pedal power. \nWe ride to celebrate community\, promote bike visibility\, and reclaim the streets for people-powered movement. Whether you’re a seasoned cyclist or just love a good group ride\, you’re invited to roll with us. \nBe a friend\, tell a friend!
URL:https://middletncycling.com/event/critical-mass-open-streets-2/
LOCATION:Frankie Pierce Park\, 130 Josephine Holloway Ave\, Nashville\, TN\, 37203
CATEGORIES:Critical Mass,Group Ride,No Drop Ride,Open Streets
ATTACH;FMTTYPE=image/png:https://middletncycling.com/wp-content/uploads/2025/06/criticalmassopenstreets_sm.png
ORGANIZER;CN="MiddleTNCycling.com":MAILTO:charlie@middletncycling.com
END:VEVENT
BEGIN:VEVENT
DTSTART;TZID=America/Chicago:20240402T170000
DTEND;TZID=America/Chicago:20240402T190000
DTSTAMP:20260423T225843
CREATED:20240328T231040Z
LAST-MODIFIED:20240401T203815Z
UID:3416-1712077200-1712084400@middletncycling.com
SUMMARY:Critical Mass
DESCRIPTION:Due to incoming gnarly weather\, we are CANCELLING for April & will be back on May 7th!
URL:https://middletncycling.com/event/critical-mass/
CATEGORIES:Critical Mass,Group Ride,Infrastructure
ATTACH;FMTTYPE=image/jpeg:https://middletncycling.com/wp-content/uploads/2024/03/CriticalMass-4-2024-Cancelled.jpg
END:VEVENT
BEGIN:VEVENT
DTSTART;TZID=America/Chicago:20240307T170000
DTEND;TZID=America/Chicago:20240307T170000
DTSTAMP:20260423T225843
CREATED:20240229T022331Z
LAST-MODIFIED:20240229T022331Z
UID:3337-1709830800-1709830800@middletncycling.com
SUMMARY:Critical Mass - March
DESCRIPTION:Meet at Own Bradley Park \nThursday March 7 2024\nGather 5:15pm | Roll 5:30pm \nJoin us as we roll to city council to demand action on safe streets for all \nAll human powered transit welcome\nHelmets\, Lights\, Signs encouraged
URL:https://middletncycling.com/event/critical-mass-march/
LOCATION:Owen Bradley Park\, 1 Music Square E\, Nashville\, TN\, 37203\, United States
CATEGORIES:Community Meeting,Critical Mass,Group Ride
ATTACH;FMTTYPE=image/jpeg:https://middletncycling.com/wp-content/uploads/2024/02/criticalmass.jpg
END:VEVENT
BEGIN:VEVENT
DTSTART;TZID=America/Chicago:20240206T170000
DTEND;TZID=America/Chicago:20240206T210000
DTSTAMP:20260423T225843
CREATED:20240130T201141Z
LAST-MODIFIED:20240206T022936Z
UID:3104-1707238800-1707253200@middletncycling.com
SUMMARY:Critical Mass - February 2024
DESCRIPTION:Join us as we roll to City Council to demand action in regards to the city’s routine failure to protect its most vulnerable road users! \nMeet at Tony Rose Park\nGather @ 5:15 | Roll @ 5:30 \nAll human-powered transit welcome.  Helmets and lights encouraged.
URL:https://middletncycling.com/event/nashville-critical-mass/
LOCATION:Tony Rose Park\, 8 Music Cir E\, Nashville\, 37203
CATEGORIES:Community Meeting,Critical Mass,Group Ride
ATTACH;FMTTYPE=image/jpeg:https://middletncycling.com/wp-content/uploads/2024/01/FebCriticalMass.jpg
END:VEVENT
BEGIN:VEVENT
DTSTART;TZID=America/Chicago:20240116T170000
DTEND;TZID=America/Chicago:20240116T190000
DTSTAMP:20260423T225843
CREATED:20240109T165849Z
LAST-MODIFIED:20240115T212900Z
UID:2668-1705424400-1705431600@middletncycling.com
SUMMARY:Critical Mass – January 2024
DESCRIPTION:Meet at Tony Rose Park to roll to Public Square Park. \nRoll time is 5:30PM. \nLights\, helmets encouraged.
URL:https://middletncycling.com/event/critical-mass-january-2024/
LOCATION:Tony Rose Park\, 8 Music Cir E\, Nashville\, 37203
CATEGORIES:Critical Mass
ATTACH;FMTTYPE=image/jpeg:https://middletncycling.com/wp-content/uploads/2024/01/criticalmassjan2024.jpg
END:VEVENT
END:VCALENDAR