BEGIN:VCALENDAR
VERSION:2.0
PRODID:-//MiddleTNCycling - ECPv6.15.20//NONSGML v1.0//EN
CALSCALE:GREGORIAN
METHOD:PUBLISH
X-ORIGINAL-URL:https://middletncycling.com
X-WR-CALDESC:Events for MiddleTNCycling
REFRESH-INTERVAL;VALUE=DURATION:PT1H
X-Robots-Tag:noindex
X-PUBLISHED-TTL:PT1H
BEGIN:VTIMEZONE
TZID:America/Chicago
BEGIN:DAYLIGHT
TZOFFSETFROM:-0600
TZOFFSETTO:-0500
TZNAME:CDT
DTSTART:20230312T080000
END:DAYLIGHT
BEGIN:STANDARD
TZOFFSETFROM:-0500
TZOFFSETTO:-0600
TZNAME:CST
DTSTART:20231105T070000
END:STANDARD
BEGIN:DAYLIGHT
TZOFFSETFROM:-0600
TZOFFSETTO:-0500
TZNAME:CDT
DTSTART:20240310T080000
END:DAYLIGHT
BEGIN:STANDARD
TZOFFSETFROM:-0500
TZOFFSETTO:-0600
TZNAME:CST
DTSTART:20241103T070000
END:STANDARD
BEGIN:DAYLIGHT
TZOFFSETFROM:-0600
TZOFFSETTO:-0500
TZNAME:CDT
DTSTART:20250309T080000
END:DAYLIGHT
BEGIN:STANDARD
TZOFFSETFROM:-0500
TZOFFSETTO:-0600
TZNAME:CST
DTSTART:20251102T070000
END:STANDARD
END:VTIMEZONE
BEGIN:VEVENT
DTSTART;TZID=America/Chicago:20240716T170000
DTEND;TZID=America/Chicago:20240716T210000
DTSTAMP:20260424T165456
CREATED:20240703T185908Z
LAST-MODIFIED:20240703T185922Z
UID:8661-1721149200-1721163600@middletncycling.com
SUMMARY:Music City Crits
DESCRIPTION:Come out and enjoy all levels of Crit Racing! \nJuniors – women – cat 3/4 – cat 4/5 – Pro 1\,2\,3
URL:https://middletncycling.com/event/music-city-crits-4/
LOCATION:Fairground Speedway\, 625 Smith Ave\, Nashville\, TN\, 37203\, United States
CATEGORIES:Crit,Race
ATTACH;FMTTYPE=image/jpeg:https://middletncycling.com/wp-content/uploads/2024/03/MusicCrits.jpg
END:VEVENT
BEGIN:VEVENT
DTSTART;TZID=America/Chicago:20240417T170000
DTEND;TZID=America/Chicago:20240417T210000
DTSTAMP:20260424T165456
CREATED:20240309T191138Z
LAST-MODIFIED:20240523T191803Z
UID:3362-1713373200-1713387600@middletncycling.com
SUMMARY:Music City Crits
DESCRIPTION:Come out and enjoy all levels of Crit Racing! \nJuniors – women – cat 3/4 – cat 4/5 – Pro 1\,2\,3
URL:https://middletncycling.com/event/music-city-crits/
LOCATION:Fairground Speedway\, 625 Smith Ave\, Nashville\, TN\, 37203\, United States
CATEGORIES:Crit,Race
ATTACH;FMTTYPE=image/jpeg:https://middletncycling.com/wp-content/uploads/2024/03/MusicCrits.jpg
END:VEVENT
BEGIN:VEVENT
DTSTART;TZID=America/Chicago:20240417T170000
DTEND;TZID=America/Chicago:20240417T210000
DTSTAMP:20260424T165456
CREATED:20240309T191138Z
LAST-MODIFIED:20240523T191803Z
UID:3362-1713373200-1713387600@middletncycling.com
SUMMARY:Music City Crits
DESCRIPTION:Come out and enjoy all levels of Crit Racing! \nJuniors – women – cat 3/4 – cat 4/5 – Pro 1\,2\,3
URL:https://middletncycling.com/event/music-city-crits/
LOCATION:Fairground Speedway\, 625 Smith Ave\, Nashville\, TN\, 37203\, United States
CATEGORIES:Crit,Race
ATTACH;FMTTYPE=image/jpeg:https://middletncycling.com/wp-content/uploads/2024/03/MusicCrits.jpg
END:VEVENT
BEGIN:VEVENT
DTSTART;TZID=America/Chicago:20240630T100000
DTEND;TZID=America/Chicago:20240630T173000
DTSTAMP:20260424T165456
CREATED:20240523T192234Z
LAST-MODIFIED:20240623T173754Z
UID:5100-1719741600-1719768600@middletncycling.com
SUMMARY:TN State Championship - Music City Crits
DESCRIPTION:
URL:https://middletncycling.com/event/tn-state-championship-music-city-crits/
LOCATION:Fairground Speedway\, 625 Smith Ave\, Nashville\, TN\, 37203\, United States
CATEGORIES:Crit,Race
ATTACH;FMTTYPE=image/webp:https://middletncycling.com/wp-content/uploads/2024/03/MusicCrits.webp
END:VEVENT
BEGIN:VEVENT
DTSTART;TZID=America/Chicago:20240417T170000
DTEND;TZID=America/Chicago:20240417T210000
DTSTAMP:20260424T165456
CREATED:20240309T191138Z
LAST-MODIFIED:20240523T191803Z
UID:3362-1713373200-1713387600@middletncycling.com
SUMMARY:Music City Crits
DESCRIPTION:Come out and enjoy all levels of Crit Racing! \nJuniors – women – cat 3/4 – cat 4/5 – Pro 1\,2\,3
URL:https://middletncycling.com/event/music-city-crits/
LOCATION:Fairground Speedway\, 625 Smith Ave\, Nashville\, TN\, 37203\, United States
CATEGORIES:Crit,Race
ATTACH;FMTTYPE=image/jpeg:https://middletncycling.com/wp-content/uploads/2024/03/MusicCrits.jpg
END:VEVENT
BEGIN:VEVENT
DTSTART;TZID=America/Chicago:20240417T170000
DTEND;TZID=America/Chicago:20240417T210000
DTSTAMP:20260424T165456
CREATED:20240309T191138Z
LAST-MODIFIED:20240523T191803Z
UID:3362-1713373200-1713387600@middletncycling.com
SUMMARY:Music City Crits
DESCRIPTION:Come out and enjoy all levels of Crit Racing! \nJuniors – women – cat 3/4 – cat 4/5 – Pro 1\,2\,3
URL:https://middletncycling.com/event/music-city-crits/
LOCATION:Fairground Speedway\, 625 Smith Ave\, Nashville\, TN\, 37203\, United States
CATEGORIES:Crit,Race
ATTACH;FMTTYPE=image/jpeg:https://middletncycling.com/wp-content/uploads/2024/03/MusicCrits.jpg
END:VEVENT
BEGIN:VEVENT
DTSTART;TZID=America/Chicago:20240522T170000
DTEND;TZID=America/Chicago:20240522T210000
DTSTAMP:20260424T165456
CREATED:20240522T190632Z
LAST-MODIFIED:20240522T190633Z
UID:5039-1716397200-1716411600@middletncycling.com
SUMMARY:Music City Crits
DESCRIPTION:Come out and enjoy all levels of Crit Racing! \nJuniors – women – cat 3/4 – cat 4/5 – Pro 1\,2\,3
URL:https://middletncycling.com/event/music-city-crits-3/
LOCATION:Fairground Speedway\, 625 Smith Ave\, Nashville\, TN\, 37203\, United States
CATEGORIES:Crit,Race
ATTACH;FMTTYPE=image/jpeg:https://middletncycling.com/wp-content/uploads/2024/03/MusicCrits.jpg
END:VEVENT
BEGIN:VEVENT
DTSTART;TZID=America/Chicago:20240516T170000
DTEND;TZID=America/Chicago:20240516T210000
DTSTAMP:20260424T165456
CREATED:20240514T174407Z
LAST-MODIFIED:20240514T174408Z
UID:4939-1715878800-1715893200@middletncycling.com
SUMMARY:Music City Crits - DATE CHANGE
DESCRIPTION:Come out and enjoy all levels of Crit Racing! \nJuniors – women – cat 3/4 – cat 4/5 – Pro 1\,2\,3
URL:https://middletncycling.com/event/music-city-crits-2/
LOCATION:Fairground Speedway\, 625 Smith Ave\, Nashville\, TN\, 37203\, United States
CATEGORIES:Crit,Race
ATTACH;FMTTYPE=image/jpeg:https://middletncycling.com/wp-content/uploads/2024/03/MusicCrits.jpg
END:VEVENT
BEGIN:VEVENT
DTSTART;TZID=America/Chicago:20240417T170000
DTEND;TZID=America/Chicago:20240417T210000
DTSTAMP:20260424T165456
CREATED:20240309T191138Z
LAST-MODIFIED:20240523T191803Z
UID:3362-1713373200-1713387600@middletncycling.com
SUMMARY:Music City Crits
DESCRIPTION:Come out and enjoy all levels of Crit Racing! \nJuniors – women – cat 3/4 – cat 4/5 – Pro 1\,2\,3
URL:https://middletncycling.com/event/music-city-crits/
LOCATION:Fairground Speedway\, 625 Smith Ave\, Nashville\, TN\, 37203\, United States
CATEGORIES:Crit,Race
ATTACH;FMTTYPE=image/jpeg:https://middletncycling.com/wp-content/uploads/2024/03/MusicCrits.jpg
END:VEVENT
BEGIN:VEVENT
DTSTART;TZID=America/Chicago:20240417T170000
DTEND;TZID=America/Chicago:20240417T210000
DTSTAMP:20260424T165456
CREATED:20240309T191138Z
LAST-MODIFIED:20240523T191803Z
UID:3362-1713373200-1713387600@middletncycling.com
SUMMARY:Music City Crits
DESCRIPTION:Come out and enjoy all levels of Crit Racing! \nJuniors – women – cat 3/4 – cat 4/5 – Pro 1\,2\,3
URL:https://middletncycling.com/event/music-city-crits/
LOCATION:Fairground Speedway\, 625 Smith Ave\, Nashville\, TN\, 37203\, United States
CATEGORIES:Crit,Race
ATTACH;FMTTYPE=image/jpeg:https://middletncycling.com/wp-content/uploads/2024/03/MusicCrits.jpg
END:VEVENT
BEGIN:VEVENT
DTSTART;TZID=America/Chicago:20240417T170000
DTEND;TZID=America/Chicago:20240417T210000
DTSTAMP:20260424T165456
CREATED:20240309T191138Z
LAST-MODIFIED:20240523T191803Z
UID:3362-1713373200-1713387600@middletncycling.com
SUMMARY:Music City Crits
DESCRIPTION:Come out and enjoy all levels of Crit Racing! \nJuniors – women – cat 3/4 – cat 4/5 – Pro 1\,2\,3
URL:https://middletncycling.com/event/music-city-crits/
LOCATION:Fairground Speedway\, 625 Smith Ave\, Nashville\, TN\, 37203\, United States
CATEGORIES:Crit,Race
ATTACH;FMTTYPE=image/jpeg:https://middletncycling.com/wp-content/uploads/2024/03/MusicCrits.jpg
END:VEVENT
BEGIN:VEVENT
DTSTART;TZID=America/Chicago:20240417T170000
DTEND;TZID=America/Chicago:20240417T210000
DTSTAMP:20260424T165456
CREATED:20240309T191138Z
LAST-MODIFIED:20240523T191803Z
UID:3362-1713373200-1713387600@middletncycling.com
SUMMARY:Music City Crits
DESCRIPTION:Come out and enjoy all levels of Crit Racing! \nJuniors – women – cat 3/4 – cat 4/5 – Pro 1\,2\,3
URL:https://middletncycling.com/event/music-city-crits/
LOCATION:Fairground Speedway\, 625 Smith Ave\, Nashville\, TN\, 37203\, United States
CATEGORIES:Crit,Race
ATTACH;FMTTYPE=image/jpeg:https://middletncycling.com/wp-content/uploads/2024/03/MusicCrits.jpg
END:VEVENT
END:VCALENDAR