BEGIN:VCALENDAR
VERSION:2.0
PRODID:-//MiddleTNCycling - ECPv6.15.20//NONSGML v1.0//EN
CALSCALE:GREGORIAN
METHOD:PUBLISH
X-ORIGINAL-URL:https://middletncycling.com
X-WR-CALDESC:Events for MiddleTNCycling
REFRESH-INTERVAL;VALUE=DURATION:PT1H
X-Robots-Tag:noindex
X-PUBLISHED-TTL:PT1H
BEGIN:VTIMEZONE
TZID:America/Chicago
BEGIN:DAYLIGHT
TZOFFSETFROM:-0600
TZOFFSETTO:-0500
TZNAME:CDT
DTSTART:20220313T080000
END:DAYLIGHT
BEGIN:STANDARD
TZOFFSETFROM:-0500
TZOFFSETTO:-0600
TZNAME:CST
DTSTART:20221106T070000
END:STANDARD
BEGIN:DAYLIGHT
TZOFFSETFROM:-0600
TZOFFSETTO:-0500
TZNAME:CDT
DTSTART:20230312T080000
END:DAYLIGHT
BEGIN:STANDARD
TZOFFSETFROM:-0500
TZOFFSETTO:-0600
TZNAME:CST
DTSTART:20231105T070000
END:STANDARD
BEGIN:DAYLIGHT
TZOFFSETFROM:-0600
TZOFFSETTO:-0500
TZNAME:CDT
DTSTART:20240310T080000
END:DAYLIGHT
BEGIN:STANDARD
TZOFFSETFROM:-0500
TZOFFSETTO:-0600
TZNAME:CST
DTSTART:20241103T070000
END:STANDARD
BEGIN:DAYLIGHT
TZOFFSETFROM:-0600
TZOFFSETTO:-0500
TZNAME:CDT
DTSTART:20250309T080000
END:DAYLIGHT
BEGIN:STANDARD
TZOFFSETFROM:-0500
TZOFFSETTO:-0600
TZNAME:CST
DTSTART:20251102T070000
END:STANDARD
END:VTIMEZONE
BEGIN:VEVENT
DTSTART;VALUE=DATE:20241018
DTEND;VALUE=DATE:20241021
DTSTAMP:20260424T093308
CREATED:20240208T231616Z
LAST-MODIFIED:20240429T005928Z
UID:3252-1729209600-1729468799@middletncycling.com
SUMMARY:Gravel Revival 2024
DESCRIPTION:Gravel Revival\, sponsored by MOAB Bike Shop\, is a multi-day gravel festival for all levels of cyclists.\nThe 5th Annual Gravel Revival will be held Friday-Sunday\, October 18-20\, 2024\, in Hickman County\, TN.\nIt will include a weekend of riding (or racing) scenic and challenging gravel roads\, a winery/waterfall ride\,\ncamping\, live music\, food trucks\, beer (and N/A beverages)\, prizes\, really cool swag and more!  Registration will open in Spring 2024. Learn more at www.gravelrevival.com.
URL:https://middletncycling.com/event/gravel-revival/
LOCATION:Peaceful Hills Campground\, 390 American Way\, Centerville\, TN\, 37033\, United States
CATEGORIES:Connectivity,Gravel,Race,Volunteer
ATTACH;FMTTYPE=image/png:https://middletncycling.com/wp-content/uploads/2024/02/GR-Save-the-Date-facebook.png
END:VEVENT
BEGIN:VEVENT
DTSTART;TZID=America/Chicago:20240919T160000
DTEND;TZID=America/Chicago:20240919T180000
DTSTAMP:20260424T093308
CREATED:20240621T103440Z
LAST-MODIFIED:20240918T071844Z
UID:7893-1726761600-1726768800@middletncycling.com
SUMMARY:Community Market Bike Repairs – September 2024
DESCRIPTION:Bring your bike – we’ll help you figure it out.\nCome join us on the third Thursday of the month at Trinity Community Commons. We’ll be outside at the Community Market with information on bike riding\, taking care of your bike\, and more.\nIt’s free\nYou don’t have to pay anything to have your bike assessed. If you’d like to make a donation to either Bike Fun or Trinity Community Commons\, you are welcome to do so!\nFirst come\, first served\nOur basic fixes include fix-a-flat\, bolt safety checks\, and chain cleaning. We will have replacement tubes & tires on a first-come-first-served basis. Come see us and learn how to keep your bike in good riding shape! \nBike Fun is a non-profit whose mission is to create joyful riders in Middle Tennessee.\nTrinity Community Commons leverages sacred space to affirm and activate the worth and potential of all members of our community. \n \n \n 
URL:https://middletncycling.com/event/community-market-bike-repairs-september-2024/
LOCATION:Trinity Community Commons\, 204 East Trinity Lane\, Nashville\, TN\, 37027\, United States
CATEGORIES:Bike Maintenance,Connectivity
ATTACH;FMTTYPE=image/jpeg:https://middletncycling.com/wp-content/uploads/2024/05/1200-community-market-2024-1-swtpfm.tmp_.jpg
ORGANIZER;CN="Bike Fun":MAILTO:kj@nashvillebikefun.org
END:VEVENT
BEGIN:VEVENT
DTSTART;TZID=America/Chicago:20240904T150000
DTEND;TZID=America/Chicago:20240904T180000
DTSTAMP:20260424T093308
CREATED:20240819T171709Z
LAST-MODIFIED:20240819T171709Z
UID:10173-1725462000-1725472800@middletncycling.com
SUMMARY:NDOT District 6 ROAD-EO Festival
DESCRIPTION:
URL:https://middletncycling.com/event/ndot-district-6-road-eo-festival/
LOCATION:Shelby Bottoms Nature Center\, 1900 Davidson Street\, Nashville\, TN\, 37206\, United States
CATEGORIES:Community Meeting,Connectivity,Infrastructure,Vision Zero
ATTACH;FMTTYPE=image/jpeg:https://middletncycling.com/wp-content/uploads/2024/08/east-rodeo.jpeg
END:VEVENT
BEGIN:VEVENT
DTSTART;TZID=America/Chicago:20240718T170000
DTEND;TZID=America/Chicago:20240718T190000
DTSTAMP:20260424T093308
CREATED:20240717T142212Z
LAST-MODIFIED:20240717T142212Z
UID:9477-1721322000-1721329200@middletncycling.com
SUMMARY:Midtown Rod-eo Festival
DESCRIPTION:Facilitated by the Nashville Department of Transportation and Multimodal Infrastructure (NDOT) \nJoin us\, WeGo Public Transit and Nashville Connector for a fun-filled evening to learn more about upcoming multimodal projects in the Midtown area\, including Church Street bikeway and improvements on several streets surrounding Centennial Park. \nSnacks will be available and door prizes will be awarded.
URL:https://middletncycling.com/event/midtown-rod-eo-festival/
LOCATION:Centennial Sports Plex\, 222 25th Ave N\, Nashville\, 37203\, United States
CATEGORIES:Community Meeting,Connectivity,Infrastructure
ATTACH;FMTTYPE=image/jpeg:https://middletncycling.com/wp-content/uploads/2024/07/midtownrod-eo.jpeg
END:VEVENT
BEGIN:VEVENT
DTSTART;TZID=America/Chicago:20240718T160000
DTEND;TZID=America/Chicago:20240718T180000
DTSTAMP:20260424T093308
CREATED:20240419T120519Z
LAST-MODIFIED:20240718T134829Z
UID:3980-1721318400-1721325600@middletncycling.com
SUMMARY:Community Market Bike Repairs – July 2024
DESCRIPTION:Bring your bike – we’ll help you figure it out.\nCome join us on the third Thursday of the month at Trinity Community Commons. We’ll be outside at the Community Market with information on bike riding\, taking care of your bike\, and more.\nIt’s free\nYou don’t have to pay anything to have your bike assessed. If you’d like to make a donation to either Bike Fun or Trinity Community Commons\, you are welcome to do so!\nFirst come\, first served\nOur basic fixes include fix-a-flat\, bolt safety checks\, and chain cleaning. We will have replacement tubes & tires on a first-come-first-served basis. Come see us and learn how to keep your bike in good riding shape! \nBike Fun is a non-profit whose mission is to create joyful riders in Middle Tennessee.\nTrinity Community Commons leverages sacred space to affirm and activate the worth and potential of all members of our community. \n 
URL:https://middletncycling.com/event/community-market-bike-repairs-july-2024/
LOCATION:Trinity Community Commons\, 204 East Trinity Lane\, Nashville\, TN\, 37027\, United States
CATEGORIES:Bike Maintenance,Community Meeting,Connectivity
ATTACH;FMTTYPE=image/webp:https://middletncycling.com/wp-content/uploads/2024/04/1200-Community-Market-2024.webp
ORGANIZER;CN="Bike Fun":MAILTO:kj@nashvillebikefun.org
END:VEVENT
BEGIN:VEVENT
DTSTART;TZID=America/Chicago:20240620T160000
DTEND;TZID=America/Chicago:20240620T180000
DTSTAMP:20260424T093308
CREATED:20240416T115148Z
LAST-MODIFIED:20240620T103323Z
UID:3892-1718899200-1718906400@middletncycling.com
SUMMARY:Community Market Bike Repairs – June 2024
DESCRIPTION:Bring your bike – we’ll help you figure it out.\nCome join us on the third Thursday of the month at Trinity Community Commons. We’ll be outside at the Community Market with information on bike riding\, taking care of your bike\, and more.\nIt’s free\nYou don’t have to pay anything to have your bike assessed. If you’d like to make a donation to either Bike Fun or Trinity Community Commons\, you are welcome to do so!\nFirst come\, first served\nOur basic fixes include fix-a-flat\, bolt safety checks\, and chain cleaning. We will have replacement tubes & tires on a first-come-first-served basis. Come see us and learn how to keep your bike in good riding shape! \nBike Fun is a non-profit whose mission is to create joyful riders in Middle Tennessee.\nTrinity Community Commons leverages sacred space to affirm and activate the worth and potential of all members of our community. \n 
URL:https://middletncycling.com/event/community-market-bike-repairs-june-2024/
LOCATION:Trinity Community Commons\, 204 East Trinity Lane\, Nashville\, TN\, 37027\, United States
CATEGORIES:Bike Maintenance,Community Meeting,Connectivity
ATTACH;FMTTYPE=image/webp:https://middletncycling.com/wp-content/uploads/2024/04/1200-Community-Market-2024.webp
ORGANIZER;CN="Bike Fun":MAILTO:kj@nashvillebikefun.org
END:VEVENT
BEGIN:VEVENT
DTSTART;TZID=America/Chicago:20240529T160000
DTEND;TZID=America/Chicago:20240529T190000
DTSTAMP:20260424T093308
CREATED:20240512T094241Z
LAST-MODIFIED:20240529T094223Z
UID:4891-1716998400-1717009200@middletncycling.com
SUMMARY:Cosecha Market Bike Repairs – May 2024
DESCRIPTION:Bring your bike – we’ll help you figure it out.\nCome join us monthly at Cosecha Community at Woodbine UMC. We’ll be outside at the Community Market with information on bike riding\, taking care of your bike\, and more.\nIt’s free\nYou don’t have to pay anything to have your bike assessed. If you’d like to make a donation to either Bike Fun or Cosecha Community\, you are welcome to do so!\nFirst come\, first served\nOur basic fixes include fix-a-flat\, bolt safety checks\, and chain cleaning. We will have replacement tubes & tires on a first-come-first-served basis. Come see us and learn how to keep your bike in good riding shape! \nTrae tu bicicleta\, te ayudaremos a resolverlo.\nÚnase a nosotros mensualmente en Cosecha Community en Woodbine UMC. Estaremos afuera en el Mercado Comunitario con información sobre andar en bicicleta\, cómo cuidarla y más.\nEs gratis\nNo tienes que pagar nada para que evalúen tu bicicleta. Si desea hacer una donación a Bike Fun o Cosecha Community\, ¡puede hacerlo!\nPrimero en llegar\, primero en ser atendido\nNuestras reparaciones básicas incluyen reparación de pinchazos\, comprobaciones de seguridad de pernos y limpieza de cadenas. Tendremos cámaras y neumáticos de repuesto por orden de llegada. ¡Ven a vernos y aprende cómo mantener tu bicicleta en buenas condiciones! \nBike Fun is a non-profit whose mission is to create joyful riders in Middle Tennessee. / Bike Fun es una organización sin fines de lucro cuya misión es crear ciclistas alegres en el centro de Tennessee.\nCosecha Community Development exists to gather neighbors together to foster community along the Nolensville Pike corridor of South Nashville. / Cosecha Desarrollo Comunitario existe para unir a los vecinos con el objetivo de fomentar el bienestar de la comunidad.  \n \n \n 
URL:https://middletncycling.com/event/cosecha-market-bike-repairs-may-2024/
LOCATION:Cosecha Community\, 2621 Nolensville Pike\, Nashville\, 37211\, United States
CATEGORIES:Bike Maintenance,Connectivity
ATTACH;FMTTYPE=image/jpeg:https://middletncycling.com/wp-content/uploads/2024/05/1200-CosechaMarket2024-SntUnN.tmp_.jpg
ORGANIZER;CN="Bike Fun":MAILTO:kj@nashvillebikefun.org
END:VEVENT
BEGIN:VEVENT
DTSTART;VALUE=DATE:20240518
DTEND;VALUE=DATE:20240519
DTSTAMP:20260424T093308
CREATED:20240227T004855Z
LAST-MODIFIED:20240517T144618Z
UID:3334-1715990400-1716076799@middletncycling.com
SUMMARY:Tour de Nash 2024
DESCRIPTION:Save the Date for 2024! Walk Bike Nashville’s 20th Annual Tour de Nash\, presented by LDA Engineering is Saturday\, May 18th! More info to come.\nWalk Bike Nashville’s 20th annual Tour de Nash is Nashville’s largest urban bike ride. Take on the City Tour (9-mi)\, Local Tour (25-mi)\, or Grand Tour (45-mi) to suit your riding style. Bring your kids to ride in the Kid’s Tour (1-mi). Your paid registration includes a t-shirt and route support. \nHighlights:\n\n9\, 25\, and 45-mile ride options suitable for bicyclists of all skill levels\nScenic routes highlighting Nashville’s neighborhoods\, bikeways\, and greenways.\nRest stops featuring refreshments\, bathroom facilities\, and basic bicycle maintenance equipment available.\nEvery paid rider receives a t-shirt\, ride number\, and rider packet\nThis year we are kicking off the mass start at Watkins Park!\nWalk Bike Nashville members get discounted Tour de Nash Tickets. Discount codes will be emailed to members.\n\nRoutes\n\nRoutes will be posted here and on our Eventbrite once finalized.\n** Note: Routes are subject to change at any time before May 20th\, 2023. Please check the route the morning of the Tour de Nash for the latest version.\n\nVolunteer\n\nWe could not do the Tour de Nash without our incredible volunteers!\nAll volunteers and route marking team members get a free registration to ride in the Tour de Nash.\nRegister to volunteer here!\n\nTour Trainers\nTour Trainers: Thanks to The Domestiques Cycling Club\, we are offering Tour Trainers rides again this year. These rides are designed to help you build up your distance and comfortability to ride in the Local Tour (25-mile) or Grand Tour (45-mile) ride. Rides begin April 10th and will happen weekly leading up to the Tour de Nash. Once you register\, a Domestiques Cycling Club member will contact you the Friday before the ride to give you the ride start location and time information. \nSign-Ups will be posted soon. \nKid’s Tour (1-mile ride)\nOnce again\, we are offering a Kid’s Tour\, in addition to our other three routes at the Tour de Nash. The Kid’s Tour is designed for brand new cyclists\, especially students from our Safe Routes to School Focus Schools who recently learned to ride a bike! This short ride is a great option for kids to practice their new cycling skills they’ll have the option to complete the route up to 3 times. Registration includes a t-shirt\, a protected route\, and snacks after the ride. All registered kids must be accompanied by an adult. (If you have kids who are comfortable on their bikes\, consider the family-friendly 9-mile City Tour!) \nADA Accommodations\nFor special ADA accommodations requests and concerns\, please contact Aaron Wimsatt at aaron@walkbikenashville.org or call the office at (615) 200-7363.
URL:https://middletncycling.com/event/tour-de-nash-2024/
LOCATION:TN
CATEGORIES:Connectivity,Festival,Fundraiser,Group Ride,Open Streets,Volunteer
ATTACH;FMTTYPE=image/png:https://middletncycling.com/wp-content/uploads/2024/02/WBN_TDN_LDA_2024_logos_H-e1715957144247.png
ORGANIZER;CN="Walk Bike Nashville":MAILTO:ashleigh@walkbikenashville.org
END:VEVENT
BEGIN:VEVENT
DTSTART;TZID=America/Chicago:20240516T103000
DTEND;TZID=America/Chicago:20240516T123000
DTSTAMP:20260424T093308
CREATED:20240416T115147Z
LAST-MODIFIED:20240513T094850Z
UID:3883-1715855400-1715862600@middletncycling.com
SUMMARY:Community Market Bike Repairs – May 2024
DESCRIPTION:Bring your bike – we’ll help you figure it out.\nCome join us on the third Thursday of the month at Trinity Community Commons. We’ll be outside at the Community Market with information on bike riding\, taking care of your bike\, and more.\nIt’s free\nYou don’t have to pay anything to have your bike assessed. If you’d like to make a donation to either Bike Fun or Trinity Community Commons\, you are welcome to do so!\nFirst come\, first served\nOur basic fixes include fix-a-flat\, bolt safety checks\, and chain cleaning. We will have replacement tubes & tires on a first-come-first-served basis. Come see us and learn how to keep your bike in good riding shape! \nBike Fun is a non-profit whose mission is to create joyful riders in Middle Tennessee.\nTrinity Community Commons leverages sacred space to affirm and activate the worth and potential of all members of our community. \n 
URL:https://middletncycling.com/event/community-market-bike-repairs-may-2024/
LOCATION:Trinity Community Commons\, 204 East Trinity Lane\, Nashville\, TN\, 37027\, United States
CATEGORIES:Bike Maintenance,Community Meeting,Connectivity
ATTACH;FMTTYPE=image/webp:https://middletncycling.com/wp-content/uploads/2024/04/1200-Community-Market-2024.webp
ORGANIZER;CN="Bike Fun":MAILTO:kj@nashvillebikefun.org
END:VEVENT
BEGIN:VEVENT
DTSTART;TZID=America/Chicago:20240514T160000
DTEND;TZID=America/Chicago:20240514T180000
DTSTAMP:20260424T093308
CREATED:20240512T094213Z
LAST-MODIFIED:20240513T142957Z
UID:4876-1715702400-1715709600@middletncycling.com
SUMMARY:Bike Love at 8th & Roast Midtown – May 2024
DESCRIPTION:Bring your bike – we’ll help you figure it out.\nBike Fun and 8th & Roast are teaming up to get you rolling smoothly! We’ll be outside at the 8th & Roast Midtown location with information on bike riding\, taking care of your bike\, and more.\nIt’s free\nYou don’t have to pay anything to have your bike assessed. If you’d like to make a donation to Bike Fun\, you are welcome to do so!\nFirst come\, first served\nOur basic fixes include fix-a-flat\, bolt safety checks\, and chain cleaning. We will have replacement tubes & tires on a first-come-first-served basis. Come see us and learn how to keep your bike in good riding shape!\nSupport Bike Fun by getting buzzed!\nThroughout the month of May\, all purchases of the Rwanda Vunga coffee bags from 8th & Roast locations (Midtown\, 8th Ave\, & Charlotte) will have a portion of the proceeds donated to Bike Fun to help us create more joyful riders in Middle Tennessee. Stop by\, say hi\, & get buzzed!\n \n \n 
URL:https://middletncycling.com/event/bike-love-at-8th-roast-midtown-may-2024/
LOCATION:8th & Roast – Midtown\, 116 20th Ave S\, Nashville\, TN\, 37203\, United States
CATEGORIES:Bike Maintenance,Connectivity
ATTACH;FMTTYPE=image/jpeg:https://middletncycling.com/wp-content/uploads/2024/05/2024-05-VunzaBagBikeFun-jq3Vme.tmp_.jpg
ORGANIZER;CN="Bike Fun":MAILTO:kj@nashvillebikefun.org
END:VEVENT
BEGIN:VEVENT
DTSTART;VALUE=DATE:20240501
DTEND;VALUE=DATE:20240502
DTSTAMP:20260424T093308
CREATED:20240426T025431Z
LAST-MODIFIED:20240426T032251Z
UID:4141-1714521600-1714607999@middletncycling.com
SUMMARY:Bike to School Day 2024
DESCRIPTION:
URL:https://middletncycling.com/event/bike-to-school-day/
LOCATION:TN
CATEGORIES:Connectivity,Group Ride
ATTACH;FMTTYPE=image/jpeg:https://middletncycling.com/wp-content/uploads/2024/04/biketoschool.jpg
ORGANIZER;CN="Walk Bike Nashville":MAILTO:ashleigh@walkbikenashville.org
END:VEVENT
BEGIN:VEVENT
DTSTART;TZID=America/Chicago:20240427T130000
DTEND;TZID=America/Chicago:20240427T160000
DTSTAMP:20260424T093308
CREATED:20240416T115146Z
LAST-MODIFIED:20240426T123431Z
UID:3874-1714222800-1714233600@middletncycling.com
SUMMARY:South Inglewood Bicycle Festival – April 2024
DESCRIPTION:Let’s ride a bike!\nThe South Inglewood Bicycle Festival is back for a second year! This event brings together a wide variety of bicycling enthusiasts – from supporters to mechanics\, from beginners to experienced cyclists\, from commuters to mountain bikers to cargo haulers and more.\nBike Fun is grateful to have received a second year grant from the Inglewood Neighborhood Association in support of this event. We are also thankful for our returning location partner\, the South Inglewood Community Center!\nIf there’s inclement weather\, the Bicycle Festival will be held inside the South Inglewood Community Center. Otherwise\, we’ll be outside!\nWhat’s going on during the festival?\nIn addition to the tables and activities from festival participants\, Bike Fun will have 4 stations for attendees: \na basic bicycle maintenance station\na station for traffic laws and safety guidelines\na helmet fitting station\na station with crafts to make your bike or bike helmet more fun and visible \nSeveral featured activities are scheduled during the festival\, including a Ride-and-Read with Ms Allgood\, Inglewood Elementary School librarian\, a SLOW bicycle race with Friends of Shelby Park\, & a special decorate-your-bike workshop for kids.\nThanks to our participants\, we’ll have some great giveaways at the Bicycle Festival including helmets\, lights\, kids bikes\, t-shirts\, and more.\nBest of all\, this event is free & open to the public.\n30 Days of Biking\nThe month of April is the season for 30 Days of Biking. Ride your bike every day for 30 days – get another ride in during the festival!\nConfirmed participants and supporters\nlist as of 12 April 2024 \nMusic City BMX\nNashville Department of Transportation\nNashville Connector (new this year!)\nWalk Bike Nashville\nUrban Bicycle Food Ministry\nOasis Bike Workshop\nQueer Spokes (new this year!)\nGirls Riding Together (GRiT)\nLittle Bellas (new this year!)\nFriends of Shelby Park\nPatagonia Nashville\nMountain Bike Camp\nMusic City Dope Pedalers\nNashville Cargo Bikers\nInglewood Neighborhood Association\nSouth Inglewood Neighborhood Association\nFairpointe Planning\nWeGo (new this year!)\nInglewood Elementary (new this year!)\nCivic Design Center (new this year!)\nBike Fun
URL:https://middletncycling.com/event/south-inglewood-bicycle-festival-april-2024/
LOCATION:South Inglewood Community Center\, 1624 Rebecca St\, Nashville\, TN\, 37216\, United States
CATEGORIES:Community Meeting,Connectivity,Festival
ORGANIZER;CN="Bike Fun":MAILTO:kj@nashvillebikefun.org
END:VEVENT
BEGIN:VEVENT
DTSTART;TZID=America/Chicago:20240319T170000
DTEND;TZID=America/Chicago:20240319T183000
DTSTAMP:20260424T093308
CREATED:20240314T132153Z
LAST-MODIFIED:20240314T132246Z
UID:3379-1710867600-1710873000@middletncycling.com
SUMMARY:Women + Wheels + Wellness (& Wine!)
DESCRIPTION:Ladies! have you wondered how you can maintain your bike in between tune-ups?  Or how to clean you bike?  Do you have questions on your suspension setup or brake bleeds?  How to fix a flat while out on the trails?  How to fuel for performance?  How to influence & encourage more women/girls to ride bikes?  Where to ride? Join us at MOAB Bike Shop in Franklin for a special Women + Wheels + Wellness (& Wine!) free workshop on Tue\, March 19 starting at 5pm! \nWe’ll have light snacks\, giveaways\, discounts on products and even some WINE provided by Grinder’s Switch Winer (ages 21+) and other N/A beverages too! \nClick link below to learn more & register.  Bring a gal with you – this is open to all ages!
URL:https://middletncycling.com/event/women-wheels-wellness-wine/
LOCATION:MOAB Franklin\, 1113 Murfreesboro Rd\, Franklin\, TN\, 37064\, United States
CATEGORIES:Bike Maintenance,Connectivity,Women Only
ATTACH;FMTTYPE=image/jpeg:https://middletncycling.com/wp-content/uploads/2024/03/WomenWheels.jpg
END:VEVENT
BEGIN:VEVENT
DTSTART;TZID=America/Chicago:20240225T130000
DTEND;TZID=America/Chicago:20240225T153000
DTSTAMP:20260424T093308
CREATED:20240213T230111Z
LAST-MODIFIED:20240213T230457Z
UID:3310-1708866000-1708875000@middletncycling.com
SUMMARY:Triathlon & Endurance Sports Expo
DESCRIPTION:Join us for our annual triathlon exposition! At the expo\, you’ll be able to connect with local coaches\, bike and running shops\, physical trainers\, safety and advocacy groups\, and other great resources for swimming\, biking\, and running! Throughout the afternoon\, there will also be expert speakers on nutrition\, sports psychology\, and swimming. It will be an engaging and active event where you’ll likely bump into triathlon friends that you might not have seen since race season! \nSpeaker schedule:\n1:30pm – Swimming\nAshley Whitney\, Olympic gold medalist & Nashville Aquatics Club coach \n2:00pm – Fueling Habits & Considerations for Triathlon Training\nAlex Goeringer\, Precision Nutrition L1 Nutrition Coach and Stress Management\, Sleep & Recovery Coach \n2:30pm – Sports Psychology\nMarlon Bailey\, PhD\, LCSW\, Athletics Mental Health Provider \nPlanning to come? RSVP to receive event updates. \nWant to have a table at the expo? Sign up here to reserve a table for your organization or business. \nWe’re excited to welcome these local businesses\, triathlon clubs\, and groups! Check out their table at the expo! \nBald Eagle Event\nBe Ready PT\nBrentwood Endurance Athletic Team (BEAT)\nChroma Team Racing\nCumberland Transit\nDry January® USA\nEast Nashville Triathlon Club\nEnerza\nHendersonville Endurance Athletic Team (HEAT)\nMagic Sports\nMidTN Multisport\nNashville Department of Transportation\nNashville Fit Magazine\nNashville Physical Therapy & Performance\nNational MS Society – Bike MS: Bike to Jack & Back\nPeak Tempo Physical Therapy\nQavah\, LLC\nRide615 Bicycle Shop and Trace Bikes\nRun Nash\nT3 Triathlon Gear\nTeam Nashville\nTrail & Fitness Bicycles\nTriTomR Endurance LLC\nUrban Bicycle Food Ministry\nWorking Triathlete
URL:https://middletncycling.com/event/triathlon-endurance-sports-expo/
LOCATION:McCabe Community Center\, 101 46th Ave N\, Nashville\, TN\, 37209\, United States
CATEGORIES:Connectivity
ATTACH;FMTTYPE=image/jpeg:https://middletncycling.com/wp-content/uploads/2024/02/TriExpo.jpg
END:VEVENT
BEGIN:VEVENT
DTSTART;TZID=America/Chicago:20240210T130000
DTEND;TZID=America/Chicago:20240210T170000
DTSTAMP:20260424T093308
CREATED:20240207T151001Z
LAST-MODIFIED:20240207T151307Z
UID:3202-1707570000-1707584400@middletncycling.com
SUMMARY:Volunteers & Valentines Winter Ride/Walk
DESCRIPTION:Walk Bike Nashville and Bearded Iris Brewery are hosting a pre-Valentine’s Day event to celebrate our volunteers. In 2023\, we had several great volunteers help us put on several events and activities for the community; pushing the culture of a more walkable\, bikeable\, liveable Nashville. \nWe will have a celebration program at Bearded Iris Brewery from 12:00 PM to 1:00 PM recognizing our volunteers. From there\, we will have a self-guided walk/ride starting at Morgan Park (411 Hume St\, Nashville\, TN 37208). The ride will showcase historic North Nashville while the walk will highlight some great views of Germantown. Both will end at Bearded Iris Brewery so you can enjoy a drink with friends! Attendees are encouraged to wear PINK if they are single\, and RED if they are in a relationship. \nOur streets should be safe and welcoming to all people. Like you\, we believe there are better streets ahead for Nashville. If you’d like to donate to our mission\, your gift will help us achieve that goal. You can also make your donation go further by becoming a Walk Bike Nashville Member (https://www.walkbikenashville.org/membership)
URL:https://middletncycling.com/event/volunteers-valentines-winter-ride-walk/
LOCATION:Magdeburg Greenway\, Magdeburg Greenway\, Nashville\, TN\, 37208\, United States
CATEGORIES:Connectivity,Group Ride
ATTACH;FMTTYPE=image/jpeg:https://middletncycling.com/wp-content/uploads/2024/02/Valentines.jpg
ORGANIZER;CN="Walk Bike Nashville":MAILTO:ashleigh@walkbikenashville.org
END:VEVENT
BEGIN:VEVENT
DTSTART;TZID=America/Chicago:20231214T173000
DTEND;TZID=America/Chicago:20231214T190000
DTSTAMP:20260424T093308
CREATED:20231212T160047Z
LAST-MODIFIED:20240104T225911Z
UID:2121-1702575000-1702580400@middletncycling.com
SUMMARY:Gallatin Pk./ Main St. Public Workshop
DESCRIPTION:Facilitated by the Nashville Department of Transportation and Multimodal Infrastructure (NDOT) \nJoin us to learn more about Vision Zero initiatives planned on Main Street/Gallatin Pike. This is an opportunity for the community to share their thoughts on possible multimodal\, transit\, and safety improvements along Gallatin/Main.
URL:https://middletncycling.com/event/gallatin-pk-main-st-public-workshop/
LOCATION:Shelby Community Center\, 401 South 20th Street\, Nashville\, TN\, 37206\, United States
CATEGORIES:Community Meeting,Connectivity,Infrastructure,Mobility
ATTACH;FMTTYPE=image/jpeg:https://middletncycling.com/wp-content/uploads/2023/12/GallatinPk-2.jpg
END:VEVENT
END:VCALENDAR